BEGIN:VCALENDAR
VERSION:2.0
PRODID:-//Reed Cricket Club - ECPv6.15.20//NONSGML v1.0//EN
CALSCALE:GREGORIAN
METHOD:PUBLISH
X-WR-CALNAME:Reed Cricket Club
X-ORIGINAL-URL:https://reedcc.co.uk
X-WR-CALDESC:Events for Reed Cricket Club
REFRESH-INTERVAL;VALUE=DURATION:PT1H
X-Robots-Tag:noindex
X-PUBLISHED-TTL:PT1H
BEGIN:VTIMEZONE
TZID:Europe/London
BEGIN:DAYLIGHT
TZOFFSETFROM:+0000
TZOFFSETTO:+0100
TZNAME:BST
DTSTART:20200329T010000
END:DAYLIGHT
BEGIN:STANDARD
TZOFFSETFROM:+0100
TZOFFSETTO:+0000
TZNAME:GMT
DTSTART:20201025T010000
END:STANDARD
BEGIN:DAYLIGHT
TZOFFSETFROM:+0000
TZOFFSETTO:+0100
TZNAME:BST
DTSTART:20210328T010000
END:DAYLIGHT
BEGIN:STANDARD
TZOFFSETFROM:+0100
TZOFFSETTO:+0000
TZNAME:GMT
DTSTART:20211031T010000
END:STANDARD
BEGIN:DAYLIGHT
TZOFFSETFROM:+0000
TZOFFSETTO:+0100
TZNAME:BST
DTSTART:20220327T010000
END:DAYLIGHT
BEGIN:STANDARD
TZOFFSETFROM:+0100
TZOFFSETTO:+0000
TZNAME:GMT
DTSTART:20221030T010000
END:STANDARD
END:VTIMEZONE
BEGIN:VEVENT
DTSTART;TZID=Europe/London:20210917T193000
DTEND;TZID=Europe/London:20210917T230000
DTSTAMP:20260422T125020
CREATED:20210826T072618Z
LAST-MODIFIED:20210826T072920Z
UID:32232-1631907000-1631919600@reedcc.co.uk
SUMMARY:Quiz Night
DESCRIPTION:Friday 17th September 2021 – 7:30 p.m. for a prompt start. \nPlease register your interest by contacting Sam Greaves on Mobile 07950 644861 or email on sam_summers90@hotmail.com \nShare this:\n				Share on Facebook (Opens in new window)\n				Facebook\n			\n				Email a link to a friend (Opens in new window)\n				Email\n			\n				Print (Opens in new window)\n				Print\n			Like this:Like Loading...
URL:https://reedcc.co.uk/event/quiz-night-2-copy-copy-copy-copy-copy-copy-2-copy-copy-copy-copy-copy-copy-copy/
LOCATION:Reed Cricket Club\, The Green\, Blacksmith's Lane\, Reed\, Hertfordshire\, SG8 8AX\, United Kingdom
CATEGORIES:Social
END:VEVENT
BEGIN:VEVENT
DTSTART;TZID=Europe/London:20210912T130000
DTEND;TZID=Europe/London:20210912T193000
DTSTAMP:20260422T125020
CREATED:20210102T181558Z
LAST-MODIFIED:20210102T181706Z
UID:30961-1631451600-1631475000@reedcc.co.uk
SUMMARY:Sunday XI v. Stansted Hall & Elsenham (Away)
DESCRIPTION:Friendly fixture. \nShare this:\n				Share on Facebook (Opens in new window)\n				Facebook\n			\n				Email a link to a friend (Opens in new window)\n				Email\n			\n				Print (Opens in new window)\n				Print\n			Like this:Like Loading...
URL:https://reedcc.co.uk/event/sunday-xi-v-hare-street-hormead-away-copy-copy-copy-copy-copy-copy-copy-copy-copy-copy-3-copy-2-copy-copy/
LOCATION:Stansted Hall & Elsenham\, Elsenham Road\, Stansted Mountfitchet\, Essex\, CM24 8ST\, United Kingdom
CATEGORIES:Sunday XI (Friendly)
END:VEVENT
BEGIN:VEVENT
DTSTART;TZID=Europe/London:20210906T200000
DTEND;TZID=Europe/London:20210906T220000
DTSTAMP:20260422T125020
CREATED:20201231T082832Z
LAST-MODIFIED:20201231T082907Z
UID:30943-1630958400-1630965600@reedcc.co.uk
SUMMARY:General Committee Meeting (Virtual)
DESCRIPTION:General Committee Meeting \nShare this:\n				Share on Facebook (Opens in new window)\n				Facebook\n			\n				Email a link to a friend (Opens in new window)\n				Email\n			\n				Print (Opens in new window)\n				Print\n			Like this:Like Loading...
URL:https://reedcc.co.uk/event/general-committee-meeting-9-copy-2-copy-copy-copy-copy-copy-copy-copy-copy-copy-copy-copy-copy-copy-2-copy-2-copy-copy-copy-copy-copy-copy/
LOCATION:Reed Cricket Club\, The Green\, Blacksmith's Lane\, Reed\, Hertfordshire\, SG8 8AX\, United Kingdom
CATEGORIES:Committee Meeting
END:VEVENT
BEGIN:VEVENT
DTSTART;TZID=Europe/London:20210905T130000
DTEND;TZID=Europe/London:20210905T193000
DTSTAMP:20260422T125020
CREATED:20210102T190815Z
LAST-MODIFIED:20210831T232946Z
UID:30991-1630846800-1630870200@reedcc.co.uk
SUMMARY:Cancelled - Sunday XI v. Aston (Home)
DESCRIPTION:Share this:\n				Share on Facebook (Opens in new window)\n				Facebook\n			\n				Email a link to a friend (Opens in new window)\n				Email\n			\n				Print (Opens in new window)\n				Print\n			Like this:Like Loading...
URL:https://reedcc.co.uk/event/sunday-xi-v-hare-street-hormead-away-copy-copy-2/
LOCATION:Reed Cricket Club\, The Green\, Blacksmith's Lane\, Reed\, Hertfordshire\, SG8 8AX\, United Kingdom
CATEGORIES:Sunday XI (Friendly)
END:VEVENT
BEGIN:VEVENT
DTSTART;TZID=Europe/London:20210904T193000
DTEND;TZID=Europe/London:20210904T233000
DTSTAMP:20260422T125020
CREATED:20210803T172132Z
LAST-MODIFIED:20210803T172439Z
UID:32154-1630783800-1630798200@reedcc.co.uk
SUMMARY:End of Season Party
DESCRIPTION:FANCY DRESS THEME – Heroes and Villains! \nEnd of Season Party. How did we get on this season? Win? Lose?\nAre you a Hero or a Villain? \nLet’s celebrate either way! \nShare this:\n				Share on Facebook (Opens in new window)\n				Facebook\n			\n				Email a link to a friend (Opens in new window)\n				Email\n			\n				Print (Opens in new window)\n				Print\n			Like this:Like Loading...
URL:https://reedcc.co.uk/event/end-of-season-party-copy/
LOCATION:Reed Cricket Club\, The Green\, Blacksmith's Lane\, Reed\, Hertfordshire\, SG8 8AX\, United Kingdom
CATEGORIES:News,Social
END:VEVENT
BEGIN:VEVENT
DTSTART;TZID=Europe/London:20210904T113000
DTEND;TZID=Europe/London:20210904T190000
DTSTAMP:20260422T125020
CREATED:20210103T142117Z
LAST-MODIFIED:20210225T085357Z
UID:31125-1630755000-1630782000@reedcc.co.uk
SUMMARY:2nd XI v. Cockfosters (SHPCL Division 3B) Away
DESCRIPTION:2nd XI v. Cockfosters (SHPCL Division 3B) Away\, 50 overs per side format \nShare this:\n				Share on Facebook (Opens in new window)\n				Facebook\n			\n				Email a link to a friend (Opens in new window)\n				Email\n			\n				Print (Opens in new window)\n				Print\n			Like this:Like Loading...
URL:https://reedcc.co.uk/event/2nd-xi-v-west-herts-ii-shpcl-division-3b-away-copy-copy-copy-copy-copy-copy-copy-copy-2/
LOCATION:Cockfosters CC\, Chalk Lane\, Cockfosters\, London\, EN4 9JG
CATEGORIES:2nd XI (SHPCL)
END:VEVENT
BEGIN:VEVENT
DTSTART;TZID=Europe/London:20210904T113000
DTEND;TZID=Europe/London:20210904T190000
DTSTAMP:20260422T125020
CREATED:20210103T091551Z
LAST-MODIFIED:20210225T085453Z
UID:31069-1630755000-1630782000@reedcc.co.uk
SUMMARY:3rd XI v. Harpenden V (SHPCL Division 10A) Away
DESCRIPTION:3rd XI v. Harpenden V (SHPCL Division 10A) Away\, 45 overs per side format \nShare this:\n				Share on Facebook (Opens in new window)\n				Facebook\n			\n				Email a link to a friend (Opens in new window)\n				Email\n			\n				Print (Opens in new window)\n				Print\n			Like this:Like Loading...
URL:https://reedcc.co.uk/event/3rd-xi-v-holtwhites-trinibis-iii-shpcl-division-10a-home-copy-copy-copy-copy-copy-copy-copy-copy-copy-copy-copy-copy/
LOCATION:Harpenden CC 3rd Ground\, Rothampstead Experimental Station\, Opposite The Common\,\, Harpenden\, AL5 2JQ
CATEGORIES:3rd XI (SHPCL)
END:VEVENT
BEGIN:VEVENT
DTSTART;TZID=Europe/London:20210904T113000
DTEND;TZID=Europe/London:20210904T190000
DTSTAMP:20260422T125020
CREATED:20210103T081714Z
LAST-MODIFIED:20210227T182023Z
UID:31021-1630755000-1630782000@reedcc.co.uk
SUMMARY:1st XI v. Welwyn Garden City (SHPCL Premier Division) Home
DESCRIPTION:1st XI v. Welwyn Garden City (SHPCL Premier Division) Home\, 50 overs per side Format \nShare this:\n				Share on Facebook (Opens in new window)\n				Facebook\n			\n				Email a link to a friend (Opens in new window)\n				Email\n			\n				Print (Opens in new window)\n				Print\n			Like this:Like Loading...
URL:https://reedcc.co.uk/event/1st-xi-v-west-herts-shpcl-premier-division-home-copy-copy-copy-copy-copy-copy-copy-copy-copy-copy-copy-2/
LOCATION:Reed Cricket Club\, The Green\, Blacksmith's Lane\, Reed\, Hertfordshire\, SG8 8AX\, United Kingdom
CATEGORIES:1st XI (SHPCL)
END:VEVENT
BEGIN:VEVENT
DTSTART;TZID=Europe/London:20210829T093000
DTEND;TZID=Europe/London:20210829T143000
DTSTAMP:20260422T125020
CREATED:20201102T085150Z
LAST-MODIFIED:20210817T060727Z
UID:30798-1630229400-1630247400@reedcc.co.uk
SUMMARY:Youth Cricket Festival / President's Day
DESCRIPTION:Three teams in a round-robin. Whichever team with best runs to wickets average at the end wins. \nTeam A v Team B   9.50 – 11.10am\nTeam B v Team C  11.20 – 12.40pm\nTeam A v Team C  12.45 – 2.00pm \n2.00pm – 2.15pm prize giving \nShare this:\n				Share on Facebook (Opens in new window)\n				Facebook\n			\n				Email a link to a friend (Opens in new window)\n				Email\n			\n				Print (Opens in new window)\n				Print\n			Like this:Like Loading...
URL:https://reedcc.co.uk/event/presidents-day-2-copy-copy-copy-copy/
LOCATION:Reed Cricket Club\, The Green\, Blacksmith's Lane\, Reed\, Hertfordshire\, SG8 8AX\, United Kingdom
CATEGORIES:Social,Youth Cricket
END:VEVENT
BEGIN:VEVENT
DTSTART;TZID=Europe/London:20210828T120000
DTEND;TZID=Europe/London:20210828T190000
DTSTAMP:20260422T125020
CREATED:20210103T141900Z
LAST-MODIFIED:20210103T142018Z
UID:31123-1630152000-1630177200@reedcc.co.uk
SUMMARY:2nd XI v. Wheathampstead (SHPCL Division 3B) Home
DESCRIPTION:2nd XI v. Wheathampstead (SHPCL Division 3B) Home\, 50 overs per side format \nShare this:\n				Share on Facebook (Opens in new window)\n				Facebook\n			\n				Email a link to a friend (Opens in new window)\n				Email\n			\n				Print (Opens in new window)\n				Print\n			Like this:Like Loading...
URL:https://reedcc.co.uk/event/2nd-xi-v-bayford-hertford-shpcl-division-3b-home-copy-copy-2/
LOCATION:Reed Cricket Club\, The Green\, Blacksmith's Lane\, Reed\, Hertfordshire\, SG8 8AX\, United Kingdom
CATEGORIES:2nd XI (SHPCL)
END:VEVENT
BEGIN:VEVENT
DTSTART;TZID=Europe/London:20210828T120000
DTEND;TZID=Europe/London:20210828T190000
DTSTAMP:20260422T125020
CREATED:20210103T134125Z
LAST-MODIFIED:20210103T134208Z
UID:31096-1630152000-1630177200@reedcc.co.uk
SUMMARY:3rd XI v. Rickmansworth III (SHPCL Division 10A) Home
DESCRIPTION:3rd XI v. Rickmansworth III (SHPCL Division 10A) Home\, 45 overs per side format \nShare this:\n				Share on Facebook (Opens in new window)\n				Facebook\n			\n				Email a link to a friend (Opens in new window)\n				Email\n			\n				Print (Opens in new window)\n				Print\n			Like this:Like Loading...
URL:https://reedcc.co.uk/event/3rd-xi-v-holtwhites-trinibis-iii-shpcl-division-10a-home-copy-copy-copy-copy-copy-copy-copy-2-copy/
LOCATION:Freman College\, Bowling Green Lane\, Buntingford\, Hertfordshire\, SG9 9BT\, United Kingdom
CATEGORIES:3rd XI (SHPCL)
END:VEVENT
BEGIN:VEVENT
DTSTART;TZID=Europe/London:20210828T120000
DTEND;TZID=Europe/London:20210828T190000
DTSTAMP:20260422T125020
CREATED:20210103T082103Z
LAST-MODIFIED:20210227T181641Z
UID:31024-1630152000-1630177200@reedcc.co.uk
SUMMARY:1st XI v. Hertford (SHPCL Premier Division) Away
DESCRIPTION:1st XI v. Hertford (SHPCL Premier Division) Away\, 50 overs per side Format \nShare this:\n				Share on Facebook (Opens in new window)\n				Facebook\n			\n				Email a link to a friend (Opens in new window)\n				Email\n			\n				Print (Opens in new window)\n				Print\n			Like this:Like Loading...
URL:https://reedcc.co.uk/event/1st-xi-v-west-herts-shpcl-premier-division-home-copy-copy-copy-copy-copy-copy-copy-copy-copy-copy-copy-copy-copy-copy-copy-copy-copy-2/
LOCATION:Hertford CC\, Balls Park\, Hertford\, SG13 8AJ\, United Kingdom
CATEGORIES:1st XI (SHPCL)
END:VEVENT
BEGIN:VEVENT
DTSTART;TZID=Europe/London:20210827T080000
DTEND;TZID=Europe/London:20210827T233000
DTSTAMP:20260422T125020
CREATED:20201202T091340Z
LAST-MODIFIED:20210803T173213Z
UID:30823-1630051200-1630107000@reedcc.co.uk
SUMMARY:CANCELLED - Private Party
DESCRIPTION:Booked all day for a private function. \nShare this:\n				Share on Facebook (Opens in new window)\n				Facebook\n			\n				Email a link to a friend (Opens in new window)\n				Email\n			\n				Print (Opens in new window)\n				Print\n			Like this:Like Loading...
URL:https://reedcc.co.uk/event/private-party-4-copy-copy-copy-copy-4/
LOCATION:Reed Cricket Club\, The Green\, Blacksmith's Lane\, Reed\, Hertfordshire\, SG8 8AX\, United Kingdom
CATEGORIES:Private Party
END:VEVENT
BEGIN:VEVENT
DTSTART;TZID=Europe/London:20210822T130000
DTEND;TZID=Europe/London:20210822T193000
DTSTAMP:20260422T125020
CREATED:20210104T065045Z
LAST-MODIFIED:20210804T114808Z
UID:31134-1629637200-1629660600@reedcc.co.uk
SUMMARY:Cancelled - Sunday XI v. Guilden Morden (Home)
DESCRIPTION:Share this:\n				Share on Facebook (Opens in new window)\n				Facebook\n			\n				Email a link to a friend (Opens in new window)\n				Email\n			\n				Print (Opens in new window)\n				Print\n			Like this:Like Loading...
URL:https://reedcc.co.uk/event/sunday-xi-v-forest-gate-copy-copy-3-copy-copy-copy-copy-copy-copy-copy-copy-2/
LOCATION:Reed Cricket Club\, The Green\, Blacksmith's Lane\, Reed\, Hertfordshire\, SG8 8AX\, United Kingdom
CATEGORIES:Sunday XI (Friendly)
END:VEVENT
BEGIN:VEVENT
DTSTART;TZID=Europe/London:20210821T120000
DTEND;TZID=Europe/London:20210821T190000
DTSTAMP:20260422T125020
CREATED:20210103T141615Z
LAST-MODIFIED:20210103T141733Z
UID:31121-1629547200-1629572400@reedcc.co.uk
SUMMARY:2nd XI v. Lutonian (SHPCL Division 3B) Away
DESCRIPTION:2nd XI v. Lutonian (SHPCL Division 3B) Away\, 50 overs per side format \nShare this:\n				Share on Facebook (Opens in new window)\n				Facebook\n			\n				Email a link to a friend (Opens in new window)\n				Email\n			\n				Print (Opens in new window)\n				Print\n			Like this:Like Loading...
URL:https://reedcc.co.uk/event/2nd-xi-v-west-herts-ii-shpcl-division-3b-away-copy-copy-copy-copy-copy-2/
LOCATION:Lutonian CC\, Lower Wardown Park\, New Bedford Road\,\, Luton\, Bedfordshire\, LU2 7HA\, United Kingdom
CATEGORIES:2nd XI (SHPCL)
END:VEVENT
BEGIN:VEVENT
DTSTART;TZID=Europe/London:20210821T120000
DTEND;TZID=Europe/London:20210821T190000
DTSTAMP:20260422T125020
CREATED:20210103T135253Z
LAST-MODIFIED:20210103T135402Z
UID:31104-1629547200-1629572400@reedcc.co.uk
SUMMARY:3rd XI v. Old Haberdashers II (SHPCL Division 10A) Away
DESCRIPTION:3rd XI v. Old Haberdashers II (SHPCL Division 10A) Away\, 45 overs per side format \nShare this:\n				Share on Facebook (Opens in new window)\n				Facebook\n			\n				Email a link to a friend (Opens in new window)\n				Email\n			\n				Print (Opens in new window)\n				Print\n			Like this:Like Loading...
URL:https://reedcc.co.uk/event/3rd-xi-v-holtwhites-trinibis-iii-shpcl-division-10a-home-copy-copy-copy-copy-copy-copy-copy-copy-copy-copy-copy-2/
LOCATION:Old Haberdashers CC\, Croxdale Road\, Theobald Street\, Borehamwood\, Hertfordshire\, WD6 4PY\, United Kingdom
CATEGORIES:3rd XI (SHPCL)
END:VEVENT
BEGIN:VEVENT
DTSTART;TZID=Europe/London:20210821T120000
DTEND;TZID=Europe/London:20210821T190000
DTSTAMP:20260422T125020
CREATED:20200121T100352Z
LAST-MODIFIED:20210103T080326Z
UID:29516-1629547200-1629572400@reedcc.co.uk
SUMMARY:1st XI v. Radlett (SHPCL Premier Division) Home
DESCRIPTION:1st XI v. Radlett (SHPCL Premier Division) Home\, 50 overs per side Format \nShare this:\n				Share on Facebook (Opens in new window)\n				Facebook\n			\n				Email a link to a friend (Opens in new window)\n				Email\n			\n				Print (Opens in new window)\n				Print\n			Like this:Like Loading...
URL:https://reedcc.co.uk/event/1st-xi-v-west-herts-shpcl-premier-division-home-copy-copy-copy-copy-copy-copy-copy-copy-copy/
LOCATION:Reed Cricket Club\, The Green\, Blacksmith's Lane\, Reed\, Hertfordshire\, SG8 8AX\, United Kingdom
CATEGORIES:1st XI (SHPCL)
END:VEVENT
BEGIN:VEVENT
DTSTART;TZID=Europe/London:20210815T130000
DTEND;TZID=Europe/London:20210815T193000
DTSTAMP:20260422T125020
CREATED:20210103T085425Z
LAST-MODIFIED:20210810T122024Z
UID:31052-1629032400-1629055800@reedcc.co.uk
SUMMARY:Sunday XI v. Hare Street & Hormead (Home)
DESCRIPTION:Share this:\n				Share on Facebook (Opens in new window)\n				Facebook\n			\n				Email a link to a friend (Opens in new window)\n				Email\n			\n				Print (Opens in new window)\n				Print\n			Like this:Like Loading...
URL:https://reedcc.co.uk/event/sunday-xi-v-hare-street-hormead-away-copy-2/
LOCATION:Reed Cricket Club\, The Green\, Blacksmith's Lane\, Reed\, Hertfordshire\, SG8 8AX\, United Kingdom
CATEGORIES:Sunday XI (Friendly)
END:VEVENT
BEGIN:VEVENT
DTSTART;TZID=Europe/London:20210814T120000
DTEND;TZID=Europe/London:20210814T190000
DTSTAMP:20260422T125020
CREATED:20210103T134914Z
LAST-MODIFIED:20210103T135023Z
UID:31102-1628942400-1628967600@reedcc.co.uk
SUMMARY:3rd XI v. Holtwhites Trinibis III (SHPCL Division 10A) Home
DESCRIPTION:3rd XI v. Holtwhites Trinibis III (SHPCL Division 10A) Home\, 45 overs per side format \nShare this:\n				Share on Facebook (Opens in new window)\n				Facebook\n			\n				Email a link to a friend (Opens in new window)\n				Email\n			\n				Print (Opens in new window)\n				Print\n			Like this:Like Loading...
URL:https://reedcc.co.uk/event/3rd-xi-v-holtwhites-trinibis-iii-shpcl-division-10a-home-copy-2/
LOCATION:Freman College\, Bowling Green Lane\, Buntingford\, Hertfordshire\, SG9 9BT\, United Kingdom
CATEGORIES:3rd XI (SHPCL)
END:VEVENT
BEGIN:VEVENT
DTSTART;TZID=Europe/London:20210814T120000
DTEND;TZID=Europe/London:20210814T190000
DTSTAMP:20260422T125020
CREATED:20210103T080755Z
LAST-MODIFIED:20210103T080907Z
UID:31014-1628942400-1628967600@reedcc.co.uk
SUMMARY:1st XI v. North Mymms (SHPCL Premier Division) Away
DESCRIPTION:1st XI v. North Mymms (SHPCL Premier Division) Away\, 50 overs per side Format \nShare this:\n				Share on Facebook (Opens in new window)\n				Facebook\n			\n				Email a link to a friend (Opens in new window)\n				Email\n			\n				Print (Opens in new window)\n				Print\n			Like this:Like Loading...
URL:https://reedcc.co.uk/event/1st-xi-v-west-herts-shpcl-premier-division-home-copy-copy-copy-copy-copy-copy-copy-copy-copy-copy-copy-copy-copy-copy-copy-copy-copy-copy/
LOCATION:North Mymms CC\, Home Farm\, North Mymms Park\, Near Hatfield\, Hertfordshire\, AL9 7TP\, United Kingdom
CATEGORIES:1st XI (SHPCL)
END:VEVENT
BEGIN:VEVENT
DTSTART;TZID=Europe/London:20210814T120000
DTEND;TZID=Europe/London:20210814T190000
DTSTAMP:20260422T125020
CREATED:20210102T182835Z
LAST-MODIFIED:20210102T183006Z
UID:30967-1628942400-1628967600@reedcc.co.uk
SUMMARY:2nd XI v. Southgate Adelaide (SHPCL Division 3B) Home
DESCRIPTION:2nd XI v. Southgate Adelaide (SHPCL Division 3B) Home\, 50 overs per side Format \nShare this:\n				Share on Facebook (Opens in new window)\n				Facebook\n			\n				Email a link to a friend (Opens in new window)\n				Email\n			\n				Print (Opens in new window)\n				Print\n			Like this:Like Loading...
URL:https://reedcc.co.uk/event/2nd-xi-v-bayford-hertford-shpcl-division-3b-home-copy-copy-copy-copy-copy-copy-copy-copy-2/
LOCATION:Reed Cricket Club\, The Green\, Blacksmith's Lane\, Reed\, Hertfordshire\, SG8 8AX\, United Kingdom
CATEGORIES:2nd XI (SHPCL)
END:VEVENT
BEGIN:VEVENT
DTSTART;TZID=Europe/London:20210813T180000
DTEND;TZID=Europe/London:20210813T210000
DTSTAMP:20260422T125020
CREATED:20210710T105139Z
LAST-MODIFIED:20210710T105431Z
UID:32049-1628877600-1628888400@reedcc.co.uk
SUMMARY:U11s v Broxbourne (Home) Herts Summer League
DESCRIPTION:Share this:\n				Share on Facebook (Opens in new window)\n				Facebook\n			\n				Email a link to a friend (Opens in new window)\n				Email\n			\n				Print (Opens in new window)\n				Print\n			Like this:Like Loading...
URL:https://reedcc.co.uk/event/u13-colts-v-preston-home-herts-summer-league-copy-copy-copy-copy-copy-copy-copy-copy-copy-2-copy-copy-2-copy-copy-copy-copy/
LOCATION:Reed Cricket Club\, The Green\, Blacksmith's Lane\, Reed\, Hertfordshire\, SG8 8AX\, United Kingdom
CATEGORIES:Colts Under 11,U11,Youth Cricket
END:VEVENT
BEGIN:VEVENT
DTSTART;TZID=Europe/London:20210812T193000
DTEND;TZID=Europe/London:20210812T230000
DTSTAMP:20260422T125020
CREATED:20210803T171533Z
LAST-MODIFIED:20210803T172011Z
UID:32151-1628796600-1628809200@reedcc.co.uk
SUMMARY:Quiz Night
DESCRIPTION:Thursday 12th August 2021 – 7:30 p.m. for a prompt start. \nPlease register your interest by contacting Sam Greaves on Mobile 07950 644861 or email on sam_summers90@hotmail.com \nShare this:\n				Share on Facebook (Opens in new window)\n				Facebook\n			\n				Email a link to a friend (Opens in new window)\n				Email\n			\n				Print (Opens in new window)\n				Print\n			Like this:Like Loading...
URL:https://reedcc.co.uk/event/quiz-night-2-copy-copy-copy-copy-copy-copy-2-copy-copy-copy-copy-copy-copy/
LOCATION:Reed Cricket Club\, The Green\, Blacksmith's Lane\, Reed\, Hertfordshire\, SG8 8AX\, United Kingdom
CATEGORIES:Social
END:VEVENT
BEGIN:VEVENT
DTSTART;TZID=Europe/London:20210812T180000
DTEND;TZID=Europe/London:20210812T210000
DTSTAMP:20260422T125020
CREATED:20210710T103808Z
LAST-MODIFIED:20210813T061338Z
UID:32037-1628791200-1628802000@reedcc.co.uk
SUMMARY:U13s v Broxbourne (Away) Herts Summer League
DESCRIPTION:Share this:\n				Share on Facebook (Opens in new window)\n				Facebook\n			\n				Email a link to a friend (Opens in new window)\n				Email\n			\n				Print (Opens in new window)\n				Print\n			Like this:Like Loading...
URL:https://reedcc.co.uk/event/u13-colts-v-preston-home-herts-summer-league-copy-copy-copy-copy-copy-copy-copy-copy-copy-2-copy-copy-2/
LOCATION:Broxbourne CC\, Mill Lane Close\, Broxbourne\, EN10 7BA\, United Kingdom
CATEGORIES:Colts Under 13,U13,Youth Cricket
END:VEVENT
BEGIN:VEVENT
DTSTART;TZID=Europe/London:20210812T180000
DTEND;TZID=Europe/London:20210812T203000
DTSTAMP:20260422T125020
CREATED:20210803T173323Z
LAST-MODIFIED:20210803T173709Z
UID:32161-1628791200-1628800200@reedcc.co.uk
SUMMARY:Inter-departmental cricket: Ernst & Young
DESCRIPTION:The Green is the setting for a match between rival sections of Ernst & Young. \nShare this:\n				Share on Facebook (Opens in new window)\n				Facebook\n			\n				Email a link to a friend (Opens in new window)\n				Email\n			\n				Print (Opens in new window)\n				Print\n			Like this:Like Loading...
URL:https://reedcc.co.uk/event/colts-herts-north-area-u12-v-herts-west-area-u12-copy-2-copy-copy/
LOCATION:Reed Cricket Club\, The Green\, Blacksmith's Lane\, Reed\, Hertfordshire\, SG8 8AX\, United Kingdom
CATEGORIES:Social,Youth Cricket
END:VEVENT
BEGIN:VEVENT
DTSTART;TZID=Europe/London:20210808T140000
DTEND;TZID=Europe/London:20210808T193000
DTSTAMP:20260422T125020
CREATED:20210102T182454Z
LAST-MODIFIED:20210804T115304Z
UID:30965-1628431200-1628451000@reedcc.co.uk
SUMMARY:Cancelled - Sunday XI v. Little Hadham (Home)
DESCRIPTION:Share this:\n				Share on Facebook (Opens in new window)\n				Facebook\n			\n				Email a link to a friend (Opens in new window)\n				Email\n			\n				Print (Opens in new window)\n				Print\n			Like this:Like Loading...
URL:https://reedcc.co.uk/event/sunday-xi-v-hare-street-hormead-away-copy-copy-copy-copy-copy-copy-copy-copy/
LOCATION:Reed Cricket Club\, The Green\, Blacksmith's Lane\, Reed\, Hertfordshire\, SG8 8AX\, United Kingdom
CATEGORIES:Sunday XI (Friendly)
END:VEVENT
BEGIN:VEVENT
DTSTART;TZID=Europe/London:20210807T120000
DTEND;TZID=Europe/London:20210807T190000
DTSTAMP:20260422T125020
CREATED:20210103T141155Z
LAST-MODIFIED:20210103T141321Z
UID:31118-1628337600-1628362800@reedcc.co.uk
SUMMARY:2nd XI v. West Herts II (SHPCL Division 3B) Away
DESCRIPTION:2nd XI v. West Herts II (SHPCL Division 3B) Away\, 50 overs per side format \nShare this:\n				Share on Facebook (Opens in new window)\n				Facebook\n			\n				Email a link to a friend (Opens in new window)\n				Email\n			\n				Print (Opens in new window)\n				Print\n			Like this:Like Loading...
URL:https://reedcc.co.uk/event/2nd-xi-v-west-herts-ii-shpcl-division-3b-away-copy-2/
LOCATION:West Herts CC\, Park Avenue\, Watford\, Herts\, WD18 7HP\, United Kingdom
CATEGORIES:2nd XI (SHPCL)
END:VEVENT
BEGIN:VEVENT
DTSTART;TZID=Europe/London:20210807T120000
DTEND;TZID=Europe/London:20210807T190000
DTSTAMP:20260422T125020
CREATED:20210102T185154Z
LAST-MODIFIED:20210102T185309Z
UID:30980-1628337600-1628362800@reedcc.co.uk
SUMMARY:3rd XI v. Pinner II (SHPCL Division 10A) Away
DESCRIPTION:3rd XI v. Pinner II (SHPCL Division 10A) Away\, 45 overs per side Format \nShare this:\n				Share on Facebook (Opens in new window)\n				Facebook\n			\n				Email a link to a friend (Opens in new window)\n				Email\n			\n				Print (Opens in new window)\n				Print\n			Like this:Like Loading...
URL:https://reedcc.co.uk/event/3rd-xi-v-holtwhites-trinibis-iii-shpcl-division-10a-home-copy-copy-copy-copy-copy-copy-copy-copy-copy-copy-copy-copy-2-2-copy-copy-copy-copy-copy-copy/
LOCATION:Pinner CC\, Montesole Playing Fields\, Pinner Hill Road\, Pinner\, Hertfordshire\, HA5 3SA\, United Kingdom
CATEGORIES:3rd XI (SHPCL)
END:VEVENT
BEGIN:VEVENT
DTSTART;TZID=Europe/London:20210807T110000
DTEND;TZID=Europe/London:20210807T190000
DTSTAMP:20260422T125020
CREATED:20210102T174519Z
LAST-MODIFIED:20210102T182030Z
UID:30947-1628334000-1628362800@reedcc.co.uk
SUMMARY:1st XI v. West Herts (SHPCL Premier Division) Home
DESCRIPTION:1st XI v. West Herts (SHPCL Premier Division) Home\, Timed Format (115 overs minimum) \nShare this:\n				Share on Facebook (Opens in new window)\n				Facebook\n			\n				Email a link to a friend (Opens in new window)\n				Email\n			\n				Print (Opens in new window)\n				Print\n			Like this:Like Loading...
URL:https://reedcc.co.uk/event/1st-xi-v-west-herts-shpcl-premier-division-home-copy-2/
LOCATION:Reed Cricket Club\, The Green\, Blacksmith's Lane\, Reed\, Hertfordshire\, SG8 8AX\, United Kingdom
CATEGORIES:1st XI (SHPCL)
END:VEVENT
BEGIN:VEVENT
DTSTART;TZID=Europe/London:20210806T180000
DTEND;TZID=Europe/London:20210806T210000
DTSTAMP:20260422T125020
CREATED:20210710T104525Z
LAST-MODIFIED:20210710T104808Z
UID:32043-1628272800-1628283600@reedcc.co.uk
SUMMARY:U13s v Bishop's Stortford 1 (Home) Herts Summer League
DESCRIPTION:Share this:\n				Share on Facebook (Opens in new window)\n				Facebook\n			\n				Email a link to a friend (Opens in new window)\n				Email\n			\n				Print (Opens in new window)\n				Print\n			Like this:Like Loading...
URL:https://reedcc.co.uk/event/u13-colts-v-preston-home-herts-summer-league-copy-copy-copy-copy-copy-copy-copy-copy-copy-2-copy-copy-2-copy-copy/
LOCATION:Reed Cricket Club\, The Green\, Blacksmith's Lane\, Reed\, Hertfordshire\, SG8 8AX\, United Kingdom
CATEGORIES:Colts Under 13,U13,Youth Cricket
END:VEVENT
END:VCALENDAR