BEGIN:VCALENDAR
VERSION:2.0
PRODID:-//Reed Cricket Club - ECPv6.15.20//NONSGML v1.0//EN
CALSCALE:GREGORIAN
METHOD:PUBLISH
X-WR-CALNAME:Reed Cricket Club
X-ORIGINAL-URL:https://reedcc.co.uk
X-WR-CALDESC:Events for Reed Cricket Club
REFRESH-INTERVAL;VALUE=DURATION:PT1H
X-Robots-Tag:noindex
X-PUBLISHED-TTL:PT1H
BEGIN:VTIMEZONE
TZID:Europe/London
BEGIN:DAYLIGHT
TZOFFSETFROM:+0000
TZOFFSETTO:+0100
TZNAME:BST
DTSTART:20200329T010000
END:DAYLIGHT
BEGIN:STANDARD
TZOFFSETFROM:+0100
TZOFFSETTO:+0000
TZNAME:GMT
DTSTART:20201025T010000
END:STANDARD
BEGIN:DAYLIGHT
TZOFFSETFROM:+0000
TZOFFSETTO:+0100
TZNAME:BST
DTSTART:20210328T010000
END:DAYLIGHT
BEGIN:STANDARD
TZOFFSETFROM:+0100
TZOFFSETTO:+0000
TZNAME:GMT
DTSTART:20211031T010000
END:STANDARD
BEGIN:DAYLIGHT
TZOFFSETFROM:+0000
TZOFFSETTO:+0100
TZNAME:BST
DTSTART:20220327T010000
END:DAYLIGHT
BEGIN:STANDARD
TZOFFSETFROM:+0100
TZOFFSETTO:+0000
TZNAME:GMT
DTSTART:20221030T010000
END:STANDARD
BEGIN:DAYLIGHT
TZOFFSETFROM:+0000
TZOFFSETTO:+0100
TZNAME:BST
DTSTART:20230326T010000
END:DAYLIGHT
BEGIN:STANDARD
TZOFFSETFROM:+0100
TZOFFSETTO:+0000
TZNAME:GMT
DTSTART:20231029T010000
END:STANDARD
END:VTIMEZONE
BEGIN:VEVENT
DTSTART;TZID=Europe/London:20220509T211500
DTEND;TZID=Europe/London:20220509T230000
DTSTAMP:20260422T094528
CREATED:20220223T080237Z
LAST-MODIFIED:20220406T070434Z
UID:32523-1652130900-1652137200@reedcc.co.uk
SUMMARY:General Committee Meeting
DESCRIPTION:General Committee Meetings to be held virtually until further notice. \nShare this:\n				Share on Facebook (Opens in new window)\n				Facebook\n			\n				Email a link to a friend (Opens in new window)\n				Email\n			\n				Print (Opens in new window)\n				Print\n			Like this:Like Loading...
URL:https://reedcc.co.uk/event/general-committee-meeting-11/
LOCATION:Virtual via Zoom
CATEGORIES:Committee Meeting
END:VEVENT
BEGIN:VEVENT
DTSTART;TZID=Europe/London:20220430T100000
DTEND;TZID=Europe/London:20220430T190000
DTSTAMP:20260422T094528
CREATED:20211214T070953Z
LAST-MODIFIED:20211214T070953Z
UID:32433-1651312800-1651345200@reedcc.co.uk
SUMMARY:1st XI; Herts County T20 Cup\, (Group D) Away
DESCRIPTION:1st XI; Herts County T20 Cup\, (Group D) at Welwyn Garden City\n30 April @ 10:00hrs \n1000hrs Match 1: Welwyn Garden City v Reed \n1315hrs Match 2: Potters Bar v Old Owens \n1630hrs Match 3: Winners Match 1 v Winners Match 2 \n(Reserve Date: Sunday 15th May 2022.) \nShare this:\n				Share on Facebook (Opens in new window)\n				Facebook\n			\n				Email a link to a friend (Opens in new window)\n				Email\n			\n				Print (Opens in new window)\n				Print\n			Like this:Like Loading...
URL:https://reedcc.co.uk/event/1st-xi-herts-county-t20-cup-group-d-away/
LOCATION:Welwyn Garden City CC\, Digswell Park\, Knightsfield\, Welwyn Garden City\, AL8 7NQ
CATEGORIES:1st XI (Herts County 20/20 Cup),1st XI (Herts County T20 Cup)
ORGANIZER;CN="Matt Giblin":MAILTO:matt_giblin12@hotmail.com
END:VEVENT
BEGIN:VEVENT
DTSTART;TZID=Europe/London:20220428T130000
DTEND;TZID=Europe/London:20220428T193000
DTSTAMP:20260422T094528
CREATED:20220121T000907Z
LAST-MODIFIED:20220121T001118Z
UID:32453-1651150800-1651174200@reedcc.co.uk
SUMMARY:Hertfordshire Over 70s v Norfolk Over 70s
DESCRIPTION:Hertfordshire Over 70s v Norfolk Over 70s at Reed \nShare this:\n				Share on Facebook (Opens in new window)\n				Facebook\n			\n				Email a link to a friend (Opens in new window)\n				Email\n			\n				Print (Opens in new window)\n				Print\n			Like this:Like Loading...
URL:https://reedcc.co.uk/event/hertfordshire-60s-v-bedfordshire-60s-copy-copy-copy-2-copy-copy-copy-copy-copy-copy/
LOCATION:Reed Cricket Club\, The Green\, Blacksmith's Lane\, Reed\, Hertfordshire\, SG8 8AX\, United Kingdom
CATEGORIES:Herts Over 70s
ORGANIZER;CN="Matt Giblin":MAILTO:matt_giblin12@hotmail.com
END:VEVENT
BEGIN:VEVENT
DTSTART;TZID=Europe/London:20220426T200000
DTEND;TZID=Europe/London:20220426T220000
DTSTAMP:20260422T094528
CREATED:20211218T170454Z
LAST-MODIFIED:20220318T053526Z
UID:32436-1651003200-1651010400@reedcc.co.uk
SUMMARY:The Herts League Captains' Meeting & Awards Presentation
DESCRIPTION:The Herts League Captains’ Meeting will take place on Tuesday 26th April 2022 at The StoneX Stadium starting at 8.00pm after which clubs will be able to collect their cricket balls and handbooks. A formal agenda will be sent out to all Club Reps in early April.  \nThere will be a presentation of 2021 Divisional and Cup winners’ trophies before the meeting commencing at around 7.20pm.  \nPlease remember that the teams of all Clubs that attend will start the season with a 5 point ‘bonus’ in their divisions. \nShare this:\n				Share on Facebook (Opens in new window)\n				Facebook\n			\n				Email a link to a friend (Opens in new window)\n				Email\n			\n				Print (Opens in new window)\n				Print\n			Like this:Like Loading...
URL:https://reedcc.co.uk/event/herts-league-agm-copy-2-copy-copy-copy-copy/
LOCATION:Stonex Stadium\, Hendon\, NW4 1RL\, United Kingdom
CATEGORIES:AGM,News
END:VEVENT
BEGIN:VEVENT
DTSTART;TZID=Europe/London:20220416T140000
DTEND;TZID=Europe/London:20220416T190000
DTSTAMP:20260422T094528
CREATED:20220321T115005Z
LAST-MODIFIED:20220321T115005Z
UID:32543-1650117600-1650135600@reedcc.co.uk
SUMMARY:Private Party
DESCRIPTION:Share this:\n				Share on Facebook (Opens in new window)\n				Facebook\n			\n				Email a link to a friend (Opens in new window)\n				Email\n			\n				Print (Opens in new window)\n				Print\n			Like this:Like Loading...
URL:https://reedcc.co.uk/event/private-party-6/
LOCATION:Reed Cricket Club\, The Green\, Blacksmith's Lane\, Reed\, Hertfordshire\, SG8 8AX\, United Kingdom
CATEGORIES:Private Party
END:VEVENT
BEGIN:VEVENT
DTSTART;TZID=Europe/London:20220404T200000
DTEND;TZID=Europe/London:20220404T220000
DTSTAMP:20260422T094528
CREATED:20211206T082152Z
LAST-MODIFIED:20211206T082234Z
UID:32410-1649102400-1649109600@reedcc.co.uk
SUMMARY:General Committee Meeting
DESCRIPTION:General Committee Meetings to be held virtually until further notice. \nShare this:\n				Share on Facebook (Opens in new window)\n				Facebook\n			\n				Email a link to a friend (Opens in new window)\n				Email\n			\n				Print (Opens in new window)\n				Print\n			Like this:Like Loading...
URL:https://reedcc.co.uk/event/general-committee-meeting-10-copy-copy/
LOCATION:Reed Cricket Club\, The Green\, Blacksmith's Lane\, Reed\, Hertfordshire\, SG8 8AX\, United Kingdom
CATEGORIES:Committee Meeting
END:VEVENT
BEGIN:VEVENT
DTSTART;TZID=Europe/London:20220307T200000
DTEND;TZID=Europe/London:20220307T220000
DTSTAMP:20260422T094528
CREATED:20211206T082026Z
LAST-MODIFIED:20211206T082118Z
UID:32408-1646683200-1646690400@reedcc.co.uk
SUMMARY:General Committee Meeting
DESCRIPTION:General Committee Meetings to be held virtually until further notice. \nShare this:\n				Share on Facebook (Opens in new window)\n				Facebook\n			\n				Email a link to a friend (Opens in new window)\n				Email\n			\n				Print (Opens in new window)\n				Print\n			Like this:Like Loading...
URL:https://reedcc.co.uk/event/general-committee-meeting-10-copy/
LOCATION:Reed Cricket Club\, The Green\, Blacksmith's Lane\, Reed\, Hertfordshire\, SG8 8AX\, United Kingdom
CATEGORIES:Committee Meeting
END:VEVENT
BEGIN:VEVENT
DTSTART;TZID=Europe/London:20220228T193000
DTEND;TZID=Europe/London:20220228T220000
DTSTAMP:20260422T094528
CREATED:20211218T170901Z
LAST-MODIFIED:20211218T171226Z
UID:32439-1646076600-1646085600@reedcc.co.uk
SUMMARY:Herts League AGM (Virtual)
DESCRIPTION:The AGM of the Herts League (SHPCL) will take place on Monday 28th February 2022. \nThis meeting will be held Virtually. Joining details will be sent to Club Reps in due course. \nShare this:\n				Share on Facebook (Opens in new window)\n				Facebook\n			\n				Email a link to a friend (Opens in new window)\n				Email\n			\n				Print (Opens in new window)\n				Print\n			Like this:Like Loading...
URL:https://reedcc.co.uk/event/herts-league-agm-copy-copy-copy-copy-copy/
LOCATION:Virtual via Zoom
CATEGORIES:AGM
END:VEVENT
BEGIN:VEVENT
DTSTART;TZID=Europe/London:20220207T200000
DTEND;TZID=Europe/London:20220207T220000
DTSTAMP:20260422T094528
CREATED:20211206T081953Z
LAST-MODIFIED:20211206T081953Z
UID:32406-1644264000-1644271200@reedcc.co.uk
SUMMARY:General Committee Meeting
DESCRIPTION:General Committee Meetings to be held virtually until further notice. \nShare this:\n				Share on Facebook (Opens in new window)\n				Facebook\n			\n				Email a link to a friend (Opens in new window)\n				Email\n			\n				Print (Opens in new window)\n				Print\n			Like this:Like Loading...
URL:https://reedcc.co.uk/event/general-committee-meeting-10/
LOCATION:Reed Cricket Club\, The Green\, Blacksmith's Lane\, Reed\, Hertfordshire\, SG8 8AX\, United Kingdom
CATEGORIES:Committee Meeting
END:VEVENT
BEGIN:VEVENT
DTSTART;TZID=Europe/London:20220110T200000
DTEND;TZID=Europe/London:20220110T220000
DTSTAMP:20260422T094528
CREATED:20211120T105903Z
LAST-MODIFIED:20211120T110118Z
UID:32387-1641844800-1641852000@reedcc.co.uk
SUMMARY:General Committee Meeting (Virtual)
DESCRIPTION:General Committee Meeting \nShare this:\n				Share on Facebook (Opens in new window)\n				Facebook\n			\n				Email a link to a friend (Opens in new window)\n				Email\n			\n				Print (Opens in new window)\n				Print\n			Like this:Like Loading...
URL:https://reedcc.co.uk/event/general-committee-meeting-9-copy-2-copy-copy-copy-copy-copy-copy-copy-copy-copy-copy-copy-copy-copy-2-copy-2-copy-copy-copy-copy-copy-copy-copy-copy/
LOCATION:Reed Cricket Club\, The Green\, Blacksmith's Lane\, Reed\, Hertfordshire\, SG8 8AX\, United Kingdom
CATEGORIES:Committee Meeting
END:VEVENT
BEGIN:VEVENT
DTSTART;TZID=Europe/London:20211206T200000
DTEND;TZID=Europe/London:20211206T220000
DTSTAMP:20260422T094528
CREATED:20201231T081641Z
LAST-MODIFIED:20211104T052524Z
UID:30930-1638820800-1638828000@reedcc.co.uk
SUMMARY:Executive Committee Meeting (Virtual) - Cancelled
DESCRIPTION:Executive Committee Meeting – Cancelled \nShare this:\n				Share on Facebook (Opens in new window)\n				Facebook\n			\n				Email a link to a friend (Opens in new window)\n				Email\n			\n				Print (Opens in new window)\n				Print\n			Like this:Like Loading...
URL:https://reedcc.co.uk/event/executive-committee-meeting-11-copy-copy-copy-2-copy-copy-2-copy-copy-copy/
LOCATION:Reed Cricket Club\, The Green\, Blacksmith's Lane\, Reed\, Hertfordshire\, SG8 8AX\, United Kingdom
CATEGORIES:Committee Meeting
END:VEVENT
BEGIN:VEVENT
DTSTART;TZID=Europe/London:20211125T200000
DTEND;TZID=Europe/London:20211125T220000
DTSTAMP:20260422T094528
CREATED:20201231T080705Z
LAST-MODIFIED:20211014T091434Z
UID:30923-1637870400-1637877600@reedcc.co.uk
SUMMARY:Annual General Meeting of Reed CC\, Thursday 25th November 2021
DESCRIPTION:Notification of the Sixty-Fifth Annual General Meeting of Reed Cricket Club to be held in the Howard Marshall Pavilion on Thursday 25th November 2021 starting at 2000hrs. \nIf Coronavirus restrictions on numbers attending public gatherings are still in place\, the AGM will be arranged as a Virtual Meeting. \nFormal notification\, agenda and joining details (if necessary) will follow in due course. \nPeter G. Baker\,\nVice-President\,\nReed Cricket Club. \nShare this:\n				Share on Facebook (Opens in new window)\n				Facebook\n			\n				Email a link to a friend (Opens in new window)\n				Email\n			\n				Print (Opens in new window)\n				Print\n			Like this:Like Loading...
URL:https://reedcc.co.uk/event/annual-general-meeting-reed-cc-thursday-23rd-november-2017-copy-copy-copy-copy/
LOCATION:Reed Cricket Club\, The Green\, Blacksmith's Lane\, Reed\, Hertfordshire\, SG8 8AX\, United Kingdom
CATEGORIES:AGM
END:VEVENT
BEGIN:VEVENT
DTSTART;TZID=Europe/London:20211110T193000
DTEND;TZID=Europe/London:20211110T233000
DTSTAMP:20260422T094528
CREATED:20210928T101501Z
LAST-MODIFIED:20210928T101501Z
UID:32276-1636572600-1636587000@reedcc.co.uk
SUMMARY:Curry Night - Reed CC at The Spice Cabinet\, 10th November
DESCRIPTION:Time to be confirmed. \nIn conjunction with RCC’s Shirt Sponsor\, The Spice Cabinet. \nPlease book places with Sam Greaves in advance by contacting her on 07950 644861 or on sam_summers90@hotmail.com \nPlease also note: That ordering will be from the menu and paying on the night.  \nShare this:\n				Share on Facebook (Opens in new window)\n				Facebook\n			\n				Email a link to a friend (Opens in new window)\n				Email\n			\n				Print (Opens in new window)\n				Print\n			Like this:Like Loading...
URL:https://reedcc.co.uk/event/curry-night-reed-cc-at-the-spice-cabinet-10th-november/
LOCATION:The Spice Cabinet\, High Street\, Reed\, SG8 8AH\, United Kingdom
CATEGORIES:News,Social
END:VEVENT
BEGIN:VEVENT
DTSTART;TZID=Europe/London:20211106T170000
DTEND;TZID=Europe/London:20211106T203000
DTSTAMP:20260422T094528
CREATED:20210929T044003Z
LAST-MODIFIED:20211028T062815Z
UID:32283-1636218000-1636230600@reedcc.co.uk
SUMMARY:Bonfire & Fireworks\, Saturday 6th November
DESCRIPTION:Community Bonfire & Fireworks event organised by the Reed Parish Council & Co.\nwww.reedparishcouncil.co.uk \nAfter a blank 2020\, the Bonfire Party returns to the Village Green this year. Usually a well-attended and enjoyable evening\, let us hope that the weather will be mild and dry this year. \nPlease support the local community where we play our cricket. \nThe Cricket Club Bar will be open from 1700hrs.  \nHave fun and stay safe! \n1800hrs* EVENT OPENS\n         Licensed Bar and Barbecue available.\nAdmission is free but donations are welcome. A “bucket” collection on the night or see the JustGiving Page on the Parish Council’s website. \n1845hrs* FIREWORK DISPLAY \n1900hrs* BONFIRE LIT \n* Timings are approximate. \nCheck the latest news and updates by visiting www.reedparishcouncil.co.uk \nShare this:\n				Share on Facebook (Opens in new window)\n				Facebook\n			\n				Email a link to a friend (Opens in new window)\n				Email\n			\n				Print (Opens in new window)\n				Print\n			Like this:Like Loading...
URL:https://reedcc.co.uk/event/bonfire-fireworks-saturday-4th-november-copy-copy-copy/
LOCATION:Reed Village Hall\, Village Hall\, Blacksmith's Lane\, Reed\, SG8 8AX\, United Kingdom
CATEGORIES:News,Social
END:VEVENT
BEGIN:VEVENT
DTSTART;TZID=Europe/London:20211101T200000
DTEND;TZID=Europe/London:20211101T220000
DTSTAMP:20260422T094528
CREATED:20201231T082923Z
LAST-MODIFIED:20201231T083006Z
UID:30945-1635796800-1635804000@reedcc.co.uk
SUMMARY:General Committee Meeting (Virtual)
DESCRIPTION:General Committee Meeting \nShare this:\n				Share on Facebook (Opens in new window)\n				Facebook\n			\n				Email a link to a friend (Opens in new window)\n				Email\n			\n				Print (Opens in new window)\n				Print\n			Like this:Like Loading...
URL:https://reedcc.co.uk/event/general-committee-meeting-9-copy-2-copy-copy-copy-copy-copy-copy-copy-copy-copy-copy-copy-copy-copy-2-copy-2-copy-copy-copy-copy-copy-copy-copy/
LOCATION:Reed Cricket Club\, The Green\, Blacksmith's Lane\, Reed\, Hertfordshire\, SG8 8AX\, United Kingdom
CATEGORIES:Committee Meeting
END:VEVENT
BEGIN:VEVENT
DTSTART;TZID=Europe/London:20211024T091500
DTEND;TZID=Europe/London:20211024T180000
DTSTAMP:20260422T094528
CREATED:20210909T074002Z
LAST-MODIFIED:20210909T074002Z
UID:32250-1635066900-1635098400@reedcc.co.uk
SUMMARY:RCC Golf Day
DESCRIPTION:Please contact Matt Giblin 07786 513621 or email matt_giblin12@hotmail.com if you’re interested. \nShare this:\n				Share on Facebook (Opens in new window)\n				Facebook\n			\n				Email a link to a friend (Opens in new window)\n				Email\n			\n				Print (Opens in new window)\n				Print\n			Like this:Like Loading...
URL:https://reedcc.co.uk/event/rcc-golf-day/
LOCATION:Barkway Park Golf Club\, Barkway Park Golf Club Nuthampstead Road\, Nuthampstead\, Near Royston\, SG8 8EN\, United Kingdom
CATEGORIES:News,Social
ORGANIZER;CN="Matt Giblin":MAILTO:matt_giblin12@hotmail.com
END:VEVENT
BEGIN:VEVENT
DTSTART;TZID=Europe/London:20211011T200000
DTEND;TZID=Europe/London:20211011T220000
DTSTAMP:20260422T094528
CREATED:20201231T081514Z
LAST-MODIFIED:20211004T120249Z
UID:30928-1633982400-1633989600@reedcc.co.uk
SUMMARY:General Committee Meeting (Virtual)
DESCRIPTION:General Committee Meeting \nShare this:\n				Share on Facebook (Opens in new window)\n				Facebook\n			\n				Email a link to a friend (Opens in new window)\n				Email\n			\n				Print (Opens in new window)\n				Print\n			Like this:Like Loading...
URL:https://reedcc.co.uk/event/executive-committee-meeting-11-copy-copy-copy-2-copy-copy-2-copy-copy/
LOCATION:Reed Cricket Club\, The Green\, Blacksmith's Lane\, Reed\, Hertfordshire\, SG8 8AX\, United Kingdom
CATEGORIES:Committee Meeting
END:VEVENT
BEGIN:VEVENT
DTSTART;TZID=Europe/London:20211002T183000
DTEND;TZID=Europe/London:20211002T235500
DTSTAMP:20260422T094528
CREATED:20210803T172609Z
LAST-MODIFIED:20210826T071624Z
UID:32157-1633199400-1633218900@reedcc.co.uk
SUMMARY:Annual Dinner & Awards Presentation
DESCRIPTION:Annual Dinner & Awards Presentation\nThe Old Bull Inn\,\n56\, High Street\,\nRoyston\nSG8 9AW \nBook your tickets by contacting Sam Greaves our Social Secretary on 07950 644861 or at sam_summers90@hotmail.com \nShare this:\n				Share on Facebook (Opens in new window)\n				Facebook\n			\n				Email a link to a friend (Opens in new window)\n				Email\n			\n				Print (Opens in new window)\n				Print\n			Like this:Like Loading...
URL:https://reedcc.co.uk/event/annual-dinner-awards-presentation-copy-copy-copy-copy-copy-2/
LOCATION:Old Bull Inn\, Royston\, SG8 9AW\, United Kingdom
CATEGORIES:Social
END:VEVENT
BEGIN:VEVENT
DTSTART;TZID=Europe/London:20210925T110000
DTEND;TZID=Europe/London:20210925T233000
DTSTAMP:20260422T094528
CREATED:20210309T123554Z
LAST-MODIFIED:20210309T123823Z
UID:31322-1632567600-1632612600@reedcc.co.uk
SUMMARY:Private Party
DESCRIPTION:Pavilion booked for a private function. \nShare this:\n				Share on Facebook (Opens in new window)\n				Facebook\n			\n				Email a link to a friend (Opens in new window)\n				Email\n			\n				Print (Opens in new window)\n				Print\n			Like this:Like Loading...
URL:https://reedcc.co.uk/event/private-party-4-copy-copy-copy-copy-2-copy/
LOCATION:Reed Cricket Club\, The Green\, Blacksmith's Lane\, Reed\, Hertfordshire\, SG8 8AX\, United Kingdom
CATEGORIES:Private Party
END:VEVENT
BEGIN:VEVENT
DTSTART;TZID=Europe/London:20210919T110000
DTEND;TZID=Europe/London:20210919T193000
DTSTAMP:20260422T094528
CREATED:20201203T081110Z
LAST-MODIFIED:20210826T072241Z
UID:30848-1632049200-1632079800@reedcc.co.uk
SUMMARY:National Village Cup\, Round 9 (The Final at Lord's)
DESCRIPTION:Ninth Round of the 2021 National Village Cricket Championship \nThe Final at Lord’s Cricket Ground \nALVANLEY (CHESHIRE & CLWYD) versus CALMER SPORTS (HAMPSHIRE) \nSunday 19th September 2021 starting at 1100hrs \nThe full draw can be seen at:- \nwww.nationalvillagecup.com \nShare this:\n				Share on Facebook (Opens in new window)\n				Facebook\n			\n				Email a link to a friend (Opens in new window)\n				Email\n			\n				Print (Opens in new window)\n				Print\n			Like this:Like Loading...
URL:https://reedcc.co.uk/event/national-village-cup-round-1-2-copy-copy-copy-copy-copy-copy-copy-copy-2/
LOCATION:Lord’s Cricket Ground\,\, St John's Wood Road\, London\, NW8 8QN\, United Kingdom
CATEGORIES:2nd XI (NVC),National Village Cup XI
END:VEVENT
BEGIN:VEVENT
DTSTART;TZID=Europe/London:20210917T193000
DTEND;TZID=Europe/London:20210917T230000
DTSTAMP:20260422T094528
CREATED:20210826T072618Z
LAST-MODIFIED:20210826T072920Z
UID:32232-1631907000-1631919600@reedcc.co.uk
SUMMARY:Quiz Night
DESCRIPTION:Friday 17th September 2021 – 7:30 p.m. for a prompt start. \nPlease register your interest by contacting Sam Greaves on Mobile 07950 644861 or email on sam_summers90@hotmail.com \nShare this:\n				Share on Facebook (Opens in new window)\n				Facebook\n			\n				Email a link to a friend (Opens in new window)\n				Email\n			\n				Print (Opens in new window)\n				Print\n			Like this:Like Loading...
URL:https://reedcc.co.uk/event/quiz-night-2-copy-copy-copy-copy-copy-copy-2-copy-copy-copy-copy-copy-copy-copy/
LOCATION:Reed Cricket Club\, The Green\, Blacksmith's Lane\, Reed\, Hertfordshire\, SG8 8AX\, United Kingdom
CATEGORIES:Social
END:VEVENT
BEGIN:VEVENT
DTSTART;TZID=Europe/London:20210912T130000
DTEND;TZID=Europe/London:20210912T193000
DTSTAMP:20260422T094528
CREATED:20210102T181558Z
LAST-MODIFIED:20210102T181706Z
UID:30961-1631451600-1631475000@reedcc.co.uk
SUMMARY:Sunday XI v. Stansted Hall & Elsenham (Away)
DESCRIPTION:Friendly fixture. \nShare this:\n				Share on Facebook (Opens in new window)\n				Facebook\n			\n				Email a link to a friend (Opens in new window)\n				Email\n			\n				Print (Opens in new window)\n				Print\n			Like this:Like Loading...
URL:https://reedcc.co.uk/event/sunday-xi-v-hare-street-hormead-away-copy-copy-copy-copy-copy-copy-copy-copy-copy-copy-3-copy-2-copy-copy/
LOCATION:Stansted Hall & Elsenham\, Elsenham Road\, Stansted Mountfitchet\, Essex\, CM24 8ST\, United Kingdom
CATEGORIES:Sunday XI (Friendly)
END:VEVENT
BEGIN:VEVENT
DTSTART;TZID=Europe/London:20210906T200000
DTEND;TZID=Europe/London:20210906T220000
DTSTAMP:20260422T094528
CREATED:20201231T082832Z
LAST-MODIFIED:20201231T082907Z
UID:30943-1630958400-1630965600@reedcc.co.uk
SUMMARY:General Committee Meeting (Virtual)
DESCRIPTION:General Committee Meeting \nShare this:\n				Share on Facebook (Opens in new window)\n				Facebook\n			\n				Email a link to a friend (Opens in new window)\n				Email\n			\n				Print (Opens in new window)\n				Print\n			Like this:Like Loading...
URL:https://reedcc.co.uk/event/general-committee-meeting-9-copy-2-copy-copy-copy-copy-copy-copy-copy-copy-copy-copy-copy-copy-copy-2-copy-2-copy-copy-copy-copy-copy-copy/
LOCATION:Reed Cricket Club\, The Green\, Blacksmith's Lane\, Reed\, Hertfordshire\, SG8 8AX\, United Kingdom
CATEGORIES:Committee Meeting
END:VEVENT
BEGIN:VEVENT
DTSTART;TZID=Europe/London:20210905T130000
DTEND;TZID=Europe/London:20210905T193000
DTSTAMP:20260422T094528
CREATED:20210102T190815Z
LAST-MODIFIED:20210831T232946Z
UID:30991-1630846800-1630870200@reedcc.co.uk
SUMMARY:Cancelled - Sunday XI v. Aston (Home)
DESCRIPTION:Share this:\n				Share on Facebook (Opens in new window)\n				Facebook\n			\n				Email a link to a friend (Opens in new window)\n				Email\n			\n				Print (Opens in new window)\n				Print\n			Like this:Like Loading...
URL:https://reedcc.co.uk/event/sunday-xi-v-hare-street-hormead-away-copy-copy-2/
LOCATION:Reed Cricket Club\, The Green\, Blacksmith's Lane\, Reed\, Hertfordshire\, SG8 8AX\, United Kingdom
CATEGORIES:Sunday XI (Friendly)
END:VEVENT
BEGIN:VEVENT
DTSTART;TZID=Europe/London:20210904T193000
DTEND;TZID=Europe/London:20210904T233000
DTSTAMP:20260422T094528
CREATED:20210803T172132Z
LAST-MODIFIED:20210803T172439Z
UID:32154-1630783800-1630798200@reedcc.co.uk
SUMMARY:End of Season Party
DESCRIPTION:FANCY DRESS THEME – Heroes and Villains! \nEnd of Season Party. How did we get on this season? Win? Lose?\nAre you a Hero or a Villain? \nLet’s celebrate either way! \nShare this:\n				Share on Facebook (Opens in new window)\n				Facebook\n			\n				Email a link to a friend (Opens in new window)\n				Email\n			\n				Print (Opens in new window)\n				Print\n			Like this:Like Loading...
URL:https://reedcc.co.uk/event/end-of-season-party-copy/
LOCATION:Reed Cricket Club\, The Green\, Blacksmith's Lane\, Reed\, Hertfordshire\, SG8 8AX\, United Kingdom
CATEGORIES:News,Social
END:VEVENT
BEGIN:VEVENT
DTSTART;TZID=Europe/London:20210904T113000
DTEND;TZID=Europe/London:20210904T190000
DTSTAMP:20260422T094528
CREATED:20210103T142117Z
LAST-MODIFIED:20210225T085357Z
UID:31125-1630755000-1630782000@reedcc.co.uk
SUMMARY:2nd XI v. Cockfosters (SHPCL Division 3B) Away
DESCRIPTION:2nd XI v. Cockfosters (SHPCL Division 3B) Away\, 50 overs per side format \nShare this:\n				Share on Facebook (Opens in new window)\n				Facebook\n			\n				Email a link to a friend (Opens in new window)\n				Email\n			\n				Print (Opens in new window)\n				Print\n			Like this:Like Loading...
URL:https://reedcc.co.uk/event/2nd-xi-v-west-herts-ii-shpcl-division-3b-away-copy-copy-copy-copy-copy-copy-copy-copy-2/
LOCATION:Cockfosters CC\, Chalk Lane\, Cockfosters\, London\, EN4 9JG
CATEGORIES:2nd XI (SHPCL)
END:VEVENT
BEGIN:VEVENT
DTSTART;TZID=Europe/London:20210904T113000
DTEND;TZID=Europe/London:20210904T190000
DTSTAMP:20260422T094528
CREATED:20210103T091551Z
LAST-MODIFIED:20210225T085453Z
UID:31069-1630755000-1630782000@reedcc.co.uk
SUMMARY:3rd XI v. Harpenden V (SHPCL Division 10A) Away
DESCRIPTION:3rd XI v. Harpenden V (SHPCL Division 10A) Away\, 45 overs per side format \nShare this:\n				Share on Facebook (Opens in new window)\n				Facebook\n			\n				Email a link to a friend (Opens in new window)\n				Email\n			\n				Print (Opens in new window)\n				Print\n			Like this:Like Loading...
URL:https://reedcc.co.uk/event/3rd-xi-v-holtwhites-trinibis-iii-shpcl-division-10a-home-copy-copy-copy-copy-copy-copy-copy-copy-copy-copy-copy-copy/
LOCATION:Harpenden CC 3rd Ground\, Rothampstead Experimental Station\, Opposite The Common\,\, Harpenden\, AL5 2JQ
CATEGORIES:3rd XI (SHPCL)
END:VEVENT
BEGIN:VEVENT
DTSTART;TZID=Europe/London:20210904T113000
DTEND;TZID=Europe/London:20210904T190000
DTSTAMP:20260422T094528
CREATED:20210103T081714Z
LAST-MODIFIED:20210227T182023Z
UID:31021-1630755000-1630782000@reedcc.co.uk
SUMMARY:1st XI v. Welwyn Garden City (SHPCL Premier Division) Home
DESCRIPTION:1st XI v. Welwyn Garden City (SHPCL Premier Division) Home\, 50 overs per side Format \nShare this:\n				Share on Facebook (Opens in new window)\n				Facebook\n			\n				Email a link to a friend (Opens in new window)\n				Email\n			\n				Print (Opens in new window)\n				Print\n			Like this:Like Loading...
URL:https://reedcc.co.uk/event/1st-xi-v-west-herts-shpcl-premier-division-home-copy-copy-copy-copy-copy-copy-copy-copy-copy-copy-copy-2/
LOCATION:Reed Cricket Club\, The Green\, Blacksmith's Lane\, Reed\, Hertfordshire\, SG8 8AX\, United Kingdom
CATEGORIES:1st XI (SHPCL)
END:VEVENT
BEGIN:VEVENT
DTSTART;TZID=Europe/London:20210829T093000
DTEND;TZID=Europe/London:20210829T143000
DTSTAMP:20260422T094528
CREATED:20201102T085150Z
LAST-MODIFIED:20210817T060727Z
UID:30798-1630229400-1630247400@reedcc.co.uk
SUMMARY:Youth Cricket Festival / President's Day
DESCRIPTION:Three teams in a round-robin. Whichever team with best runs to wickets average at the end wins. \nTeam A v Team B   9.50 – 11.10am\nTeam B v Team C  11.20 – 12.40pm\nTeam A v Team C  12.45 – 2.00pm \n2.00pm – 2.15pm prize giving \nShare this:\n				Share on Facebook (Opens in new window)\n				Facebook\n			\n				Email a link to a friend (Opens in new window)\n				Email\n			\n				Print (Opens in new window)\n				Print\n			Like this:Like Loading...
URL:https://reedcc.co.uk/event/presidents-day-2-copy-copy-copy-copy/
LOCATION:Reed Cricket Club\, The Green\, Blacksmith's Lane\, Reed\, Hertfordshire\, SG8 8AX\, United Kingdom
CATEGORIES:Social,Youth Cricket
END:VEVENT
BEGIN:VEVENT
DTSTART;TZID=Europe/London:20210828T120000
DTEND;TZID=Europe/London:20210828T190000
DTSTAMP:20260422T094528
CREATED:20210103T141900Z
LAST-MODIFIED:20210103T142018Z
UID:31123-1630152000-1630177200@reedcc.co.uk
SUMMARY:2nd XI v. Wheathampstead (SHPCL Division 3B) Home
DESCRIPTION:2nd XI v. Wheathampstead (SHPCL Division 3B) Home\, 50 overs per side format \nShare this:\n				Share on Facebook (Opens in new window)\n				Facebook\n			\n				Email a link to a friend (Opens in new window)\n				Email\n			\n				Print (Opens in new window)\n				Print\n			Like this:Like Loading...
URL:https://reedcc.co.uk/event/2nd-xi-v-bayford-hertford-shpcl-division-3b-home-copy-copy-2/
LOCATION:Reed Cricket Club\, The Green\, Blacksmith's Lane\, Reed\, Hertfordshire\, SG8 8AX\, United Kingdom
CATEGORIES:2nd XI (SHPCL)
END:VEVENT
END:VCALENDAR