BEGIN:VCALENDAR
VERSION:2.0
PRODID:-//Reed Cricket Club - ECPv6.15.20//NONSGML v1.0//EN
CALSCALE:GREGORIAN
METHOD:PUBLISH
X-WR-CALNAME:Reed Cricket Club
X-ORIGINAL-URL:https://reedcc.co.uk
X-WR-CALDESC:Events for Reed Cricket Club
REFRESH-INTERVAL;VALUE=DURATION:PT1H
X-Robots-Tag:noindex
X-PUBLISHED-TTL:PT1H
BEGIN:VTIMEZONE
TZID:Europe/London
BEGIN:DAYLIGHT
TZOFFSETFROM:+0000
TZOFFSETTO:+0100
TZNAME:BST
DTSTART:20210328T010000
END:DAYLIGHT
BEGIN:STANDARD
TZOFFSETFROM:+0100
TZOFFSETTO:+0000
TZNAME:GMT
DTSTART:20211031T010000
END:STANDARD
BEGIN:DAYLIGHT
TZOFFSETFROM:+0000
TZOFFSETTO:+0100
TZNAME:BST
DTSTART:20220327T010000
END:DAYLIGHT
BEGIN:STANDARD
TZOFFSETFROM:+0100
TZOFFSETTO:+0000
TZNAME:GMT
DTSTART:20221030T010000
END:STANDARD
BEGIN:DAYLIGHT
TZOFFSETFROM:+0000
TZOFFSETTO:+0100
TZNAME:BST
DTSTART:20230326T010000
END:DAYLIGHT
BEGIN:STANDARD
TZOFFSETFROM:+0100
TZOFFSETTO:+0000
TZNAME:GMT
DTSTART:20231029T010000
END:STANDARD
BEGIN:DAYLIGHT
TZOFFSETFROM:+0000
TZOFFSETTO:+0100
TZNAME:BST
DTSTART:20240331T010000
END:DAYLIGHT
BEGIN:STANDARD
TZOFFSETFROM:+0100
TZOFFSETTO:+0000
TZNAME:GMT
DTSTART:20241027T010000
END:STANDARD
END:VTIMEZONE
BEGIN:VEVENT
DTSTART;TZID=Europe/London:20230424T200000
DTEND;TZID=Europe/London:20230424T220000
DTSTAMP:20260420T064833
CREATED:20230407T055505Z
LAST-MODIFIED:20230407T055505Z
UID:33146-1682366400-1682373600@reedcc.co.uk
SUMMARY:General Committee Meeting
DESCRIPTION:General Committee Meeting to be held virtually until further notice. \nShare this:\n				Share on Facebook (Opens in new window)\n				Facebook\n			\n				Email a link to a friend (Opens in new window)\n				Email\n			\n				Print (Opens in new window)\n				Print\n			Like this:Like Loading...
URL:https://reedcc.co.uk/event/general-committee-meeting-16/
LOCATION:Virtual via Zoom
CATEGORIES:Committee Meeting
END:VEVENT
BEGIN:VEVENT
DTSTART;TZID=Europe/London:20230403T200000
DTEND;TZID=Europe/London:20230403T220000
DTSTAMP:20260420T064833
CREATED:20230311T005940Z
LAST-MODIFIED:20230311T005940Z
UID:33125-1680552000-1680559200@reedcc.co.uk
SUMMARY:General Committee Meeting
DESCRIPTION:General Committee Meeting to be held virtually until further notice.  \nShare this:\n				Share on Facebook (Opens in new window)\n				Facebook\n			\n				Email a link to a friend (Opens in new window)\n				Email\n			\n				Print (Opens in new window)\n				Print\n			Like this:Like Loading...
URL:https://reedcc.co.uk/event/general-committee-meeting-15/
LOCATION:Virtual via Zoom
CATEGORIES:Committee Meeting
END:VEVENT
BEGIN:VEVENT
DTSTART;TZID=Europe/London:20230310T193000
DTEND;TZID=Europe/London:20230310T213000
DTSTAMP:20260420T064833
CREATED:20221230T070712Z
LAST-MODIFIED:20230106T072658Z
UID:33059-1678476600-1678483800@reedcc.co.uk
SUMMARY:SHPCL Trophy Presentation (Divisional Team Awards)
DESCRIPTION:A Date for your Diary – SHPCL will be holding the Hertfordshire Premier Cricket League Divisional Trophy Presentations for the 2022 season on Friday 10th March 2023 @ Saracens Stonex Stadium\, NW4 1RL. \nThe Presentation will be held during the game between Saracens RFC and Scarlets which kicks off at 1930hrs. \nShare this:\n				Share on Facebook (Opens in new window)\n				Facebook\n			\n				Email a link to a friend (Opens in new window)\n				Email\n			\n				Print (Opens in new window)\n				Print\n			Like this:Like Loading...
URL:https://reedcc.co.uk/event/shpcl-trophy-presentation-divisional-team-awards-2/
LOCATION:Stonex Stadium\, Hendon\, NW4 1RL\, United Kingdom
CATEGORIES:News,Social
END:VEVENT
BEGIN:VEVENT
DTSTART;TZID=Europe/London:20230306T200000
DTEND;TZID=Europe/London:20230306T220000
DTSTAMP:20260420T064833
CREATED:20230208T072306Z
LAST-MODIFIED:20230208T072306Z
UID:33105-1678132800-1678140000@reedcc.co.uk
SUMMARY:General Committee Meeting
DESCRIPTION:General Committee Meetings to be held virtually until further notice. \nShare this:\n				Share on Facebook (Opens in new window)\n				Facebook\n			\n				Email a link to a friend (Opens in new window)\n				Email\n			\n				Print (Opens in new window)\n				Print\n			Like this:Like Loading...
URL:https://reedcc.co.uk/event/general-committee-meeting-14/
LOCATION:Virtual via Zoom
CATEGORIES:Committee Meeting
END:VEVENT
BEGIN:VEVENT
DTSTART;TZID=Europe/London:20230227T193000
DTEND;TZID=Europe/London:20230227T213000
DTSTAMP:20260420T064833
CREATED:20221118T095335Z
LAST-MODIFIED:20221118T095335Z
UID:33015-1677526200-1677533400@reedcc.co.uk
SUMMARY:Herts League AGM
DESCRIPTION:The AGM of the Herts League (SHPCL) will take place on Monday 27th February 2023. \nAgenda and details will be sent to Club Reps in due course. \nShare this:\n				Share on Facebook (Opens in new window)\n				Facebook\n			\n				Email a link to a friend (Opens in new window)\n				Email\n			\n				Print (Opens in new window)\n				Print\n			Like this:Like Loading...
URL:https://reedcc.co.uk/event/herts-league-agm-2/
LOCATION:TBA\, United Kingdom
CATEGORIES:AGM,News
END:VEVENT
BEGIN:VEVENT
DTSTART;TZID=Europe/London:20230206T200000
DTEND;TZID=Europe/London:20230206T220000
DTSTAMP:20260420T064833
CREATED:20230110T144350Z
LAST-MODIFIED:20230110T144350Z
UID:33077-1675713600-1675720800@reedcc.co.uk
SUMMARY:General Committee Meeting
DESCRIPTION:General Committee Meetings to be held virtually until further notice. \nShare this:\n				Share on Facebook (Opens in new window)\n				Facebook\n			\n				Email a link to a friend (Opens in new window)\n				Email\n			\n				Print (Opens in new window)\n				Print\n			Like this:Like Loading...
URL:https://reedcc.co.uk/event/general-committee-meeting-13/
LOCATION:Virtual via Zoom
CATEGORIES:Committee Meeting
END:VEVENT
BEGIN:VEVENT
DTSTART;TZID=Europe/London:20230109T200000
DTEND;TZID=Europe/London:20230109T220000
DTSTAMP:20260420T064833
CREATED:20221210T050001Z
LAST-MODIFIED:20221210T050001Z
UID:33033-1673294400-1673301600@reedcc.co.uk
SUMMARY:General Committee Meeting
DESCRIPTION:General Committee Meetings to be held virtually until further notice. \nShare this:\n				Share on Facebook (Opens in new window)\n				Facebook\n			\n				Email a link to a friend (Opens in new window)\n				Email\n			\n				Print (Opens in new window)\n				Print\n			Like this:Like Loading...
URL:https://reedcc.co.uk/event/general-committee-meeting-12/
LOCATION:Reed Cricket Club\, The Green\, Blacksmith's Lane\, Reed\, Hertfordshire\, SG8 8AX\, United Kingdom
CATEGORIES:Committee Meeting
END:VEVENT
BEGIN:VEVENT
DTSTART;TZID=Europe/London:20230105T110000
DTEND;TZID=Europe/London:20230105T140000
DTSTAMP:20260420T064833
CREATED:20221222T162615Z
LAST-MODIFIED:20221222T162615Z
UID:33053-1672916400-1672927200@reedcc.co.uk
SUMMARY:Peter Lawrence's Funeral
DESCRIPTION:Peter’s Funeral will be at St. Mary’s Church\, Reed\, SG8 8AN at 1100hrs on Thursday 5th January 2023. \nThen afterwards at The Cricket Club and Village Hall. \nShare this:\n				Share on Facebook (Opens in new window)\n				Facebook\n			\n				Email a link to a friend (Opens in new window)\n				Email\n			\n				Print (Opens in new window)\n				Print\n			Like this:Like Loading...
URL:https://reedcc.co.uk/event/peter-lawrences-funeral/
LOCATION:St. Mary’s Church\, Reed\, SG8 8AN
CATEGORIES:News
END:VEVENT
BEGIN:VEVENT
DTSTART;TZID=Europe/London:20221206T193000
DTEND;TZID=Europe/London:20221206T220000
DTSTAMP:20260420T064833
CREATED:20211206T083524Z
LAST-MODIFIED:20221014T045557Z
UID:32427-1670355000-1670364000@reedcc.co.uk
SUMMARY:Annual General Meeting of Reed CC\, Tuesday 6th December 2022
DESCRIPTION:The Sixty-Sixth Annual General Meeting of Reed Cricket Club \nShare this:\n				Share on Facebook (Opens in new window)\n				Facebook\n			\n				Email a link to a friend (Opens in new window)\n				Email\n			\n				Print (Opens in new window)\n				Print\n			Like this:Like Loading...
URL:https://reedcc.co.uk/event/annual-general-meeting-reed-cc-thursday-23rd-november-2017-copy-copy-copy-copy-copy/
LOCATION:Reed Cricket Club\, The Green\, Blacksmith's Lane\, Reed\, Hertfordshire\, SG8 8AX\, United Kingdom
CATEGORIES:AGM
END:VEVENT
BEGIN:VEVENT
DTSTART;TZID=Europe/London:20221205T200000
DTEND;TZID=Europe/London:20221205T220000
DTSTAMP:20260420T064833
CREATED:20211206T083319Z
LAST-MODIFIED:20221014T053732Z
UID:32425-1670270400-1670277600@reedcc.co.uk
SUMMARY:General Committee Meeting - Cancelled
DESCRIPTION:General Committee Meetings to be held virtually until further notice. \nShare this:\n				Share on Facebook (Opens in new window)\n				Facebook\n			\n				Email a link to a friend (Opens in new window)\n				Email\n			\n				Print (Opens in new window)\n				Print\n			Like this:Like Loading...
URL:https://reedcc.co.uk/event/general-committee-meeting-10-copy-copy-copy-copy-copy-copy-copy-copy-copy/
LOCATION:Reed Cricket Club\, The Green\, Blacksmith's Lane\, Reed\, Hertfordshire\, SG8 8AX\, United Kingdom
CATEGORIES:Committee Meeting
END:VEVENT
BEGIN:VEVENT
DTSTART;TZID=Europe/London:20221107T200000
DTEND;TZID=Europe/London:20221107T220000
DTSTAMP:20260420T064833
CREATED:20211206T083208Z
LAST-MODIFIED:20221014T053817Z
UID:32423-1667851200-1667858400@reedcc.co.uk
SUMMARY:General Committee Meeting - Cancelled
DESCRIPTION:General Committee Meetings to be held virtually until further notice. \nShare this:\n				Share on Facebook (Opens in new window)\n				Facebook\n			\n				Email a link to a friend (Opens in new window)\n				Email\n			\n				Print (Opens in new window)\n				Print\n			Like this:Like Loading...
URL:https://reedcc.co.uk/event/general-committee-meeting-10-copy-copy-copy-copy-copy-copy-copy-copy/
LOCATION:Reed Cricket Club\, The Green\, Blacksmith's Lane\, Reed\, Hertfordshire\, SG8 8AX\, United Kingdom
CATEGORIES:Committee Meeting
END:VEVENT
BEGIN:VEVENT
DTSTART;TZID=Europe/London:20221105T173000
DTEND;TZID=Europe/London:20221105T213000
DTSTAMP:20260420T064833
CREATED:20221102T071805Z
LAST-MODIFIED:20221102T071805Z
UID:33009-1667669400-1667683800@reedcc.co.uk
SUMMARY:Reed Parish Council presents a Community Bonfire Night\, 5th November 2022
DESCRIPTION:Reed Parish Council presents a community Bonfire Night event on Saturday 5 November on Reed Green.   \nAs well as a firework display and a bonfire\, you’ll be able to enjoy drinks from the Cricket Club bar and a barbecue.   \nAdmission is free – but remember this is a crowdfunded event.   \nPlease give generously to the bucket collections on the night.  Donations and the proceeds of food sales go into a pot to enable the event to go ahead next year and future years.   \nShare this:\n				Share on Facebook (Opens in new window)\n				Facebook\n			\n				Email a link to a friend (Opens in new window)\n				Email\n			\n				Print (Opens in new window)\n				Print\n			Like this:Like Loading...
URL:https://reedcc.co.uk/event/reed-parish-council-presents-a-community-bonfire-night-5th-november-2022/
LOCATION:Reed Village Green\, Blacksmiths Lane\, Reed\, Hertfordshire\, SG8 8AX\, United Kingdom
CATEGORIES:News,Social
ORGANIZER;CN="Reed Parish Council":MAILTO:clerk@reedparishcouncil.co.uk
END:VEVENT
BEGIN:VEVENT
DTSTART;TZID=Europe/London:20221010T200000
DTEND;TZID=Europe/London:20221010T220000
DTSTAMP:20260420T064833
CREATED:20211206T083034Z
LAST-MODIFIED:20220908T085130Z
UID:32421-1665432000-1665439200@reedcc.co.uk
SUMMARY:General Committee Meeting
DESCRIPTION:General Committee Meetings to be held virtually until further notice. \nShare this:\n				Share on Facebook (Opens in new window)\n				Facebook\n			\n				Email a link to a friend (Opens in new window)\n				Email\n			\n				Print (Opens in new window)\n				Print\n			Like this:Like Loading...
URL:https://reedcc.co.uk/event/general-committee-meeting-10-copy-copy-copy-copy-copy-copy-copy/
LOCATION:Reed Cricket Club\, The Green\, Blacksmith's Lane\, Reed\, Hertfordshire\, SG8 8AX\, United Kingdom
CATEGORIES:Committee Meeting
END:VEVENT
BEGIN:VEVENT
DTSTART;TZID=Europe/London:20220921T130000
DTEND;TZID=Europe/London:20220921T200000
DTSTAMP:20260420T064833
CREATED:20210817T153008Z
LAST-MODIFIED:20220921T191349Z
UID:32200-1663765200-1663790400@reedcc.co.uk
SUMMARY:Reed Touring XI v West Bridgefordians CC (Away - Nottingham)
DESCRIPTION:Share this:\n				Share on Facebook (Opens in new window)\n				Facebook\n			\n				Email a link to a friend (Opens in new window)\n				Email\n			\n				Print (Opens in new window)\n				Print\n			Like this:Like Loading...
URL:https://reedcc.co.uk/event/reed-touring-xi-v-west-bridgefordians-cc-away-nottingham/
LOCATION:West Bridgfordians CC\, The Memorial Ground\, Stamford Road\, West Bridgford\, Nottingham\, NG2 6GF
CATEGORIES:Sunday XI (Friendly),Tour
END:VEVENT
BEGIN:VEVENT
DTSTART;TZID=Europe/London:20220921T130000
DTEND;TZID=Europe/London:20220921T190000
DTSTAMP:20260420T064833
CREATED:20210817T062110Z
LAST-MODIFIED:20220921T184234Z
UID:32194-1663765200-1663786800@reedcc.co.uk
SUMMARY:Sunday Touring XI v. West Bridgfordians (Away)
DESCRIPTION:Share this:\n				Share on Facebook (Opens in new window)\n				Facebook\n			\n				Email a link to a friend (Opens in new window)\n				Email\n			\n				Print (Opens in new window)\n				Print\n			Like this:Like Loading...
URL:https://reedcc.co.uk/event/sunday-touring-xi-v-west-bridgfordians-away/
CATEGORIES:Sunday XI (Friendly),Tour
END:VEVENT
BEGIN:VEVENT
DTSTART;TZID=Europe/London:20220920T130000
DTEND;TZID=Europe/London:20220920T193000
DTSTAMP:20260420T064833
CREATED:20210817T061212Z
LAST-MODIFIED:20220920T180229Z
UID:32191-1663678800-1663702200@reedcc.co.uk
SUMMARY:Cancelled - Sunday XI v. Guilden Morden (Home)  Copy
DESCRIPTION:Share this:\n				Share on Facebook (Opens in new window)\n				Facebook\n			\n				Email a link to a friend (Opens in new window)\n				Email\n			\n				Print (Opens in new window)\n				Print\n			Like this:Like Loading...
URL:https://reedcc.co.uk/event/sunday-xi-v-forest-gate-copy-copy-3-copy-copy-copy-copy-copy-copy-copy-copy-2-copy-2/
END:VEVENT
BEGIN:VEVENT
DTSTART;TZID=Europe/London:20220910T183000
DTEND;TZID=Europe/London:20220910T233000
DTSTAMP:20260420T064833
CREATED:20220609T065232Z
LAST-MODIFIED:20220818T080323Z
UID:32807-1662834600-1662852600@reedcc.co.uk
SUMMARY:Annual Dinner & Awards Presentation
DESCRIPTION:Annual Dinner & Awards Presentation\nTo be held at the Howard Marshall Pavilion\, Reed CC \nShare this:\n				Share on Facebook (Opens in new window)\n				Facebook\n			\n				Email a link to a friend (Opens in new window)\n				Email\n			\n				Print (Opens in new window)\n				Print\n			Like this:Like Loading...
URL:https://reedcc.co.uk/event/annual-dinner-awards-presentation-2/
LOCATION:Reed Cricket Club\, The Green\, Blacksmith's Lane\, Reed\, Hertfordshire\, SG8 8AX\, United Kingdom
CATEGORIES:News,Social
END:VEVENT
BEGIN:VEVENT
DTSTART;TZID=Europe/London:20220905T200000
DTEND;TZID=Europe/London:20220905T220000
DTSTAMP:20260420T064833
CREATED:20211206T082857Z
LAST-MODIFIED:20211206T083014Z
UID:32419-1662408000-1662415200@reedcc.co.uk
SUMMARY:General Committee Meeting
DESCRIPTION:General Committee Meetings to be held virtually until further notice. \nShare this:\n				Share on Facebook (Opens in new window)\n				Facebook\n			\n				Email a link to a friend (Opens in new window)\n				Email\n			\n				Print (Opens in new window)\n				Print\n			Like this:Like Loading...
URL:https://reedcc.co.uk/event/general-committee-meeting-10-copy-copy-copy-copy-copy-copy/
LOCATION:Reed Cricket Club\, The Green\, Blacksmith's Lane\, Reed\, Hertfordshire\, SG8 8AX\, United Kingdom
CATEGORIES:Committee Meeting
END:VEVENT
BEGIN:VEVENT
DTSTART;TZID=Europe/London:20220902T120000
DTEND;TZID=Europe/London:20220902T220000
DTSTAMP:20260420T064833
CREATED:20220818T080533Z
LAST-MODIFIED:20220818T081245Z
UID:32899-1662120000-1662156000@reedcc.co.uk
SUMMARY:Private Function
DESCRIPTION:Share this:\n				Share on Facebook (Opens in new window)\n				Facebook\n			\n				Email a link to a friend (Opens in new window)\n				Email\n			\n				Print (Opens in new window)\n				Print\n			Like this:Like Loading...
URL:https://reedcc.co.uk/event/private-function-2/
LOCATION:Reed Cricket Club\, The Green\, Blacksmith's Lane\, Reed\, Hertfordshire\, SG8 8AX\, United Kingdom
CATEGORIES:Private Party
END:VEVENT
BEGIN:VEVENT
DTSTART;TZID=Europe/London:20220808T200000
DTEND;TZID=Europe/London:20220808T220000
DTSTAMP:20260420T064833
CREATED:20211206T082754Z
LAST-MODIFIED:20220718T071124Z
UID:32417-1659988800-1659996000@reedcc.co.uk
SUMMARY:General Committee Meeting
DESCRIPTION:General Committee Meetings to be held virtually until further notice. \nShare this:\n				Share on Facebook (Opens in new window)\n				Facebook\n			\n				Email a link to a friend (Opens in new window)\n				Email\n			\n				Print (Opens in new window)\n				Print\n			Like this:Like Loading...
URL:https://reedcc.co.uk/event/general-committee-meeting-10-copy-copy-copy-copy-copy/
LOCATION:Reed Cricket Club\, The Green\, Blacksmith's Lane\, Reed\, Hertfordshire\, SG8 8AX\, United Kingdom
CATEGORIES:Committee Meeting
END:VEVENT
BEGIN:VEVENT
DTSTART;TZID=Europe/London:20220802T110000
DTEND;TZID=Europe/London:20220802T180000
DTSTAMP:20260420T064833
CREATED:20220218T104200Z
LAST-MODIFIED:20220218T104635Z
UID:32477-1659438000-1659463200@reedcc.co.uk
SUMMARY:County Youth Cricket: Herts North Area U12 v. Herts West Area U12
DESCRIPTION:County Youth Cricket: Herts North Area U12 v. Herts West Area U12 \nShare this:\n				Share on Facebook (Opens in new window)\n				Facebook\n			\n				Email a link to a friend (Opens in new window)\n				Email\n			\n				Print (Opens in new window)\n				Print\n			Like this:Like Loading...
URL:https://reedcc.co.uk/event/colts-herts-north-area-u12-v-herts-west-area-u12-copy-2-copy-2/
LOCATION:Reed Cricket Club\, The Green\, Blacksmith's Lane\, Reed\, Hertfordshire\, SG8 8AX\, United Kingdom
CATEGORIES:County Colts,County Youth Cricket,Youth Cricket
END:VEVENT
BEGIN:VEVENT
DTSTART;TZID=Europe/London:20220726T130000
DTEND;TZID=Europe/London:20220726T193000
DTSTAMP:20260420T064833
CREATED:20220121T133850Z
LAST-MODIFIED:20220121T134212Z
UID:32456-1658840400-1658863800@reedcc.co.uk
SUMMARY:Hertfordshire Over 60s v Cambridgeshire Over 60s
DESCRIPTION:Hertfordshire Over 60s v Cambridgeshire Over 60s \nShare this:\n				Share on Facebook (Opens in new window)\n				Facebook\n			\n				Email a link to a friend (Opens in new window)\n				Email\n			\n				Print (Opens in new window)\n				Print\n			Like this:Like Loading...
URL:https://reedcc.co.uk/event/hertfordshire-60s-v-bedfordshire-60s-copy-copy-copy-2-copy-copy-copy-copy-copy-2/
LOCATION:Reed Cricket Club\, The Green\, Blacksmith's Lane\, Reed\, Hertfordshire\, SG8 8AX\, United Kingdom
CATEGORIES:Herts Over 60s
ORGANIZER;CN="Matt Giblin":MAILTO:matt_giblin12@hotmail.com
END:VEVENT
BEGIN:VEVENT
DTSTART;TZID=Europe/London:20220724T130000
DTEND;TZID=Europe/London:20220724T210000
DTSTAMP:20260420T064833
CREATED:20211104T052724Z
LAST-MODIFIED:20220719T041050Z
UID:32372-1658667600-1658696400@reedcc.co.uk
SUMMARY:President's Day
DESCRIPTION:N.B. Date changed from 7th August. \nYouth Tournament. \nThe itinerary is as follows:\n09.30 – 11.30   U9’s Softball.\n11.30 – 12.30   Juniors’ tea.\n12.30 – 14.30   U11/U13 Hardball.\n15.00 – 19.00   U15/Adult match. \nShare this:\n				Share on Facebook (Opens in new window)\n				Facebook\n			\n				Email a link to a friend (Opens in new window)\n				Email\n			\n				Print (Opens in new window)\n				Print\n			Like this:Like Loading...
URL:https://reedcc.co.uk/event/presidents-day-2-copy-copy-copy-2/
LOCATION:Reed Cricket Club\, The Green\, Blacksmith's Lane\, Reed\, Hertfordshire\, SG8 8AX\, United Kingdom
CATEGORIES:News,President’s Day,Social
END:VEVENT
BEGIN:VEVENT
DTSTART;TZID=Europe/London:20220715T193000
DTEND;TZID=Europe/London:20220715T220000
DTSTAMP:20260420T064833
CREATED:20220609T064239Z
LAST-MODIFIED:20220609T064239Z
UID:32803-1657913400-1657922400@reedcc.co.uk
SUMMARY:Quiz Night\, Friday the 15th July
DESCRIPTION:Share this:\n				Share on Facebook (Opens in new window)\n				Facebook\n			\n				Email a link to a friend (Opens in new window)\n				Email\n			\n				Print (Opens in new window)\n				Print\n			Like this:Like Loading...
URL:https://reedcc.co.uk/event/quiz-night-friday-the-15th-july/
LOCATION:Reed Cricket Club\, The Green\, Blacksmith's Lane\, Reed\, Hertfordshire\, SG8 8AX\, United Kingdom
CATEGORIES:News,Social
END:VEVENT
BEGIN:VEVENT
DTSTART;TZID=Europe/London:20220714T130000
DTEND;TZID=Europe/London:20220714T193000
DTSTAMP:20260420T064833
CREATED:20220121T000318Z
LAST-MODIFIED:20220121T000601Z
UID:32447-1657803600-1657827000@reedcc.co.uk
SUMMARY:Hertfordshire Over 70s v Essex Over 70s
DESCRIPTION:Hertfordshire Over 70s v Essex Over 70s at Reed \nShare this:\n				Share on Facebook (Opens in new window)\n				Facebook\n			\n				Email a link to a friend (Opens in new window)\n				Email\n			\n				Print (Opens in new window)\n				Print\n			Like this:Like Loading...
URL:https://reedcc.co.uk/event/hertfordshire-60s-v-bedfordshire-60s-copy-copy-copy-2-copy-copy-copy-copy/
LOCATION:Reed Cricket Club\, The Green\, Blacksmith's Lane\, Reed\, Hertfordshire\, SG8 8AX\, United Kingdom
CATEGORIES:Herts Over 70s
ORGANIZER;CN="Matt Giblin":MAILTO:matt_giblin12@hotmail.com
END:VEVENT
BEGIN:VEVENT
DTSTART;TZID=Europe/London:20220710T130000
DTEND;TZID=Europe/London:20220710T210000
DTSTAMP:20260420T064833
CREATED:20211104T053042Z
LAST-MODIFIED:20211104T053228Z
UID:32375-1657458000-1657486800@reedcc.co.uk
SUMMARY:Chairman's Match
DESCRIPTION:Share this:\n				Share on Facebook (Opens in new window)\n				Facebook\n			\n				Email a link to a friend (Opens in new window)\n				Email\n			\n				Print (Opens in new window)\n				Print\n			Like this:Like Loading...
URL:https://reedcc.co.uk/event/chairmans-match-copy-copy-copy/
LOCATION:Reed Cricket Club\, The Green\, Blacksmith's Lane\, Reed\, Hertfordshire\, SG8 8AX\, United Kingdom
CATEGORIES:Chairman's Match,News,Social
END:VEVENT
BEGIN:VEVENT
DTSTART;TZID=Europe/London:20220704T200000
DTEND;TZID=Europe/London:20220704T220000
DTSTAMP:20260420T064833
CREATED:20211206T082553Z
LAST-MODIFIED:20211206T082656Z
UID:32415-1656964800-1656972000@reedcc.co.uk
SUMMARY:General Committee Meeting
DESCRIPTION:General Committee Meetings to be held virtually until further notice. \nShare this:\n				Share on Facebook (Opens in new window)\n				Facebook\n			\n				Email a link to a friend (Opens in new window)\n				Email\n			\n				Print (Opens in new window)\n				Print\n			Like this:Like Loading...
URL:https://reedcc.co.uk/event/general-committee-meeting-10-copy-copy-copy-copy/
LOCATION:Reed Cricket Club\, The Green\, Blacksmith's Lane\, Reed\, Hertfordshire\, SG8 8AX\, United Kingdom
CATEGORIES:Committee Meeting
END:VEVENT
BEGIN:VEVENT
DTSTART;TZID=Europe/London:20220630T130000
DTEND;TZID=Europe/London:20220630T193000
DTSTAMP:20260420T064833
CREATED:20220121T000706Z
LAST-MODIFIED:20220121T000842Z
UID:32450-1656594000-1656617400@reedcc.co.uk
SUMMARY:Hertfordshire Over 70s v Cambs & Hunts Over 70s
DESCRIPTION:Hertfordshire Over 70s v Cambs & Hunts Over 70s at Reed \nShare this:\n				Share on Facebook (Opens in new window)\n				Facebook\n			\n				Email a link to a friend (Opens in new window)\n				Email\n			\n				Print (Opens in new window)\n				Print\n			Like this:Like Loading...
URL:https://reedcc.co.uk/event/hertfordshire-60s-v-bedfordshire-60s-copy-copy-copy-2-copy-copy-copy-copy-copy/
LOCATION:Reed Cricket Club\, The Green\, Blacksmith's Lane\, Reed\, Hertfordshire\, SG8 8AX\, United Kingdom
CATEGORIES:Herts Over 70s
ORGANIZER;CN="Matt Giblin":MAILTO:matt_giblin12@hotmail.com
END:VEVENT
BEGIN:VEVENT
DTSTART;TZID=Europe/London:20220606T200000
DTEND;TZID=Europe/London:20220606T220000
DTSTAMP:20260420T064833
CREATED:20211206T082259Z
LAST-MODIFIED:20211206T082405Z
UID:32412-1654545600-1654552800@reedcc.co.uk
SUMMARY:General Committee Meeting
DESCRIPTION:General Committee Meetings to be held virtually until further notice. \nShare this:\n				Share on Facebook (Opens in new window)\n				Facebook\n			\n				Email a link to a friend (Opens in new window)\n				Email\n			\n				Print (Opens in new window)\n				Print\n			Like this:Like Loading...
URL:https://reedcc.co.uk/event/general-committee-meeting-10-copy-copy-copy/
LOCATION:Reed Cricket Club\, The Green\, Blacksmith's Lane\, Reed\, Hertfordshire\, SG8 8AX\, United Kingdom
CATEGORIES:Committee Meeting
END:VEVENT
BEGIN:VEVENT
DTSTART;TZID=Europe/London:20220513T193000
DTEND;TZID=Europe/London:20220513T220000
DTSTAMP:20260420T064833
CREATED:20220509T223942Z
LAST-MODIFIED:20220509T223942Z
UID:32749-1652470200-1652479200@reedcc.co.uk
SUMMARY:Quiz Night\, Friday the 13th!
DESCRIPTION:Share this:\n				Share on Facebook (Opens in new window)\n				Facebook\n			\n				Email a link to a friend (Opens in new window)\n				Email\n			\n				Print (Opens in new window)\n				Print\n			Like this:Like Loading...
URL:https://reedcc.co.uk/event/quiz-night-friday-the-13th/
LOCATION:Reed Cricket Club\, The Green\, Blacksmith's Lane\, Reed\, Hertfordshire\, SG8 8AX\, United Kingdom
CATEGORIES:News,Social
ATTACH;FMTTYPE=image/png:https://reedcc.co.uk/wp-content/uploads/2022/05/image.png
END:VEVENT
END:VCALENDAR