BEGIN:VCALENDAR
VERSION:2.0
PRODID:-//Reed Cricket Club - ECPv6.15.20//NONSGML v1.0//EN
CALSCALE:GREGORIAN
METHOD:PUBLISH
X-WR-CALNAME:Reed Cricket Club
X-ORIGINAL-URL:https://reedcc.co.uk
X-WR-CALDESC:Events for Reed Cricket Club
REFRESH-INTERVAL;VALUE=DURATION:PT1H
X-Robots-Tag:noindex
X-PUBLISHED-TTL:PT1H
BEGIN:VTIMEZONE
TZID:Europe/London
BEGIN:DAYLIGHT
TZOFFSETFROM:+0000
TZOFFSETTO:+0100
TZNAME:BST
DTSTART:20200329T010000
END:DAYLIGHT
BEGIN:STANDARD
TZOFFSETFROM:+0100
TZOFFSETTO:+0000
TZNAME:GMT
DTSTART:20201025T010000
END:STANDARD
BEGIN:DAYLIGHT
TZOFFSETFROM:+0000
TZOFFSETTO:+0100
TZNAME:BST
DTSTART:20210328T010000
END:DAYLIGHT
BEGIN:STANDARD
TZOFFSETFROM:+0100
TZOFFSETTO:+0000
TZNAME:GMT
DTSTART:20211031T010000
END:STANDARD
BEGIN:DAYLIGHT
TZOFFSETFROM:+0000
TZOFFSETTO:+0100
TZNAME:BST
DTSTART:20220327T010000
END:DAYLIGHT
BEGIN:STANDARD
TZOFFSETFROM:+0100
TZOFFSETTO:+0000
TZNAME:GMT
DTSTART:20221030T010000
END:STANDARD
BEGIN:DAYLIGHT
TZOFFSETFROM:+0000
TZOFFSETTO:+0100
TZNAME:BST
DTSTART:20230326T010000
END:DAYLIGHT
BEGIN:STANDARD
TZOFFSETFROM:+0100
TZOFFSETTO:+0000
TZNAME:GMT
DTSTART:20231029T010000
END:STANDARD
END:VTIMEZONE
BEGIN:VEVENT
DTSTART;TZID=Europe/London:20220802T110000
DTEND;TZID=Europe/London:20220802T180000
DTSTAMP:20260422T123659
CREATED:20220218T104200Z
LAST-MODIFIED:20220218T104635Z
UID:32477-1659438000-1659463200@reedcc.co.uk
SUMMARY:County Youth Cricket: Herts North Area U12 v. Herts West Area U12
DESCRIPTION:County Youth Cricket: Herts North Area U12 v. Herts West Area U12 \nShare this:\n				Share on Facebook (Opens in new window)\n				Facebook\n			\n				Email a link to a friend (Opens in new window)\n				Email\n			\n				Print (Opens in new window)\n				Print\n			Like this:Like Loading...
URL:https://reedcc.co.uk/event/colts-herts-north-area-u12-v-herts-west-area-u12-copy-2-copy-2/
LOCATION:Reed Cricket Club\, The Green\, Blacksmith's Lane\, Reed\, Hertfordshire\, SG8 8AX\, United Kingdom
CATEGORIES:County Colts,County Youth Cricket,Youth Cricket
END:VEVENT
BEGIN:VEVENT
DTSTART;TZID=Europe/London:20210729T110000
DTEND;TZID=Europe/London:20210729T180000
DTSTAMP:20260422T123659
CREATED:20210318T084400Z
LAST-MODIFIED:20210318T084758Z
UID:31331-1627556400-1627581600@reedcc.co.uk
SUMMARY:County Youth Cricket: Herts North Area U10 v. Herts West Area U10
DESCRIPTION:County Youth Cricket: Herts North Area U10 v. Herts West Area U10 \nShare this:\n				Share on Facebook (Opens in new window)\n				Facebook\n			\n				Email a link to a friend (Opens in new window)\n				Email\n			\n				Print (Opens in new window)\n				Print\n			Like this:Like Loading...
URL:https://reedcc.co.uk/event/colts-herts-north-area-u12-v-herts-west-area-u12-copy-2-copy/
LOCATION:Reed Cricket Club\, The Green\, Blacksmith's Lane\, Reed\, Hertfordshire\, SG8 8AX\, United Kingdom
CATEGORIES:County Colts,County Youth Cricket,Youth Cricket
END:VEVENT
BEGIN:VEVENT
DTSTART;TZID=Europe/London:20210728T110000
DTEND;TZID=Europe/London:20210728T180000
DTSTAMP:20260422T123659
CREATED:20210318T083042Z
LAST-MODIFIED:20210318T084130Z
UID:31328-1627470000-1627495200@reedcc.co.uk
SUMMARY:County Youth Cricket: Herts North Area U13 v. Herts West Area U13
DESCRIPTION:County Youth Cricket: Herts North Area U13 v. Herts West Area U13 \nShare this:\n				Share on Facebook (Opens in new window)\n				Facebook\n			\n				Email a link to a friend (Opens in new window)\n				Email\n			\n				Print (Opens in new window)\n				Print\n			Like this:Like Loading...
URL:https://reedcc.co.uk/event/colts-herts-north-area-u12-v-herts-west-area-u12-copy-2/
LOCATION:Reed Cricket Club\, The Green\, Blacksmith's Lane\, Reed\, Hertfordshire\, SG8 8AX\, United Kingdom
CATEGORIES:County Colts,County Youth Cricket,Youth Cricket
END:VEVENT
END:VCALENDAR