BEGIN:VCALENDAR
VERSION:2.0
PRODID:-//Reed Cricket Club - ECPv6.15.20//NONSGML v1.0//EN
CALSCALE:GREGORIAN
METHOD:PUBLISH
X-WR-CALNAME:Reed Cricket Club
X-ORIGINAL-URL:https://reedcc.co.uk
X-WR-CALDESC:Events for Reed Cricket Club
REFRESH-INTERVAL;VALUE=DURATION:PT1H
X-Robots-Tag:noindex
X-PUBLISHED-TTL:PT1H
BEGIN:VTIMEZONE
TZID:Europe/London
BEGIN:DAYLIGHT
TZOFFSETFROM:+0000
TZOFFSETTO:+0100
TZNAME:BST
DTSTART:20190331T010000
END:DAYLIGHT
BEGIN:STANDARD
TZOFFSETFROM:+0100
TZOFFSETTO:+0000
TZNAME:GMT
DTSTART:20191027T010000
END:STANDARD
BEGIN:DAYLIGHT
TZOFFSETFROM:+0000
TZOFFSETTO:+0100
TZNAME:BST
DTSTART:20200329T010000
END:DAYLIGHT
BEGIN:STANDARD
TZOFFSETFROM:+0100
TZOFFSETTO:+0000
TZNAME:GMT
DTSTART:20201025T010000
END:STANDARD
BEGIN:DAYLIGHT
TZOFFSETFROM:+0000
TZOFFSETTO:+0100
TZNAME:BST
DTSTART:20210328T010000
END:DAYLIGHT
BEGIN:STANDARD
TZOFFSETFROM:+0100
TZOFFSETTO:+0000
TZNAME:GMT
DTSTART:20211031T010000
END:STANDARD
BEGIN:DAYLIGHT
TZOFFSETFROM:+0000
TZOFFSETTO:+0100
TZNAME:BST
DTSTART:20220327T010000
END:DAYLIGHT
BEGIN:STANDARD
TZOFFSETFROM:+0100
TZOFFSETTO:+0000
TZNAME:GMT
DTSTART:20221030T010000
END:STANDARD
END:VTIMEZONE
BEGIN:VEVENT
DTSTART;TZID=Europe/London:20210730T180000
DTEND;TZID=Europe/London:20210730T200000
DTSTAMP:20260422T135129
CREATED:20210722T060321Z
LAST-MODIFIED:20210722T060738Z
UID:32103-1627668000-1627675200@reedcc.co.uk
SUMMARY:Under 15s v Little Shelford (Home)
DESCRIPTION:Cambridgeshire Youth Cricket Association\, U15 Premier Division \nRefer to:  www.cyca.play-cricket.com \nShare this:\n				Share on Facebook (Opens in new window)\n				Facebook\n			\n				Email a link to a friend (Opens in new window)\n				Email\n			\n				Print (Opens in new window)\n				Print\n			Like this:Like Loading...
URL:https://reedcc.co.uk/event/date-tba-under-15s-v-godmanchester-town-home-copy-2-copy-copy-copy-2/
LOCATION:Reed Cricket Club\, The Green\, Blacksmith's Lane\, Reed\, Hertfordshire\, SG8 8AX\, United Kingdom
CATEGORIES:Colts Under 15,U15,Youth Cricket
END:VEVENT
BEGIN:VEVENT
DTSTART;TZID=Europe/London:20210720T180000
DTEND;TZID=Europe/London:20210720T200000
DTSTAMP:20260422T135129
CREATED:20210609T073553Z
LAST-MODIFIED:20210609T073819Z
UID:31895-1626804000-1626811200@reedcc.co.uk
SUMMARY:Under 15s v Little Shelford (Home)
DESCRIPTION:Cambridgeshire Youth Cricket Association\, U15 Premier Division \nRefer to:  www.cyca.play-cricket.com \nShare this:\n				Share on Facebook (Opens in new window)\n				Facebook\n			\n				Email a link to a friend (Opens in new window)\n				Email\n			\n				Print (Opens in new window)\n				Print\n			Like this:Like Loading...
URL:https://reedcc.co.uk/event/date-tba-under-15s-v-godmanchester-town-home-copy-2-copy-copy/
LOCATION:Reed Cricket Club\, The Green\, Blacksmith's Lane\, Reed\, Hertfordshire\, SG8 8AX\, United Kingdom
CATEGORIES:Colts Under 15,U15,Youth Cricket
END:VEVENT
BEGIN:VEVENT
DTSTART;TZID=Europe/London:20210716T180000
DTEND;TZID=Europe/London:20210716T200000
DTSTAMP:20260422T135129
CREATED:20210606T114225Z
LAST-MODIFIED:20210606T114340Z
UID:31891-1626458400-1626465600@reedcc.co.uk
SUMMARY:Under 15s v Saffron Walden (Home)
DESCRIPTION:Cambridgeshire Youth Cricket Association\, U15 Premier Division \nRefer to:  www.cyca.play-cricket.com \nShare this:\n				Share on Facebook (Opens in new window)\n				Facebook\n			\n				Email a link to a friend (Opens in new window)\n				Email\n			\n				Print (Opens in new window)\n				Print\n			Like this:Like Loading...
URL:https://reedcc.co.uk/event/date-tba-under-15s-v-godmanchester-town-home-copy-2-copy-2/
LOCATION:Reed Cricket Club\, The Green\, Blacksmith's Lane\, Reed\, Hertfordshire\, SG8 8AX\, United Kingdom
CATEGORIES:Colts Under 15,U15,Youth Cricket
END:VEVENT
BEGIN:VEVENT
DTSTART;TZID=Europe/London:20210708T180000
DTEND;TZID=Europe/London:20210708T200000
DTSTAMP:20260422T135129
CREATED:20210413T073739Z
LAST-MODIFIED:20210427T082955Z
UID:31619-1625767200-1625774400@reedcc.co.uk
SUMMARY:Under 15s v Saffron Walden (Away)
DESCRIPTION:Cambridgeshire Youth Cricket Association\, U15 Premier Division \nRefer to:  www.cyca.play-cricket.com \nShare this:\n				Share on Facebook (Opens in new window)\n				Facebook\n			\n				Email a link to a friend (Opens in new window)\n				Email\n			\n				Print (Opens in new window)\n				Print\n			Like this:Like Loading...
URL:https://reedcc.co.uk/event/date-tba-under-15s-v-godmanchester-town-home-copy-2-copy-copy-copy-copy-copy-copy/
LOCATION:Saffron Walden CC\, Saffron Walden\, United Kingdom
CATEGORIES:Colts Under 15,U15,Youth Cricket
END:VEVENT
BEGIN:VEVENT
DTSTART;TZID=Europe/London:20210702T180000
DTEND;TZID=Europe/London:20210702T200000
DTSTAMP:20260422T135129
CREATED:20210413T071008Z
LAST-MODIFIED:20210427T085459Z
UID:31593-1625248800-1625256000@reedcc.co.uk
SUMMARY:Under 15s v Godmanchester Town (Home)
DESCRIPTION:Cambridgeshire Youth Cricket Association\, U15 Premier Division \nRefer to:  www.cyca.play-cricket.com \nShare this:\n				Share on Facebook (Opens in new window)\n				Facebook\n			\n				Email a link to a friend (Opens in new window)\n				Email\n			\n				Print (Opens in new window)\n				Print\n			Like this:Like Loading...
URL:https://reedcc.co.uk/event/date-tba-under-15s-v-godmanchester-town-home/
LOCATION:Reed Cricket Club\, The Green\, Blacksmith's Lane\, Reed\, Hertfordshire\, SG8 8AX\, United Kingdom
CATEGORIES:Colts Under 15,U15,Youth Cricket
END:VEVENT
BEGIN:VEVENT
DTSTART;TZID=Europe/London:20210701T180000
DTEND;TZID=Europe/London:20210701T200000
DTSTAMP:20260422T135129
CREATED:20210413T072841Z
LAST-MODIFIED:20210427T083349Z
UID:31612-1625162400-1625169600@reedcc.co.uk
SUMMARY:Under 15s v Little Shelford (Away)
DESCRIPTION:Cambridgeshire Youth Cricket Association\, U15 Premier Division \nRefer to:  www.cyca.play-cricket.com \nShare this:\n				Share on Facebook (Opens in new window)\n				Facebook\n			\n				Email a link to a friend (Opens in new window)\n				Email\n			\n				Print (Opens in new window)\n				Print\n			Like this:Like Loading...
URL:https://reedcc.co.uk/event/date-tba-under-15s-v-godmanchester-town-home-copy-2-copy-copy-copy-copy/
LOCATION:Little Shelford CC\, The Wale Recreation Ground\, Little Shelford\, Cambridgeshire\, CB22 5EP\, United Kingdom
CATEGORIES:Colts Under 15,U15,Youth Cricket
END:VEVENT
BEGIN:VEVENT
DTSTART;TZID=Europe/London:20210625T180000
DTEND;TZID=Europe/London:20210625T200000
DTSTAMP:20260422T135129
CREATED:20210621T060618Z
LAST-MODIFIED:20210621T060748Z
UID:31956-1624644000-1624651200@reedcc.co.uk
SUMMARY:Under 15s v Thriplow (Away)
DESCRIPTION:Cambridgeshire Youth Cricket Association\, U15 Premier Division \nRefer to:  www.cyca.play-cricket.com \nVenue: Fowlmere Cricket Ground \nShare this:\n				Share on Facebook (Opens in new window)\n				Facebook\n			\n				Email a link to a friend (Opens in new window)\n				Email\n			\n				Print (Opens in new window)\n				Print\n			Like this:Like Loading...
URL:https://reedcc.co.uk/event/date-tba-under-15s-v-godmanchester-town-home-copy-2-copy-copy-copy-copy-copy-copy-2/
LOCATION:Fowlmere Cricket Ground\, Chrishall Road\, Fowlmere\, SG8 7RY\, United Kingdom
CATEGORIES:Colts Under 15,U15,Youth Cricket
END:VEVENT
BEGIN:VEVENT
DTSTART;TZID=Europe/London:20210624T180000
DTEND;TZID=Europe/London:20210624T200000
DTSTAMP:20260422T135129
CREATED:20210606T113734Z
LAST-MODIFIED:20210606T113937Z
UID:31888-1624557600-1624564800@reedcc.co.uk
SUMMARY:Under 15s v Thriplow (Home)
DESCRIPTION:Cambridgeshire Youth Cricket Association\, U15 Premier Division \nRefer to:  www.cyca.play-cricket.com \nShare this:\n				Share on Facebook (Opens in new window)\n				Facebook\n			\n				Email a link to a friend (Opens in new window)\n				Email\n			\n				Print (Opens in new window)\n				Print\n			Like this:Like Loading...
URL:https://reedcc.co.uk/event/date-tba-under-15s-v-godmanchester-town-home-copy-copy/
LOCATION:Reed Cricket Club\, The Green\, Blacksmith's Lane\, Reed\, Hertfordshire\, SG8 8AX\, United Kingdom
CATEGORIES:Colts Under 15,U15,Youth Cricket
END:VEVENT
BEGIN:VEVENT
DTSTART;TZID=Europe/London:20210618T180000
DTEND;TZID=Europe/London:20210618T200000
DTSTAMP:20260422T135129
CREATED:20210413T073456Z
LAST-MODIFIED:20210619T060028Z
UID:31616-1624039200-1624046400@reedcc.co.uk
SUMMARY:Under 15s v Thriplow (Away)
DESCRIPTION:Cambridgeshire Youth Cricket Association\, U15 Premier Division \nRefer to:  www.cyca.play-cricket.com \nVenue: Fowlmere Cricket Ground \nShare this:\n				Share on Facebook (Opens in new window)\n				Facebook\n			\n				Email a link to a friend (Opens in new window)\n				Email\n			\n				Print (Opens in new window)\n				Print\n			Like this:Like Loading...
URL:https://reedcc.co.uk/event/date-tba-under-15s-v-godmanchester-town-home-copy-2-copy-copy-copy-copy-copy/
LOCATION:Fowlmere Cricket Ground\, Chrishall Road\, Fowlmere\, SG8 7RY\, United Kingdom
CATEGORIES:Colts Under 15,U15,Youth Cricket
END:VEVENT
BEGIN:VEVENT
DTSTART;TZID=Europe/London:20210617T174500
DTEND;TZID=Europe/London:20210617T200000
DTSTAMP:20260422T135129
CREATED:20210609T074502Z
LAST-MODIFIED:20210609T075010Z
UID:31899-1623951900-1623960000@reedcc.co.uk
SUMMARY:Under 15 v Braughing (Away)
DESCRIPTION:Friendly \nShare this:\n				Share on Facebook (Opens in new window)\n				Facebook\n			\n				Email a link to a friend (Opens in new window)\n				Email\n			\n				Print (Opens in new window)\n				Print\n			Like this:Like Loading...
URL:https://reedcc.co.uk/event/date-tba-under-15s-v-godmanchester-town-home-copy-2-copy-copy-2/
LOCATION:Braughing CC\, Green Lane\, Braughing\, SG11 2QN\, United Kingdom
CATEGORIES:Colts Under 15,U15,Youth Cricket
END:VEVENT
BEGIN:VEVENT
DTSTART;TZID=Europe/London:20210610T180000
DTEND;TZID=Europe/London:20210610T200000
DTSTAMP:20260422T135129
CREATED:20210413T071940Z
LAST-MODIFIED:20210609T074346Z
UID:31603-1623348000-1623355200@reedcc.co.uk
SUMMARY:Cancelled - Under 15s v Little Shelford (Home)
DESCRIPTION:Conceded by Little Shelford \nCambridgeshire Youth Cricket Association\, U15 Premier Division \nRefer to:  www.cyca.play-cricket.com \nShare this:\n				Share on Facebook (Opens in new window)\n				Facebook\n			\n				Email a link to a friend (Opens in new window)\n				Email\n			\n				Print (Opens in new window)\n				Print\n			Like this:Like Loading...
URL:https://reedcc.co.uk/event/date-tba-under-15s-v-godmanchester-town-home-copy-2-copy/
LOCATION:Reed Cricket Club\, The Green\, Blacksmith's Lane\, Reed\, Hertfordshire\, SG8 8AX\, United Kingdom
CATEGORIES:Colts Under 15,U15,Youth Cricket
END:VEVENT
BEGIN:VEVENT
DTSTART;TZID=Europe/London:20210603T180000
DTEND;TZID=Europe/London:20210603T200000
DTSTAMP:20260422T135129
CREATED:20210413T071720Z
LAST-MODIFIED:20210427T085019Z
UID:31600-1622743200-1622750400@reedcc.co.uk
SUMMARY:Under 15s v Saffron Walden (Home)
DESCRIPTION:Cambridgeshire Youth Cricket Association\, U15 Premier Division \nRefer to:  www.cyca.play-cricket.com \nShare this:\n				Share on Facebook (Opens in new window)\n				Facebook\n			\n				Email a link to a friend (Opens in new window)\n				Email\n			\n				Print (Opens in new window)\n				Print\n			Like this:Like Loading...
URL:https://reedcc.co.uk/event/date-tba-under-15s-v-godmanchester-town-home-copy-2/
LOCATION:Reed Cricket Club\, The Green\, Blacksmith's Lane\, Reed\, Hertfordshire\, SG8 8AX\, United Kingdom
CATEGORIES:Colts Under 15,U15,Youth Cricket
END:VEVENT
BEGIN:VEVENT
DTSTART;TZID=Europe/London:20210526T180000
DTEND;TZID=Europe/London:20210526T200000
DTSTAMP:20260422T135129
CREATED:20210519T082202Z
LAST-MODIFIED:20210519T082308Z
UID:31820-1622052000-1622059200@reedcc.co.uk
SUMMARY:Under 15s v Royston (Away)
DESCRIPTION:Cambridgeshire Youth Cricket Association\, U15 Cup Competition \nRefer to:  www.cyca.play-cricket.com \nShare this:\n				Share on Facebook (Opens in new window)\n				Facebook\n			\n				Email a link to a friend (Opens in new window)\n				Email\n			\n				Print (Opens in new window)\n				Print\n			Like this:Like Loading...
URL:https://reedcc.co.uk/event/date-tba-under-15s-v-godmanchester-town-home-copy-2-copy-copy-copy-copy-2/
LOCATION:Therfield Cricket Ground\, Therfield\, Herts\, sg8\, United Kingdom
CATEGORIES:Colts Under 15,U15,Youth Cricket
END:VEVENT
BEGIN:VEVENT
DTSTART;TZID=Europe/London:20210521T180000
DTEND;TZID=Europe/London:20210521T200000
DTSTAMP:20260422T135129
CREATED:20210413T071100Z
LAST-MODIFIED:20210427T085258Z
UID:31595-1621620000-1621627200@reedcc.co.uk
SUMMARY:Under 15s v Thriplow (Home)
DESCRIPTION:Cambridgeshire Youth Cricket Association\, U15 Premier Division \nRefer to:  www.cyca.play-cricket.com \nShare this:\n				Share on Facebook (Opens in new window)\n				Facebook\n			\n				Email a link to a friend (Opens in new window)\n				Email\n			\n				Print (Opens in new window)\n				Print\n			Like this:Like Loading...
URL:https://reedcc.co.uk/event/date-tba-under-15s-v-godmanchester-town-home-copy/
LOCATION:Reed Cricket Club\, The Green\, Blacksmith's Lane\, Reed\, Hertfordshire\, SG8 8AX\, United Kingdom
CATEGORIES:Colts Under 15,U15,Youth Cricket
END:VEVENT
BEGIN:VEVENT
DTSTART;TZID=Europe/London:20210513T180000
DTEND;TZID=Europe/London:20210513T200000
DTSTAMP:20260422T135129
CREATED:20210413T072618Z
LAST-MODIFIED:20210427T084344Z
UID:31610-1620928800-1620936000@reedcc.co.uk
SUMMARY:Under 15s v Royston (Away)
DESCRIPTION:Cambridgeshire Youth Cricket Association\, U15 Cup Competition \nRefer to:  www.cyca.play-cricket.com \nShare this:\n				Share on Facebook (Opens in new window)\n				Facebook\n			\n				Email a link to a friend (Opens in new window)\n				Email\n			\n				Print (Opens in new window)\n				Print\n			Like this:Like Loading...
URL:https://reedcc.co.uk/event/date-tba-under-15s-v-godmanchester-town-home-copy-2-copy-copy-copy/
LOCATION:Therfield Cricket Ground\, Therfield\, Herts\, sg8\, United Kingdom
CATEGORIES:Colts Under 15,U15,Youth Cricket
END:VEVENT
BEGIN:VEVENT
DTSTART;TZID=Europe/London:20210510T180000
DTEND;TZID=Europe/London:20210510T200000
DTSTAMP:20260422T135129
CREATED:20210413T074021Z
LAST-MODIFIED:20210427T082754Z
UID:31622-1620669600-1620676800@reedcc.co.uk
SUMMARY:Under 15s v Godmanchester Town (Away)
DESCRIPTION:Cambridgeshire Youth Cricket Association\, U15 Premier Division\nRefer to:  www.cyca.play-cricket.com \nShare this:\n				Share on Facebook (Opens in new window)\n				Facebook\n			\n				Email a link to a friend (Opens in new window)\n				Email\n			\n				Print (Opens in new window)\n				Print\n			Like this:Like Loading...
URL:https://reedcc.co.uk/event/date-tba-under-15s-v-godmanchester-town-home-copy-2-copy-copy-copy-copy-copy-copy-copy/
LOCATION:Godmanchester Town CC\, The Parks\, Fox Grove\, Godmanchester\, Huntingdonshire\, PE29 2BN\, United Kingdom
CATEGORIES:Colts Under 15,U15,Youth Cricket
END:VEVENT
BEGIN:VEVENT
DTSTART;TZID=Europe/London:20200901T173000
DTEND;TZID=Europe/London:20200901T200000
DTSTAMP:20260422T135129
CREATED:20200807T063222Z
LAST-MODIFIED:20200807T063345Z
UID:30549-1598981400-1598990400@reedcc.co.uk
SUMMARY:GOING AHEAD - Under 15s v Bedford (Away)
DESCRIPTION:Share this:\n				Share on Facebook (Opens in new window)\n				Facebook\n			\n				Email a link to a friend (Opens in new window)\n				Email\n			\n				Print (Opens in new window)\n				Print\n			Like this:Like Loading...
URL:https://reedcc.co.uk/event/going-ahead-under-10s-v-knebworth-park-away-copy-copy-copy-copy-copy-copy-copy/
LOCATION:Bedford
CATEGORIES:Colts Under 15
END:VEVENT
BEGIN:VEVENT
DTSTART;TZID=Europe/London:20200821T180000
DTEND;TZID=Europe/London:20200821T203000
DTSTAMP:20260422T135129
CREATED:20200806T061815Z
LAST-MODIFIED:20200806T080435Z
UID:30490-1598032800-1598041800@reedcc.co.uk
SUMMARY:GOING AHEAD - Under 15s versus Coaches
DESCRIPTION:ORGANISERS:\nTeam Liaison Officer Hannah Heslam on 07793 025001\nTeam Manager Ian Osborne on 07717 661980\nCoach Coordinator Richard Barlow on 07760 250341. \nShare this:\n				Share on Facebook (Opens in new window)\n				Facebook\n			\n				Email a link to a friend (Opens in new window)\n				Email\n			\n				Print (Opens in new window)\n				Print\n			Like this:Like Loading...
URL:https://reedcc.co.uk/event/small-group-coaching-under-15-colts-going-ahead-copy-copy-copy/
LOCATION:Reed Cricket Club\, The Green\, Blacksmith's Lane\, Reed\, Hertfordshire\, SG8 8AX\, United Kingdom
CATEGORIES:Colts Under 15
END:VEVENT
BEGIN:VEVENT
DTSTART;TZID=Europe/London:20200820T173000
DTEND;TZID=Europe/London:20200820T200000
DTSTAMP:20260422T135129
CREATED:20200807T062952Z
LAST-MODIFIED:20200807T063154Z
UID:30545-1597944600-1597953600@reedcc.co.uk
SUMMARY:GOING AHEAD - Under 15s v Waresley (Away)
DESCRIPTION:Share this:\n				Share on Facebook (Opens in new window)\n				Facebook\n			\n				Email a link to a friend (Opens in new window)\n				Email\n			\n				Print (Opens in new window)\n				Print\n			Like this:Like Loading...
URL:https://reedcc.co.uk/event/going-ahead-under-10s-v-knebworth-park-away-copy-copy-copy-copy-copy-copy/
LOCATION:Waresley CC
CATEGORIES:Colts Under 15
END:VEVENT
BEGIN:VEVENT
DTSTART;TZID=Europe/London:20200814T173000
DTEND;TZID=Europe/London:20200814T200000
DTSTAMP:20260422T135129
CREATED:20200807T062829Z
LAST-MODIFIED:20200807T062914Z
UID:30543-1597426200-1597435200@reedcc.co.uk
SUMMARY:GOING AHEAD - Under 15s v TBA (Home)
DESCRIPTION:Share this:\n				Share on Facebook (Opens in new window)\n				Facebook\n			\n				Email a link to a friend (Opens in new window)\n				Email\n			\n				Print (Opens in new window)\n				Print\n			Like this:Like Loading...
URL:https://reedcc.co.uk/event/going-ahead-under-10s-v-knebworth-park-away-copy-copy-copy-copy-copy/
LOCATION:Reed Cricket Club\, The Green\, Blacksmith's Lane\, Reed\, Hertfordshire\, SG8 8AX\, United Kingdom
CATEGORIES:Colts Under 15
END:VEVENT
BEGIN:VEVENT
DTSTART;TZID=Europe/London:20200810T180000
DTEND;TZID=Europe/London:20200810T203000
DTSTAMP:20260422T135129
CREATED:20200725T070751Z
LAST-MODIFIED:20200725T071017Z
UID:30300-1597082400-1597091400@reedcc.co.uk
SUMMARY:GOING AHEAD - U15 Colts v. Saffron Walden. Away. Cambridgeshire Youth Cricket Association
DESCRIPTION:U15 Colts v. Saffron Walden. Away. Cambridgeshire Youth Cricket Association\, Under 15 Premier Division.\nMatches are 20 overs per side. \nShare this:\n				Share on Facebook (Opens in new window)\n				Facebook\n			\n				Email a link to a friend (Opens in new window)\n				Email\n			\n				Print (Opens in new window)\n				Print\n			Like this:Like Loading...
URL:https://reedcc.co.uk/event/u13-colts-v-preston-home-herts-summer-league-copy-copy-copy-copy-copy-2-copy-copy-copy-copy-copy-copy-copy-copy-copy-2-copy-copy-copy-copy-copy-copy-copy-copy-copy-3-copy-2/
LOCATION:Saffron Walden CC\, Saffron Walden\, United Kingdom
CATEGORIES:Colts Under 15
END:VEVENT
BEGIN:VEVENT
DTSTART;TZID=Europe/London:20200807T173000
DTEND;TZID=Europe/London:20200807T200000
DTSTAMP:20260422T135129
CREATED:20200807T062634Z
LAST-MODIFIED:20200807T062758Z
UID:30540-1596821400-1596830400@reedcc.co.uk
SUMMARY:GOING AHEAD - Under 15s v Saffron Walden (Home)
DESCRIPTION:Share this:\n				Share on Facebook (Opens in new window)\n				Facebook\n			\n				Email a link to a friend (Opens in new window)\n				Email\n			\n				Print (Opens in new window)\n				Print\n			Like this:Like Loading...
URL:https://reedcc.co.uk/event/going-ahead-under-10s-v-knebworth-park-away-copy-copy-copy-copy/
LOCATION:Reed Cricket Club\, The Green\, Blacksmith's Lane\, Reed\, Hertfordshire\, SG8 8AX\, United Kingdom
CATEGORIES:Colts Under 15
END:VEVENT
BEGIN:VEVENT
DTSTART;TZID=Europe/London:20200803T180000
DTEND;TZID=Europe/London:20200803T203000
DTSTAMP:20260422T135129
CREATED:20200725T071225Z
LAST-MODIFIED:20200725T071446Z
UID:30307-1596477600-1596486600@reedcc.co.uk
SUMMARY:GOING AHEAD - U15 Colts v. Little Shelford. Home. Cambridgeshire Youth Cricket Association
DESCRIPTION:U15 Colts v. Little Shelford. Home. Cambridgeshire Youth Cricket Association\, Under 15 Premier Division.\nMatches are 20 overs per side. \nShare this:\n				Share on Facebook (Opens in new window)\n				Facebook\n			\n				Email a link to a friend (Opens in new window)\n				Email\n			\n				Print (Opens in new window)\n				Print\n			Like this:Like Loading...
URL:https://reedcc.co.uk/event/u13-colts-v-preston-home-herts-summer-league-copy-copy-copy-copy-copy-2-copy-copy-copy-copy-copy-copy-copy-copy-copy-2-copy-copy-copy-copy-copy-copy-copy-copy-copy-3-copy-2-copy-copy/
LOCATION:Reed Cricket Club\, The Green\, Blacksmith's Lane\, Reed\, Hertfordshire\, SG8 8AX\, United Kingdom
CATEGORIES:Colts Under 15
END:VEVENT
BEGIN:VEVENT
DTSTART;TZID=Europe/London:20200731T173000
DTEND;TZID=Europe/London:20200731T200000
DTSTAMP:20260422T135129
CREATED:20200615T072158Z
LAST-MODIFIED:20200615T072252Z
UID:30138-1596216600-1596225600@reedcc.co.uk
SUMMARY:Small Group Coaching - Under 15 Colts (GOING AHEAD)
DESCRIPTION:Sessions for the Under 15 Squad. \nSmall Group Coaching for Under 15 Colts only – Restrictions apply. \nTwo Groups each of 5 players on six Friday evenings\, 26th June to 31st July (inclusive). \nMust be pre-booked – please see below.  \nSession 1: 1730hrs to 1830hrs.\nSession 2: 1900hrs to 2000hrs. \nTo book\, contact Colts Liaison Officer Hannah Heslam on 07793 025001 or Coach Coordinator Richard Barlow on 07760 250341. \nShare this:\n				Share on Facebook (Opens in new window)\n				Facebook\n			\n				Email a link to a friend (Opens in new window)\n				Email\n			\n				Print (Opens in new window)\n				Print\n			Like this:Like Loading...
URL:https://reedcc.co.uk/event/small-group-coaching-under-15-colts-going-ahead-copy/
LOCATION:Reed Cricket Club\, The Green\, Blacksmith's Lane\, Reed\, Hertfordshire\, SG8 8AX\, United Kingdom
CATEGORIES:Colts Under 15
END:VEVENT
BEGIN:VEVENT
DTSTART;TZID=Europe/London:20200727T180000
DTEND;TZID=Europe/London:20200727T203000
DTSTAMP:20260422T135129
CREATED:20200725T071029Z
LAST-MODIFIED:20200725T071208Z
UID:30304-1595872800-1595881800@reedcc.co.uk
SUMMARY:GOING AHEAD - U15 Colts v. Thriplow. Away. Cambridgeshire Youth Cricket Association
DESCRIPTION:U15 Colts v. Thriplow. Away. Cambridgeshire Youth Cricket Association\, Under 15 Premier Division.\nMatches are 20 overs per side. \nShare this:\n				Share on Facebook (Opens in new window)\n				Facebook\n			\n				Email a link to a friend (Opens in new window)\n				Email\n			\n				Print (Opens in new window)\n				Print\n			Like this:Like Loading...
URL:https://reedcc.co.uk/event/u13-colts-v-preston-home-herts-summer-league-copy-copy-copy-copy-copy-2-copy-copy-copy-copy-copy-copy-copy-copy-copy-2-copy-copy-copy-copy-copy-copy-copy-copy-copy-3-copy-2-copy/
LOCATION:Thriplow CC\, Fowlmere Road\, Thriplow\, Cambridgeshire\, SG8 7QU\, United Kingdom
CATEGORIES:Colts Under 15
END:VEVENT
BEGIN:VEVENT
DTSTART;TZID=Europe/London:20200724T173000
DTEND;TZID=Europe/London:20200724T200000
DTSTAMP:20260422T135129
CREATED:20200615T072140Z
LAST-MODIFIED:20200615T072140Z
UID:30136-1595611800-1595620800@reedcc.co.uk
SUMMARY:Small Group Coaching - Under 15 Colts (GOING AHEAD)
DESCRIPTION:Sessions for the Under 15 Squad. \nSmall Group Coaching for Under 15 Colts only – Restrictions apply. \nTwo Groups each of 5 players on six Friday evenings\, 26th June to 31st July (inclusive). \nMust be pre-booked – please see below.  \nSession 1: 1730hrs to 1830hrs.\nSession 2: 1900hrs to 2000hrs. \nTo book\, contact Colts Liaison Officer Hannah Heslam on 07793 025001 or Coach Coordinator Richard Barlow on 07760 250341. \nShare this:\n				Share on Facebook (Opens in new window)\n				Facebook\n			\n				Email a link to a friend (Opens in new window)\n				Email\n			\n				Print (Opens in new window)\n				Print\n			Like this:Like Loading...
URL:https://reedcc.co.uk/event/small-group-coaching-under-15-colts-going-ahead/
LOCATION:Reed Cricket Club\, The Green\, Blacksmith's Lane\, Reed\, Hertfordshire\, SG8 8AX\, United Kingdom
CATEGORIES:Colts Under 15
END:VEVENT
BEGIN:VEVENT
DTSTART;TZID=Europe/London:20200717T173000
DTEND;TZID=Europe/London:20200717T200000
DTSTAMP:20260422T135129
CREATED:20200313T100608Z
LAST-MODIFIED:20200615T071723Z
UID:29880-1595007000-1595016000@reedcc.co.uk
SUMMARY:Small Group Coaching - Under 15 Colts (GOING AHEAD)
DESCRIPTION:Sessions for the Under 15 Squad. \nSmall Group Coaching for Under 15 Colts only – Restrictions apply. \nTwo Groups each of 5 players on six Friday evenings\, 26th June to 31st July (inclusive). \nMust be pre-booked – please see below.  \nSession 1: 1730hrs to 1830hrs.\nSession 2: 1900hrs to 2000hrs. \nTo book\, contact Colts Liaison Officer Hannah Heslam on 07793 025001 or Coach Coordinator Richard Barlow on 07760 250341. \nShare this:\n				Share on Facebook (Opens in new window)\n				Facebook\n			\n				Email a link to a friend (Opens in new window)\n				Email\n			\n				Print (Opens in new window)\n				Print\n			Like this:Like Loading...
URL:https://reedcc.co.uk/event/colts-practice-11s-12s-copy-6-copy-copy-copy-copy-copy-2-copy-copy-copy-copy-copy-copy-copy-copy-copy-copy-copy-copy-copy-copy-copy/
LOCATION:Reed Cricket Club\, The Green\, Blacksmith's Lane\, Reed\, Hertfordshire\, SG8 8AX\, United Kingdom
CATEGORIES:Colts Under 15
END:VEVENT
BEGIN:VEVENT
DTSTART;TZID=Europe/London:20200710T173000
DTEND;TZID=Europe/London:20200710T200000
DTSTAMP:20260422T135129
CREATED:20200313T100427Z
LAST-MODIFIED:20200615T071545Z
UID:29878-1594402200-1594411200@reedcc.co.uk
SUMMARY:Small Group Coaching - Under 15 Colts (GOING AHEAD)
DESCRIPTION:Sessions for the Under 15 Squad. \nSmall Group Coaching for Under 15 Colts only – Restrictions apply. \nTwo Groups each of 5 players on six Friday evenings\, 26th June to 31st July (inclusive). \nMust be pre-booked – please see below.  \nSession 1: 1730hrs to 1830hrs.\nSession 2: 1900hrs to 2000hrs. \nTo book\, contact Colts Liaison Officer Hannah Heslam on 07793 025001 or Coach Coordinator Richard Barlow on 07760 250341. \nShare this:\n				Share on Facebook (Opens in new window)\n				Facebook\n			\n				Email a link to a friend (Opens in new window)\n				Email\n			\n				Print (Opens in new window)\n				Print\n			Like this:Like Loading...
URL:https://reedcc.co.uk/event/colts-practice-11s-12s-copy-6-copy-copy-copy-copy-copy-2-copy-copy-copy-copy-copy-copy-copy-copy-copy-copy-copy-copy-copy-copy/
LOCATION:Reed Cricket Club\, The Green\, Blacksmith's Lane\, Reed\, Hertfordshire\, SG8 8AX\, United Kingdom
CATEGORIES:Colts Under 15
END:VEVENT
BEGIN:VEVENT
DTSTART;TZID=Europe/London:20200703T173000
DTEND;TZID=Europe/London:20200703T200000
DTSTAMP:20260422T135129
CREATED:20200313T100320Z
LAST-MODIFIED:20200615T071415Z
UID:29876-1593797400-1593806400@reedcc.co.uk
SUMMARY:Small Group Coaching - Under 15 Colts (GOING AHEAD)
DESCRIPTION:Sessions for the Under 15 Squad. \nSmall Group Coaching for Under 15 Colts only – Restrictions apply. \nTwo Groups each of 5 players on six Friday evenings\, 26th June to 31st July (inclusive). \nMust be pre-booked – please see below.  \nSession 1: 1730hrs to 1830hrs.\nSession 2: 1900hrs to 2000hrs. \nTo book\, contact Colts Liaison Officer Hannah Heslam on 07793 025001 or Coach Coordinator Richard Barlow on 07760 250341. \nShare this:\n				Share on Facebook (Opens in new window)\n				Facebook\n			\n				Email a link to a friend (Opens in new window)\n				Email\n			\n				Print (Opens in new window)\n				Print\n			Like this:Like Loading...
URL:https://reedcc.co.uk/event/colts-practice-11s-12s-copy-6-copy-copy-copy-copy-copy-2-copy-copy-copy-copy-copy-copy-copy-copy-copy-copy-copy-copy-copy/
LOCATION:Reed Cricket Club\, The Green\, Blacksmith's Lane\, Reed\, Hertfordshire\, SG8 8AX\, United Kingdom
CATEGORIES:Colts Under 15
END:VEVENT
BEGIN:VEVENT
DTSTART;TZID=Europe/London:20200626T173000
DTEND;TZID=Europe/London:20200626T200000
DTSTAMP:20260422T135130
CREATED:20200313T100204Z
LAST-MODIFIED:20200615T071238Z
UID:29874-1593192600-1593201600@reedcc.co.uk
SUMMARY:Small Group Coaching - Under 15 Colts (GOING AHEAD)
DESCRIPTION:Sessions for the Under 15 Squad. \nSmall Group Coaching for Under 15 Colts only – Restrictions apply. \nTwo Groups each of 5 players on six Friday evenings\, 26th June to 31st July (inclusive). \nMust be pre-booked – please see below.  \nSession 1: 1730hrs to 1830hrs.\nSession 2: 1900hrs to 2000hrs. \nTo book\, contact Colts Liaison Officer Hannah Heslam on 07793 025001 or Coach Coordinator Richard Barlow on 07760 250341. \nShare this:\n				Share on Facebook (Opens in new window)\n				Facebook\n			\n				Email a link to a friend (Opens in new window)\n				Email\n			\n				Print (Opens in new window)\n				Print\n			Like this:Like Loading...
URL:https://reedcc.co.uk/event/colts-practice-11s-12s-copy-6-copy-copy-copy-copy-copy-2-copy-copy-copy-copy-copy-copy-copy-copy-copy-copy-copy-copy/
LOCATION:Reed Cricket Club\, The Green\, Blacksmith's Lane\, Reed\, Hertfordshire\, SG8 8AX\, United Kingdom
CATEGORIES:Colts Under 15
END:VEVENT
END:VCALENDAR