BEGIN:VCALENDAR
VERSION:2.0
PRODID:-//Reed Cricket Club - ECPv6.15.20//NONSGML v1.0//EN
CALSCALE:GREGORIAN
METHOD:PUBLISH
X-WR-CALNAME:Reed Cricket Club
X-ORIGINAL-URL:https://reedcc.co.uk
X-WR-CALDESC:Events for Reed Cricket Club
REFRESH-INTERVAL;VALUE=DURATION:PT1H
X-Robots-Tag:noindex
X-PUBLISHED-TTL:PT1H
BEGIN:VTIMEZONE
TZID:Europe/London
BEGIN:DAYLIGHT
TZOFFSETFROM:+0000
TZOFFSETTO:+0100
TZNAME:BST
DTSTART:20170326T010000
END:DAYLIGHT
BEGIN:STANDARD
TZOFFSETFROM:+0100
TZOFFSETTO:+0000
TZNAME:GMT
DTSTART:20171029T010000
END:STANDARD
BEGIN:DAYLIGHT
TZOFFSETFROM:+0000
TZOFFSETTO:+0100
TZNAME:BST
DTSTART:20180325T010000
END:DAYLIGHT
BEGIN:STANDARD
TZOFFSETFROM:+0100
TZOFFSETTO:+0000
TZNAME:GMT
DTSTART:20181028T010000
END:STANDARD
BEGIN:DAYLIGHT
TZOFFSETFROM:+0000
TZOFFSETTO:+0100
TZNAME:BST
DTSTART:20190331T010000
END:DAYLIGHT
BEGIN:STANDARD
TZOFFSETFROM:+0100
TZOFFSETTO:+0000
TZNAME:GMT
DTSTART:20191027T010000
END:STANDARD
BEGIN:DAYLIGHT
TZOFFSETFROM:+0000
TZOFFSETTO:+0100
TZNAME:BST
DTSTART:20200329T010000
END:DAYLIGHT
BEGIN:STANDARD
TZOFFSETFROM:+0100
TZOFFSETTO:+0000
TZNAME:GMT
DTSTART:20201025T010000
END:STANDARD
BEGIN:DAYLIGHT
TZOFFSETFROM:+0000
TZOFFSETTO:+0100
TZNAME:BST
DTSTART:20210328T010000
END:DAYLIGHT
BEGIN:STANDARD
TZOFFSETFROM:+0100
TZOFFSETTO:+0000
TZNAME:GMT
DTSTART:20211031T010000
END:STANDARD
END:VTIMEZONE
BEGIN:VEVENT
DTSTART;TZID=Europe/London:20200815T091500
DTEND;TZID=Europe/London:20200815T101500
DTSTAMP:20260422T135225
CREATED:20200806T063958Z
LAST-MODIFIED:20200806T064027Z
UID:30520-1597482900-1597486500@reedcc.co.uk
SUMMARY:GOING AHEAD - All Stars Cricket Practice
DESCRIPTION:All Stars Cricket Practice for 5 to 8-year-old boys and girls. \nORGANISERS:\nLiaison Officer\, Hannah Heslam on 07793 025001\nAll-Stars Activator\, Graham Aldridge on 01763 848207 or 07534 896742 \nShare this:\n				Share on Facebook (Opens in new window)\n				Facebook\n			\n				Email a link to a friend (Opens in new window)\n				Email\n			\n				Print (Opens in new window)\n				Print\n			Like this:Like Loading...
URL:https://reedcc.co.uk/event/stars-cricket-minis-practice-copy-copy-copy-2-copy-copy-copy-copy-copy-copy-copy-copy-copy-2-copy-2-copy-copy-copy-copy-copy-copy-copy-copy-copy-copy-copy/
LOCATION:Reed Cricket Club\, The Green\, Blacksmith's Lane\, Reed\, Hertfordshire\, SG8 8AX\, United Kingdom
CATEGORIES:All Stars,Mini Colts
END:VEVENT
BEGIN:VEVENT
DTSTART;TZID=Europe/London:20200808T091500
DTEND;TZID=Europe/London:20200808T101500
DTSTAMP:20260422T135225
CREATED:20200806T063605Z
LAST-MODIFIED:20200806T063931Z
UID:30517-1596878100-1596881700@reedcc.co.uk
SUMMARY:GOING AHEAD - All Stars Cricket Practice
DESCRIPTION:All Stars Cricket Practice for 5 to 8-year-old boys and girls. \nORGANISERS:\nLiaison Officer\, Hannah Heslam on 07793 025001\nAll-Stars Activator\, Graham Aldridge on 01763 848207 or 07534 896742 \nShare this:\n				Share on Facebook (Opens in new window)\n				Facebook\n			\n				Email a link to a friend (Opens in new window)\n				Email\n			\n				Print (Opens in new window)\n				Print\n			Like this:Like Loading...
URL:https://reedcc.co.uk/event/stars-cricket-minis-practice-copy-copy-copy-2-copy-copy-copy-copy-copy-copy-copy-copy-copy-2-copy-2-copy-copy-copy-copy-copy-copy-copy-copy-copy-copy/
LOCATION:Reed Cricket Club\, The Green\, Blacksmith's Lane\, Reed\, Hertfordshire\, SG8 8AX\, United Kingdom
CATEGORIES:All Stars,Mini Colts
END:VEVENT
BEGIN:VEVENT
DTSTART;TZID=Europe/London:20200719T100000
DTEND;TZID=Europe/London:20200719T110000
DTSTAMP:20260422T135225
CREATED:20200313T102912Z
LAST-MODIFIED:20200614T063234Z
UID:29902-1595152800-1595156400@reedcc.co.uk
SUMMARY:All Stars Cricket Practice - CANCELLED
DESCRIPTION:Last session of All Stars Cricket Practice for 5 to 8-year-old boys and girls. \nShare this:\n				Share on Facebook (Opens in new window)\n				Facebook\n			\n				Email a link to a friend (Opens in new window)\n				Email\n			\n				Print (Opens in new window)\n				Print\n			Like this:Like Loading...
URL:https://reedcc.co.uk/event/stars-cricket-minis-practice-copy-copy-copy-2-copy-copy-copy-copy-copy-copy-copy-copy-copy-2-copy-2-copy-copy-copy-copy-copy-copy-copy-copy-copy/
LOCATION:Reed Cricket Club\, The Green\, Blacksmith's Lane\, Reed\, Hertfordshire\, SG8 8AX\, United Kingdom
CATEGORIES:All Stars,Mini Colts
END:VEVENT
BEGIN:VEVENT
DTSTART;TZID=Europe/London:20200712T100000
DTEND;TZID=Europe/London:20200712T110000
DTSTAMP:20260422T135225
CREATED:20200313T102752Z
LAST-MODIFIED:20200614T062959Z
UID:29900-1594548000-1594551600@reedcc.co.uk
SUMMARY:All Stars Cricket Practice - CANCELLED
DESCRIPTION:All Stars Cricket Practice for 5 to 8-year-old boys and girls. \nShare this:\n				Share on Facebook (Opens in new window)\n				Facebook\n			\n				Email a link to a friend (Opens in new window)\n				Email\n			\n				Print (Opens in new window)\n				Print\n			Like this:Like Loading...
URL:https://reedcc.co.uk/event/stars-cricket-minis-practice-copy-copy-copy-2-copy-copy-copy-copy-copy-copy-copy-copy-copy-2-copy-2-copy-copy-copy-copy-copy-copy-copy-copy/
LOCATION:Reed Cricket Club\, The Green\, Blacksmith's Lane\, Reed\, Hertfordshire\, SG8 8AX\, United Kingdom
CATEGORIES:All Stars,Mini Colts
END:VEVENT
BEGIN:VEVENT
DTSTART;TZID=Europe/London:20200705T100000
DTEND;TZID=Europe/London:20200705T110000
DTSTAMP:20260422T135225
CREATED:20200313T102643Z
LAST-MODIFIED:20200614T062543Z
UID:29898-1593943200-1593946800@reedcc.co.uk
SUMMARY:All Stars Cricket Practice - CANCELLED
DESCRIPTION:All Stars Cricket Practice for 5 to 8-year-old boys and girls. \nShare this:\n				Share on Facebook (Opens in new window)\n				Facebook\n			\n				Email a link to a friend (Opens in new window)\n				Email\n			\n				Print (Opens in new window)\n				Print\n			Like this:Like Loading...
URL:https://reedcc.co.uk/event/stars-cricket-minis-practice-copy-copy-copy-2-copy-copy-copy-copy-copy-copy-copy-copy-copy-2-copy-2-copy-copy-copy-copy-copy-copy-copy/
LOCATION:Reed Cricket Club\, The Green\, Blacksmith's Lane\, Reed\, Hertfordshire\, SG8 8AX\, United Kingdom
CATEGORIES:All Stars,Mini Colts
END:VEVENT
BEGIN:VEVENT
DTSTART;TZID=Europe/London:20200628T100000
DTEND;TZID=Europe/London:20200628T110000
DTSTAMP:20260422T135225
CREATED:20200313T102514Z
LAST-MODIFIED:20200614T062310Z
UID:29896-1593338400-1593342000@reedcc.co.uk
SUMMARY:All Stars Cricket Practice  - CANCELLED
DESCRIPTION:All Stars Cricket Practice for 5 to 8-year-old boys and girls. \nShare this:\n				Share on Facebook (Opens in new window)\n				Facebook\n			\n				Email a link to a friend (Opens in new window)\n				Email\n			\n				Print (Opens in new window)\n				Print\n			Like this:Like Loading...
URL:https://reedcc.co.uk/event/stars-cricket-minis-practice-copy-copy-copy-2-copy-copy-copy-copy-copy-copy-copy-copy-copy-2-copy-2-copy-copy-copy-copy-copy-copy/
LOCATION:Reed Cricket Club\, The Green\, Blacksmith's Lane\, Reed\, Hertfordshire\, SG8 8AX\, United Kingdom
CATEGORIES:All Stars,Mini Colts
END:VEVENT
BEGIN:VEVENT
DTSTART;TZID=Europe/London:20200621T100000
DTEND;TZID=Europe/London:20200621T110000
DTSTAMP:20260422T135225
CREATED:20200313T102406Z
LAST-MODIFIED:20200614T062033Z
UID:29894-1592733600-1592737200@reedcc.co.uk
SUMMARY:All Stars Cricket Practice - CANCELLED
DESCRIPTION:All Stars Cricket Practice for 5 to 8-year-old boys and girls. \nShare this:\n				Share on Facebook (Opens in new window)\n				Facebook\n			\n				Email a link to a friend (Opens in new window)\n				Email\n			\n				Print (Opens in new window)\n				Print\n			Like this:Like Loading...
URL:https://reedcc.co.uk/event/stars-cricket-minis-practice-copy-copy-copy-2-copy-copy-copy-copy-copy-copy-copy-copy-copy-2-copy-2-copy-copy-copy-copy-copy/
LOCATION:Reed Cricket Club\, The Green\, Blacksmith's Lane\, Reed\, Hertfordshire\, SG8 8AX\, United Kingdom
CATEGORIES:All Stars,Mini Colts
END:VEVENT
BEGIN:VEVENT
DTSTART;TZID=Europe/London:20200614T100000
DTEND;TZID=Europe/London:20200614T110000
DTSTAMP:20260422T135225
CREATED:20200313T102255Z
LAST-MODIFIED:20200614T061603Z
UID:29892-1592128800-1592132400@reedcc.co.uk
SUMMARY:All Stars Cricket Practice - CANCELLED
DESCRIPTION:All Stars Cricket Practice for 5 to 8-year-old boys and girls. \nShare this:\n				Share on Facebook (Opens in new window)\n				Facebook\n			\n				Email a link to a friend (Opens in new window)\n				Email\n			\n				Print (Opens in new window)\n				Print\n			Like this:Like Loading...
URL:https://reedcc.co.uk/event/stars-cricket-minis-practice-copy-copy-copy-2-copy-copy-copy-copy-copy-copy-copy-copy-copy-2-copy-2-copy-copy-copy-copy/
LOCATION:Reed Cricket Club\, The Green\, Blacksmith's Lane\, Reed\, Hertfordshire\, SG8 8AX\, United Kingdom
CATEGORIES:All Stars,Mini Colts
END:VEVENT
BEGIN:VEVENT
DTSTART;TZID=Europe/London:20200607T100000
DTEND;TZID=Europe/London:20200607T110000
DTSTAMP:20260422T135225
CREATED:20200313T102146Z
LAST-MODIFIED:20200313T102227Z
UID:29890-1591524000-1591527600@reedcc.co.uk
SUMMARY:All Stars Cricket Practice
DESCRIPTION:All Stars Cricket Practice for 5 to 8-year-old boys and girls. \nShare this:\n				Share on Facebook (Opens in new window)\n				Facebook\n			\n				Email a link to a friend (Opens in new window)\n				Email\n			\n				Print (Opens in new window)\n				Print\n			Like this:Like Loading...
URL:https://reedcc.co.uk/event/stars-cricket-minis-practice-copy-copy-copy-2-copy-copy-copy-copy-copy-copy-copy-copy-copy-2-copy-2-copy-copy-copy/
LOCATION:Reed Cricket Club\, The Green\, Blacksmith's Lane\, Reed\, Hertfordshire\, SG8 8AX\, United Kingdom
CATEGORIES:All Stars,Mini Colts
END:VEVENT
BEGIN:VEVENT
DTSTART;TZID=Europe/London:20200531T100000
DTEND;TZID=Europe/London:20200531T110000
DTSTAMP:20260422T135225
CREATED:20200313T102034Z
LAST-MODIFIED:20200313T102121Z
UID:29888-1590919200-1590922800@reedcc.co.uk
SUMMARY:All Stars Cricket Practice
DESCRIPTION:All Stars Cricket Practice for 5 to 8-year-old boys and girls. \nShare this:\n				Share on Facebook (Opens in new window)\n				Facebook\n			\n				Email a link to a friend (Opens in new window)\n				Email\n			\n				Print (Opens in new window)\n				Print\n			Like this:Like Loading...
URL:https://reedcc.co.uk/event/stars-cricket-minis-practice-copy-copy-copy-2-copy-copy-copy-copy-copy-copy-copy-copy-copy-2-copy-2-copy-copy/
LOCATION:Reed Cricket Club\, The Green\, Blacksmith's Lane\, Reed\, Hertfordshire\, SG8 8AX\, United Kingdom
CATEGORIES:All Stars,Mini Colts
END:VEVENT
BEGIN:VEVENT
DTSTART;TZID=Europe/London:20200524T100000
DTEND;TZID=Europe/London:20200524T110000
DTSTAMP:20260422T135225
CREATED:20200313T101933Z
LAST-MODIFIED:20200313T102011Z
UID:29886-1590314400-1590318000@reedcc.co.uk
SUMMARY:All Stars Cricket Practice
DESCRIPTION:All Stars Cricket Practice for 5 to 8-year-old boys and girls. \nShare this:\n				Share on Facebook (Opens in new window)\n				Facebook\n			\n				Email a link to a friend (Opens in new window)\n				Email\n			\n				Print (Opens in new window)\n				Print\n			Like this:Like Loading...
URL:https://reedcc.co.uk/event/stars-cricket-minis-practice-copy-copy-copy-2-copy-copy-copy-copy-copy-copy-copy-copy-copy-2-copy-2-copy/
LOCATION:Reed Cricket Club\, The Green\, Blacksmith's Lane\, Reed\, Hertfordshire\, SG8 8AX\, United Kingdom
CATEGORIES:All Stars,Mini Colts
END:VEVENT
BEGIN:VEVENT
DTSTART;TZID=Europe/London:20200517T100000
DTEND;TZID=Europe/London:20200517T110000
DTSTAMP:20260422T135225
CREATED:20200313T101410Z
LAST-MODIFIED:20200313T101901Z
UID:29882-1589709600-1589713200@reedcc.co.uk
SUMMARY:All Stars Cricket Practice
DESCRIPTION:All Stars Cricket Practice for 5 to 8-year-old boys and girls. \nShare this:\n				Share on Facebook (Opens in new window)\n				Facebook\n			\n				Email a link to a friend (Opens in new window)\n				Email\n			\n				Print (Opens in new window)\n				Print\n			Like this:Like Loading...
URL:https://reedcc.co.uk/event/stars-cricket-minis-practice-copy-copy-copy-2-copy-copy-copy-copy-copy-copy-copy-copy-copy-2-copy-2/
LOCATION:Reed Cricket Club\, The Green\, Blacksmith's Lane\, Reed\, Hertfordshire\, SG8 8AX\, United Kingdom
CATEGORIES:All Stars,Mini Colts
END:VEVENT
BEGIN:VEVENT
DTSTART;TZID=Europe/London:20190714T100000
DTEND;TZID=Europe/London:20190714T110000
DTSTAMP:20260422T135225
CREATED:20190225T115051Z
LAST-MODIFIED:20190225T115218Z
UID:26157-1563098400-1563102000@reedcc.co.uk
SUMMARY:All Stars Cricket Practice
DESCRIPTION:All Stars Cricket Practice for 5 to 8-year-old boys and girls. \nShare this:\n				Share on Facebook (Opens in new window)\n				Facebook\n			\n				Email a link to a friend (Opens in new window)\n				Email\n			\n				Print (Opens in new window)\n				Print\n			Like this:Like Loading...
URL:https://reedcc.co.uk/event/stars-cricket-minis-practice-copy-copy-copy-2-copy-copy-copy-copy-copy-copy-copy-copy-copy-2-copy-copy-copy-copy-copy-copy-copy-copy-copy/
LOCATION:Reed Cricket Club\, The Green\, Blacksmith's Lane\, Reed\, Hertfordshire\, SG8 8AX\, United Kingdom
CATEGORIES:All Stars,Mini Colts
END:VEVENT
BEGIN:VEVENT
DTSTART;TZID=Europe/London:20190707T100000
DTEND;TZID=Europe/London:20190707T110000
DTSTAMP:20260422T135225
CREATED:20190225T114851Z
LAST-MODIFIED:20190225T115014Z
UID:26155-1562493600-1562497200@reedcc.co.uk
SUMMARY:All Stars Cricket Practice
DESCRIPTION:All Stars Cricket Practice for 5 to 8-year-old boys and girls. \nShare this:\n				Share on Facebook (Opens in new window)\n				Facebook\n			\n				Email a link to a friend (Opens in new window)\n				Email\n			\n				Print (Opens in new window)\n				Print\n			Like this:Like Loading...
URL:https://reedcc.co.uk/event/stars-cricket-minis-practice-copy-copy-copy-2-copy-copy-copy-copy-copy-copy-copy-copy-copy-2-copy-copy-copy-copy-copy-copy-copy-copy/
LOCATION:Reed Cricket Club\, The Green\, Blacksmith's Lane\, Reed\, Hertfordshire\, SG8 8AX\, United Kingdom
CATEGORIES:All Stars,Mini Colts
END:VEVENT
BEGIN:VEVENT
DTSTART;TZID=Europe/London:20190630T100000
DTEND;TZID=Europe/London:20190630T110000
DTSTAMP:20260422T135225
CREATED:20190225T114635Z
LAST-MODIFIED:20190225T114754Z
UID:26153-1561888800-1561892400@reedcc.co.uk
SUMMARY:All Stars Cricket Practice
DESCRIPTION:All Stars Cricket Practice for 5 to 8-year-old boys and girls. \nShare this:\n				Share on Facebook (Opens in new window)\n				Facebook\n			\n				Email a link to a friend (Opens in new window)\n				Email\n			\n				Print (Opens in new window)\n				Print\n			Like this:Like Loading...
URL:https://reedcc.co.uk/event/stars-cricket-minis-practice-copy-copy-copy-2-copy-copy-copy-copy-copy-copy-copy-copy-copy-2-copy-copy-copy-copy-copy-copy-copy/
LOCATION:Reed Cricket Club\, The Green\, Blacksmith's Lane\, Reed\, Hertfordshire\, SG8 8AX\, United Kingdom
CATEGORIES:All Stars,Mini Colts
END:VEVENT
BEGIN:VEVENT
DTSTART;TZID=Europe/London:20190623T100000
DTEND;TZID=Europe/London:20190623T110000
DTSTAMP:20260422T135225
CREATED:20190225T114431Z
LAST-MODIFIED:20190225T114601Z
UID:26151-1561284000-1561287600@reedcc.co.uk
SUMMARY:All Stars Cricket Practice
DESCRIPTION:All Stars Cricket Practice for 5 to 8-year-old boys and girls. \nShare this:\n				Share on Facebook (Opens in new window)\n				Facebook\n			\n				Email a link to a friend (Opens in new window)\n				Email\n			\n				Print (Opens in new window)\n				Print\n			Like this:Like Loading...
URL:https://reedcc.co.uk/event/stars-cricket-minis-practice-copy-copy-copy-2-copy-copy-copy-copy-copy-copy-copy-copy-copy-2-copy-copy-copy-copy-copy-copy/
LOCATION:Reed Cricket Club\, The Green\, Blacksmith's Lane\, Reed\, Hertfordshire\, SG8 8AX\, United Kingdom
CATEGORIES:All Stars,Mini Colts
END:VEVENT
BEGIN:VEVENT
DTSTART;TZID=Europe/London:20190616T100000
DTEND;TZID=Europe/London:20190616T110000
DTSTAMP:20260422T135225
CREATED:20190225T114154Z
LAST-MODIFIED:20190225T114356Z
UID:26148-1560679200-1560682800@reedcc.co.uk
SUMMARY:All Stars Cricket Practice
DESCRIPTION:All Stars Cricket Practice for 5 to 8-year-old boys and girls. \nShare this:\n				Share on Facebook (Opens in new window)\n				Facebook\n			\n				Email a link to a friend (Opens in new window)\n				Email\n			\n				Print (Opens in new window)\n				Print\n			Like this:Like Loading...
URL:https://reedcc.co.uk/event/stars-cricket-minis-practice-copy-copy-copy-2-copy-copy-copy-copy-copy-copy-copy-copy-copy-2-copy-copy-copy-copy-copy/
LOCATION:Reed Cricket Club\, The Green\, Blacksmith's Lane\, Reed\, Hertfordshire\, SG8 8AX\, United Kingdom
CATEGORIES:All Stars,Mini Colts
END:VEVENT
BEGIN:VEVENT
DTSTART;TZID=Europe/London:20190609T100000
DTEND;TZID=Europe/London:20190609T110000
DTSTAMP:20260422T135225
CREATED:20190225T113958Z
LAST-MODIFIED:20190225T114116Z
UID:26146-1560074400-1560078000@reedcc.co.uk
SUMMARY:All Stars Cricket Practice
DESCRIPTION:All Stars Cricket Practice for 5 to 8-year-old boys and girls. \nShare this:\n				Share on Facebook (Opens in new window)\n				Facebook\n			\n				Email a link to a friend (Opens in new window)\n				Email\n			\n				Print (Opens in new window)\n				Print\n			Like this:Like Loading...
URL:https://reedcc.co.uk/event/stars-cricket-minis-practice-copy-copy-copy-2-copy-copy-copy-copy-copy-copy-copy-copy-copy-2-copy-copy-copy-copy/
LOCATION:Reed Cricket Club\, The Green\, Blacksmith's Lane\, Reed\, Hertfordshire\, SG8 8AX\, United Kingdom
CATEGORIES:All Stars,Mini Colts
END:VEVENT
BEGIN:VEVENT
DTSTART;TZID=Europe/London:20190602T100000
DTEND;TZID=Europe/London:20190602T110000
DTSTAMP:20260422T135225
CREATED:20190225T113801Z
LAST-MODIFIED:20190225T113915Z
UID:26144-1559469600-1559473200@reedcc.co.uk
SUMMARY:All Stars Cricket Practice
DESCRIPTION:All Stars Cricket Practice for 5 to 8-year-old boys and girls. \nShare this:\n				Share on Facebook (Opens in new window)\n				Facebook\n			\n				Email a link to a friend (Opens in new window)\n				Email\n			\n				Print (Opens in new window)\n				Print\n			Like this:Like Loading...
URL:https://reedcc.co.uk/event/stars-cricket-minis-practice-copy-copy-copy-2-copy-copy-copy-copy-copy-copy-copy-copy-copy-2-copy-copy-copy/
LOCATION:Reed Cricket Club\, The Green\, Blacksmith's Lane\, Reed\, Hertfordshire\, SG8 8AX\, United Kingdom
CATEGORIES:All Stars,Mini Colts
END:VEVENT
BEGIN:VEVENT
DTSTART;TZID=Europe/London:20190526T100000
DTEND;TZID=Europe/London:20190526T110000
DTSTAMP:20260422T135226
CREATED:20190225T113433Z
LAST-MODIFIED:20190225T113705Z
UID:26141-1558864800-1558868400@reedcc.co.uk
SUMMARY:All Stars Cricket Practice
DESCRIPTION:All Stars Cricket Practice for 5 to 8-year-old boys and girls. \nShare this:\n				Share on Facebook (Opens in new window)\n				Facebook\n			\n				Email a link to a friend (Opens in new window)\n				Email\n			\n				Print (Opens in new window)\n				Print\n			Like this:Like Loading...
URL:https://reedcc.co.uk/event/stars-cricket-minis-practice-copy-copy-copy-2-copy-copy-copy-copy-copy-copy-copy-copy-copy-2-copy-copy/
LOCATION:Reed Cricket Club\, The Green\, Blacksmith's Lane\, Reed\, Hertfordshire\, SG8 8AX\, United Kingdom
CATEGORIES:All Stars,Mini Colts
END:VEVENT
BEGIN:VEVENT
DTSTART;TZID=Europe/London:20190519T100000
DTEND;TZID=Europe/London:20190519T110000
DTSTAMP:20260422T135226
CREATED:20190225T113229Z
LAST-MODIFIED:20190225T113348Z
UID:26139-1558260000-1558263600@reedcc.co.uk
SUMMARY:All Stars Cricket Practice
DESCRIPTION:All Stars Cricket Practice for 5 to 8-year-old boys and girls. \nShare this:\n				Share on Facebook (Opens in new window)\n				Facebook\n			\n				Email a link to a friend (Opens in new window)\n				Email\n			\n				Print (Opens in new window)\n				Print\n			Like this:Like Loading...
URL:https://reedcc.co.uk/event/stars-cricket-minis-practice-copy-copy-copy-2-copy-copy-copy-copy-copy-copy-copy-copy-copy-2-copy/
LOCATION:Reed Cricket Club\, The Green\, Blacksmith's Lane\, Reed\, Hertfordshire\, SG8 8AX\, United Kingdom
CATEGORIES:All Stars,Mini Colts
END:VEVENT
BEGIN:VEVENT
DTSTART;TZID=Europe/London:20190512T100000
DTEND;TZID=Europe/London:20190512T110000
DTSTAMP:20260422T135226
CREATED:20190225T112448Z
LAST-MODIFIED:20190225T113010Z
UID:26135-1557655200-1557658800@reedcc.co.uk
SUMMARY:All Stars Cricket Practice
DESCRIPTION:All Stars Cricket Practice for 5 to 8-year-old boys and girls. \nShare this:\n				Share on Facebook (Opens in new window)\n				Facebook\n			\n				Email a link to a friend (Opens in new window)\n				Email\n			\n				Print (Opens in new window)\n				Print\n			Like this:Like Loading...
URL:https://reedcc.co.uk/event/stars-cricket-minis-practice-copy-copy-copy-2-copy-copy-copy-copy-copy-copy-copy-copy-copy-2/
LOCATION:Reed Cricket Club\, The Green\, Blacksmith's Lane\, Reed\, Hertfordshire\, SG8 8AX\, United Kingdom
CATEGORIES:All Stars,Mini Colts
END:VEVENT
BEGIN:VEVENT
DTSTART;TZID=Europe/London:20180722T100000
DTEND;TZID=Europe/London:20180722T110000
DTSTAMP:20260422T135226
CREATED:20180211T124322Z
LAST-MODIFIED:20180211T124430Z
UID:24751-1532253600-1532257200@reedcc.co.uk
SUMMARY:All Stars Cricket Practice
DESCRIPTION:All Stars Cricket Practice for 5 to 8-year-old boys and girls. \nShare this:\n				Share on Facebook (Opens in new window)\n				Facebook\n			\n				Email a link to a friend (Opens in new window)\n				Email\n			\n				Print (Opens in new window)\n				Print\n			Like this:Like Loading...
URL:https://reedcc.co.uk/event/stars-cricket-minis-practice-copy-copy-copy-2-copy-copy-copy-copy-copy-copy-copy-copy-copy/
LOCATION:Reed Cricket Club\, The Green\, Blacksmith's Lane\, Reed\, Hertfordshire\, SG8 8AX\, United Kingdom
CATEGORIES:All Stars,Mini Colts
END:VEVENT
BEGIN:VEVENT
DTSTART;TZID=Europe/London:20180715T100000
DTEND;TZID=Europe/London:20180715T110000
DTSTAMP:20260422T135226
CREATED:20180211T124104Z
LAST-MODIFIED:20180211T124228Z
UID:24749-1531648800-1531652400@reedcc.co.uk
SUMMARY:All Stars Cricket Practice
DESCRIPTION:All Stars Cricket Practice for 5 to 8-year-old boys and girls. \nShare this:\n				Share on Facebook (Opens in new window)\n				Facebook\n			\n				Email a link to a friend (Opens in new window)\n				Email\n			\n				Print (Opens in new window)\n				Print\n			Like this:Like Loading...
URL:https://reedcc.co.uk/event/stars-cricket-minis-practice-copy-copy-copy-2-copy-copy-copy-copy-copy-copy-copy-copy/
LOCATION:Reed Cricket Club\, The Green\, Blacksmith's Lane\, Reed\, Hertfordshire\, SG8 8AX\, United Kingdom
CATEGORIES:All Stars,Mini Colts
END:VEVENT
BEGIN:VEVENT
DTSTART;TZID=Europe/London:20180708T100000
DTEND;TZID=Europe/London:20180708T110000
DTSTAMP:20260422T135226
CREATED:20180211T123725Z
LAST-MODIFIED:20180211T123935Z
UID:24747-1531044000-1531047600@reedcc.co.uk
SUMMARY:All Stars Cricket Practice
DESCRIPTION:All Stars Cricket Practice for 5 to 8-year-old boys and girls. \nShare this:\n				Share on Facebook (Opens in new window)\n				Facebook\n			\n				Email a link to a friend (Opens in new window)\n				Email\n			\n				Print (Opens in new window)\n				Print\n			Like this:Like Loading...
URL:https://reedcc.co.uk/event/stars-cricket-minis-practice-copy-copy-copy-2-copy-copy-copy-copy-copy-copy-copy/
LOCATION:Reed Cricket Club\, The Green\, Blacksmith's Lane\, Reed\, Hertfordshire\, SG8 8AX\, United Kingdom
CATEGORIES:All Stars,Mini Colts
END:VEVENT
BEGIN:VEVENT
DTSTART;TZID=Europe/London:20180701T100000
DTEND;TZID=Europe/London:20180701T110000
DTSTAMP:20260422T135226
CREATED:20180211T123515Z
LAST-MODIFIED:20180211T123622Z
UID:24745-1530439200-1530442800@reedcc.co.uk
SUMMARY:All Stars Cricket Practice
DESCRIPTION:All Stars Cricket Practice for 5 to 8-year-old boys and girls. \nShare this:\n				Share on Facebook (Opens in new window)\n				Facebook\n			\n				Email a link to a friend (Opens in new window)\n				Email\n			\n				Print (Opens in new window)\n				Print\n			Like this:Like Loading...
URL:https://reedcc.co.uk/event/stars-cricket-minis-practice-copy-copy-copy-2-copy-copy-copy-copy-copy-copy/
LOCATION:Reed Cricket Club\, The Green\, Blacksmith's Lane\, Reed\, Hertfordshire\, SG8 8AX\, United Kingdom
CATEGORIES:All Stars,Mini Colts
END:VEVENT
BEGIN:VEVENT
DTSTART;TZID=Europe/London:20180624T100000
DTEND;TZID=Europe/London:20180624T110000
DTSTAMP:20260422T135226
CREATED:20180211T123236Z
LAST-MODIFIED:20180211T123405Z
UID:24743-1529834400-1529838000@reedcc.co.uk
SUMMARY:All Stars Cricket Practice
DESCRIPTION:All Stars Cricket Practice for 5 to 8-year-old boys and girls. \nShare this:\n				Share on Facebook (Opens in new window)\n				Facebook\n			\n				Email a link to a friend (Opens in new window)\n				Email\n			\n				Print (Opens in new window)\n				Print\n			Like this:Like Loading...
URL:https://reedcc.co.uk/event/stars-cricket-minis-practice-copy-copy-copy-2-copy-copy-copy-copy-copy/
LOCATION:Reed Cricket Club\, The Green\, Blacksmith's Lane\, Reed\, Hertfordshire\, SG8 8AX\, United Kingdom
CATEGORIES:All Stars,Mini Colts
END:VEVENT
BEGIN:VEVENT
DTSTART;TZID=Europe/London:20180617T100000
DTEND;TZID=Europe/London:20180617T110000
DTSTAMP:20260422T135226
CREATED:20180211T122930Z
LAST-MODIFIED:20180211T123052Z
UID:24741-1529229600-1529233200@reedcc.co.uk
SUMMARY:All Stars Cricket Practice
DESCRIPTION:All Stars Cricket Practice for 5 to 8-year-old boys and girls. \nShare this:\n				Share on Facebook (Opens in new window)\n				Facebook\n			\n				Email a link to a friend (Opens in new window)\n				Email\n			\n				Print (Opens in new window)\n				Print\n			Like this:Like Loading...
URL:https://reedcc.co.uk/event/stars-cricket-minis-practice-copy-copy-copy-2-copy-copy-copy-copy/
LOCATION:Reed Cricket Club\, The Green\, Blacksmith's Lane\, Reed\, Hertfordshire\, SG8 8AX\, United Kingdom
CATEGORIES:All Stars,Mini Colts
END:VEVENT
BEGIN:VEVENT
DTSTART;TZID=Europe/London:20180610T100000
DTEND;TZID=Europe/London:20180610T110000
DTSTAMP:20260422T135226
CREATED:20180211T122635Z
LAST-MODIFIED:20180211T122756Z
UID:24739-1528624800-1528628400@reedcc.co.uk
SUMMARY:All Stars Cricket Practice
DESCRIPTION:All Stars Cricket Practice for 5 to 8-year-old boys and girls. \nShare this:\n				Share on Facebook (Opens in new window)\n				Facebook\n			\n				Email a link to a friend (Opens in new window)\n				Email\n			\n				Print (Opens in new window)\n				Print\n			Like this:Like Loading...
URL:https://reedcc.co.uk/event/stars-cricket-minis-practice-copy-copy-copy-2-copy-copy-copy/
LOCATION:Reed Cricket Club\, The Green\, Blacksmith's Lane\, Reed\, Hertfordshire\, SG8 8AX\, United Kingdom
CATEGORIES:All Stars,Mini Colts
END:VEVENT
BEGIN:VEVENT
DTSTART;TZID=Europe/London:20180527T100000
DTEND;TZID=Europe/London:20180527T110000
DTSTAMP:20260422T135226
CREATED:20180211T122225Z
LAST-MODIFIED:20180211T122419Z
UID:24737-1527415200-1527418800@reedcc.co.uk
SUMMARY:All Stars Cricket Practice
DESCRIPTION:All Stars Cricket Practice for 5 to 8-year-old boys and girls. \nShare this:\n				Share on Facebook (Opens in new window)\n				Facebook\n			\n				Email a link to a friend (Opens in new window)\n				Email\n			\n				Print (Opens in new window)\n				Print\n			Like this:Like Loading...
URL:https://reedcc.co.uk/event/stars-cricket-minis-practice-copy-copy-copy-2-copy-copy/
LOCATION:Reed Cricket Club\, The Green\, Blacksmith's Lane\, Reed\, Hertfordshire\, SG8 8AX\, United Kingdom
CATEGORIES:All Stars,Mini Colts
END:VEVENT
END:VCALENDAR