BEGIN:VCALENDAR
VERSION:2.0
PRODID:-//Reed Cricket Club - ECPv6.15.20//NONSGML v1.0//EN
CALSCALE:GREGORIAN
METHOD:PUBLISH
X-ORIGINAL-URL:https://reedcc.co.uk
X-WR-CALDESC:Events for Reed Cricket Club
REFRESH-INTERVAL;VALUE=DURATION:PT1H
X-Robots-Tag:noindex
X-PUBLISHED-TTL:PT1H
BEGIN:VTIMEZONE
TZID:Europe/London
BEGIN:DAYLIGHT
TZOFFSETFROM:+0000
TZOFFSETTO:+0100
TZNAME:BST
DTSTART:20150329T010000
END:DAYLIGHT
BEGIN:STANDARD
TZOFFSETFROM:+0100
TZOFFSETTO:+0000
TZNAME:GMT
DTSTART:20151025T010000
END:STANDARD
BEGIN:DAYLIGHT
TZOFFSETFROM:+0000
TZOFFSETTO:+0100
TZNAME:BST
DTSTART:20160327T010000
END:DAYLIGHT
BEGIN:STANDARD
TZOFFSETFROM:+0100
TZOFFSETTO:+0000
TZNAME:GMT
DTSTART:20161030T010000
END:STANDARD
BEGIN:DAYLIGHT
TZOFFSETFROM:+0000
TZOFFSETTO:+0100
TZNAME:BST
DTSTART:20170326T010000
END:DAYLIGHT
BEGIN:STANDARD
TZOFFSETFROM:+0100
TZOFFSETTO:+0000
TZNAME:GMT
DTSTART:20171029T010000
END:STANDARD
END:VTIMEZONE
BEGIN:VEVENT
DTSTART;TZID=Europe/London:20160514T130000
DTEND;TZID=Europe/London:20160514T190000
DTSTAMP:20260421T104139
CREATED:20160126T183829Z
LAST-MODIFIED:20160308T062318Z
UID:19027-1463230800-1463252400@reedcc.co.uk
SUMMARY:4th XI v. Baldock (SHPCL Regional Division B East)
DESCRIPTION:4th XI v. Baldock (SHPCL Regional Division B East) Away; 40/40 Format\nProbably at Weston CC \nShare this:\n				Share on Facebook (Opens in new window)\n				Facebook\n			\n				Email a link to a friend (Opens in new window)\n				Email\n			\n				Print (Opens in new window)\n				Print\n			Like this:Like Loading...
URL:https://reedcc.co.uk/event/4th-xi-v-baldock-shpcl-regional-division-b-east/
LOCATION:Weston CC\, Park Drive\, Damask Green Road\, Weston\,\, Baldock\, SG4 7BY\, United Kingdom
CATEGORIES:4th XI (SHPCL)
END:VEVENT
END:VCALENDAR