BEGIN:VCALENDAR
VERSION:2.0
PRODID:-//Reed Cricket Club - ECPv6.15.20//NONSGML v1.0//EN
CALSCALE:GREGORIAN
METHOD:PUBLISH
X-ORIGINAL-URL:https://reedcc.co.uk
X-WR-CALDESC:Events for Reed Cricket Club
REFRESH-INTERVAL;VALUE=DURATION:PT1H
X-Robots-Tag:noindex
X-PUBLISHED-TTL:PT1H
BEGIN:VTIMEZONE
TZID:Europe/London
BEGIN:DAYLIGHT
TZOFFSETFROM:+0000
TZOFFSETTO:+0100
TZNAME:BST
DTSTART:20150329T010000
END:DAYLIGHT
BEGIN:STANDARD
TZOFFSETFROM:+0100
TZOFFSETTO:+0000
TZNAME:GMT
DTSTART:20151025T010000
END:STANDARD
BEGIN:DAYLIGHT
TZOFFSETFROM:+0000
TZOFFSETTO:+0100
TZNAME:BST
DTSTART:20160327T010000
END:DAYLIGHT
BEGIN:STANDARD
TZOFFSETFROM:+0100
TZOFFSETTO:+0000
TZNAME:GMT
DTSTART:20161030T010000
END:STANDARD
BEGIN:DAYLIGHT
TZOFFSETFROM:+0000
TZOFFSETTO:+0100
TZNAME:BST
DTSTART:20170326T010000
END:DAYLIGHT
BEGIN:STANDARD
TZOFFSETFROM:+0100
TZOFFSETTO:+0000
TZNAME:GMT
DTSTART:20171029T010000
END:STANDARD
BEGIN:DAYLIGHT
TZOFFSETFROM:+0000
TZOFFSETTO:+0100
TZNAME:BST
DTSTART:20180325T010000
END:DAYLIGHT
BEGIN:STANDARD
TZOFFSETFROM:+0100
TZOFFSETTO:+0000
TZNAME:GMT
DTSTART:20181028T010000
END:STANDARD
END:VTIMEZONE
BEGIN:VEVENT
DTSTART;TZID=Europe/London:20170429T130000
DTEND;TZID=Europe/London:20170429T190000
DTSTAMP:20260421T131238
CREATED:20170221T185402Z
LAST-MODIFIED:20170221T185739Z
UID:21382-1493470800-1493492400@reedcc.co.uk
SUMMARY:4th XI v. Mayfield (Friendly) Away
DESCRIPTION:4th XI v. Mayfield (Friendly) Away.\nGROUND: Hazelwood Lane Sports Ground\, Lynbridge Gardens\, Enfield\,\nCLUB ADDRESS: Hazelwood Sports Ground\, (Palmers Green)\, Enfield\, N13 5BH \nShare this:\n				Share on Facebook (Opens in new window)\n				Facebook\n			\n				Email a link to a friend (Opens in new window)\n				Email\n			\n				Print (Opens in new window)\n				Print\n			Like this:Like Loading...
URL:https://reedcc.co.uk/event/4th-xi-v-mayfield-friendly-copy/
LOCATION:Mayfield CC\, Hazlewood Sports Ground\, Lynbridge Gardens\, Palmers Green\, Enfield\, N13 5BH\, London\, N13 5BH\, United Kingdom
CATEGORIES:4th XI (Friendly)
END:VEVENT
BEGIN:VEVENT
DTSTART;TZID=Europe/London:20160709T130000
DTEND;TZID=Europe/London:20160709T190000
DTSTAMP:20260421T131238
CREATED:20160217T111017Z
LAST-MODIFIED:20160707T082845Z
UID:19127-1468069200-1468090800@reedcc.co.uk
SUMMARY:4th XI v. Welwyn Garden City (Friendly) Cancelled
DESCRIPTION:4th XI v. Welwyn Garden City (Friendly). Away. (Artificial Pitch).\nMonk’s Walk School\, Knightsfield\, Welwyn Garden City AL8 7NL.\nMatch Cancelled \nShare this:\n				Share on Facebook (Opens in new window)\n				Facebook\n			\n				Email a link to a friend (Opens in new window)\n				Email\n			\n				Print (Opens in new window)\n				Print\n			Like this:Like Loading...
URL:https://reedcc.co.uk/event/4th-xi-v-welwyn-garden-city-friendly-2/
LOCATION:Monk’s Walk School\,\, Knightsfield\, Welwyn Garden City AL8 7NL\, AL8 7NL\, United Kingdom
CATEGORIES:4th XI (Friendly)
END:VEVENT
BEGIN:VEVENT
DTSTART;TZID=Europe/London:20160507T130000
DTEND;TZID=Europe/London:20160507T190000
DTSTAMP:20260421T131238
CREATED:20160217T110802Z
LAST-MODIFIED:20160502T164231Z
UID:19125-1462626000-1462647600@reedcc.co.uk
SUMMARY:4th XI v. Welwyn Garden City (Friendly) CANCELLED
DESCRIPTION:4th XI v. Welwyn Garden City (Friendly). Away. (Artificial Pitch).\nMonk’s Walk School\, Knightsfield\, Welwyn Garden City AL8 7NL \nShare this:\n				Share on Facebook (Opens in new window)\n				Facebook\n			\n				Email a link to a friend (Opens in new window)\n				Email\n			\n				Print (Opens in new window)\n				Print\n			Like this:Like Loading...
URL:https://reedcc.co.uk/event/4th-xi-v-welwyn-garden-city-friendly/
LOCATION:Monk’s Walk School\,\, Knightsfield\, Welwyn Garden City AL8 7NL\, AL8 7NL\, United Kingdom
CATEGORIES:4th XI (Friendly)
END:VEVENT
BEGIN:VEVENT
DTSTART;TZID=Europe/London:20160430T140000
DTEND;TZID=Europe/London:20160430T190000
DTSTAMP:20260421T131238
CREATED:20160308T054739Z
LAST-MODIFIED:20160308T055856Z
UID:19333-1462024800-1462042800@reedcc.co.uk
SUMMARY:4th XI v. Mayfield (Friendly)
DESCRIPTION:4th XI v. Mayfield (Friendly). Away.\nGROUND: Hazelwood Lane Sports Ground\, Lynbridge Gardens\, Enfield\,\nCLUB ADDRESS: Hazelwood Sports Ground\, (Palmers Green)\, Enfield\, N13 5BH \nShare this:\n				Share on Facebook (Opens in new window)\n				Facebook\n			\n				Email a link to a friend (Opens in new window)\n				Email\n			\n				Print (Opens in new window)\n				Print\n			Like this:Like Loading...
URL:https://reedcc.co.uk/event/4th-xi-v-mayfield-friendly/
LOCATION:Mayfield CC\, Hazlewood Sports Ground\, Lynbridge Gardens\, Palmers Green\, Enfield\, N13 5BH\, London\, N13 5BH\, United Kingdom
CATEGORIES:4th XI (Friendly)
END:VEVENT
BEGIN:VEVENT
DTSTART;TZID=Europe/London:20160430T130000
DTEND;TZID=Europe/London:20160430T193000
DTSTAMP:20260421T131238
CREATED:20160122T174349Z
LAST-MODIFIED:20160122T174349Z
UID:18914-1462021200-1462044600@reedcc.co.uk
SUMMARY:Internal Club match
DESCRIPTION:Internal Club match \nShare this:\n				Share on Facebook (Opens in new window)\n				Facebook\n			\n				Email a link to a friend (Opens in new window)\n				Email\n			\n				Print (Opens in new window)\n				Print\n			Like this:Like Loading...
URL:https://reedcc.co.uk/event/inter-club-match/
LOCATION:Reed Cricket Club\, The Green\, Blacksmith's Lane\, Reed\, Hertfordshire\, SG8 8AX\, United Kingdom
CATEGORIES:1st XI (Friendly),2nd XI (Friendly),3rd XI (Friendly),4th XI (Friendly)
END:VEVENT
END:VCALENDAR