BEGIN:VCALENDAR
VERSION:2.0
PRODID:-//Reed Cricket Club - ECPv6.15.20//NONSGML v1.0//EN
CALSCALE:GREGORIAN
METHOD:PUBLISH
X-WR-CALNAME:Reed Cricket Club
X-ORIGINAL-URL:https://reedcc.co.uk
X-WR-CALDESC:Events for Reed Cricket Club
REFRESH-INTERVAL;VALUE=DURATION:PT1H
X-Robots-Tag:noindex
X-PUBLISHED-TTL:PT1H
BEGIN:VTIMEZONE
TZID:Europe/London
BEGIN:DAYLIGHT
TZOFFSETFROM:+0000
TZOFFSETTO:+0100
TZNAME:BST
DTSTART:20190331T010000
END:DAYLIGHT
BEGIN:STANDARD
TZOFFSETFROM:+0100
TZOFFSETTO:+0000
TZNAME:GMT
DTSTART:20191027T010000
END:STANDARD
BEGIN:DAYLIGHT
TZOFFSETFROM:+0000
TZOFFSETTO:+0100
TZNAME:BST
DTSTART:20200329T010000
END:DAYLIGHT
BEGIN:STANDARD
TZOFFSETFROM:+0100
TZOFFSETTO:+0000
TZNAME:GMT
DTSTART:20201025T010000
END:STANDARD
BEGIN:DAYLIGHT
TZOFFSETFROM:+0000
TZOFFSETTO:+0100
TZNAME:BST
DTSTART:20210328T010000
END:DAYLIGHT
BEGIN:STANDARD
TZOFFSETFROM:+0100
TZOFFSETTO:+0000
TZNAME:GMT
DTSTART:20211031T010000
END:STANDARD
BEGIN:DAYLIGHT
TZOFFSETFROM:+0000
TZOFFSETTO:+0100
TZNAME:BST
DTSTART:20220327T010000
END:DAYLIGHT
BEGIN:STANDARD
TZOFFSETFROM:+0100
TZOFFSETTO:+0000
TZNAME:GMT
DTSTART:20221030T010000
END:STANDARD
BEGIN:DAYLIGHT
TZOFFSETFROM:+0000
TZOFFSETTO:+0100
TZNAME:BST
DTSTART:20230326T010000
END:DAYLIGHT
BEGIN:STANDARD
TZOFFSETFROM:+0100
TZOFFSETTO:+0000
TZNAME:GMT
DTSTART:20231029T010000
END:STANDARD
BEGIN:DAYLIGHT
TZOFFSETFROM:+0000
TZOFFSETTO:+0100
TZNAME:BST
DTSTART:20240331T010000
END:DAYLIGHT
BEGIN:STANDARD
TZOFFSETFROM:+0100
TZOFFSETTO:+0000
TZNAME:GMT
DTSTART:20241027T010000
END:STANDARD
END:VTIMEZONE
BEGIN:VEVENT
DTSTART;TZID=Europe/London:20230425T194500
DTEND;TZID=Europe/London:20230425T220000
DTSTAMP:20260422T110715
CREATED:20230322T083739Z
LAST-MODIFIED:20230322T083739Z
UID:33140-1682451900-1682460000@reedcc.co.uk
SUMMARY:Herts League Captains' Meeting - Tuesday 25th April 2023 at StoneX Stadium
DESCRIPTION:The Meeting will start @ 7.45pm with an EGM to pass the Annual accounts and then the Main Meeting will commence at 8.00pm. \nThe meeting is for all Club Captains (especially new ones) as the League often finds the lines of communication about your league responsibilities are not passed on. \nBarry Hellewell\, SHPCL Secretary\, will issue to all Club Reps the Agenda etc by email two weeks before the meeting. They will ensure that the details will be placed on the Herts League website as well. \nCricket balls\, Handbooks etc are to be collected AFTER the meeting. \nPlease remember that the teams of all Clubs that attend will start the season with a 5 point ‘bonus’ in their respective divisions. \nShare this:\n				Share on Facebook (Opens in new window)\n				Facebook\n			\n				Email a link to a friend (Opens in new window)\n				Email\n			\n				Print (Opens in new window)\n				Print\n			Like this:Like Loading...
URL:https://reedcc.co.uk/event/herts-league-captains-meeting-tuesday-25th-april-2023-at-stonex-stadium/
LOCATION:Stonex Stadium\, Hendon\, NW4 1RL\, United Kingdom
CATEGORIES:1st XI (SHPCL),2nd XI (SHPCL),3rd XI (SHPCL),News
END:VEVENT
BEGIN:VEVENT
DTSTART;TZID=Europe/London:20210904T113000
DTEND;TZID=Europe/London:20210904T190000
DTSTAMP:20260422T110715
CREATED:20210103T091551Z
LAST-MODIFIED:20210225T085453Z
UID:31069-1630755000-1630782000@reedcc.co.uk
SUMMARY:3rd XI v. Harpenden V (SHPCL Division 10A) Away
DESCRIPTION:3rd XI v. Harpenden V (SHPCL Division 10A) Away\, 45 overs per side format \nShare this:\n				Share on Facebook (Opens in new window)\n				Facebook\n			\n				Email a link to a friend (Opens in new window)\n				Email\n			\n				Print (Opens in new window)\n				Print\n			Like this:Like Loading...
URL:https://reedcc.co.uk/event/3rd-xi-v-holtwhites-trinibis-iii-shpcl-division-10a-home-copy-copy-copy-copy-copy-copy-copy-copy-copy-copy-copy-copy/
LOCATION:Harpenden CC 3rd Ground\, Rothampstead Experimental Station\, Opposite The Common\,\, Harpenden\, AL5 2JQ
CATEGORIES:3rd XI (SHPCL)
END:VEVENT
BEGIN:VEVENT
DTSTART;TZID=Europe/London:20210828T120000
DTEND;TZID=Europe/London:20210828T190000
DTSTAMP:20260422T110715
CREATED:20210103T134125Z
LAST-MODIFIED:20210103T134208Z
UID:31096-1630152000-1630177200@reedcc.co.uk
SUMMARY:3rd XI v. Rickmansworth III (SHPCL Division 10A) Home
DESCRIPTION:3rd XI v. Rickmansworth III (SHPCL Division 10A) Home\, 45 overs per side format \nShare this:\n				Share on Facebook (Opens in new window)\n				Facebook\n			\n				Email a link to a friend (Opens in new window)\n				Email\n			\n				Print (Opens in new window)\n				Print\n			Like this:Like Loading...
URL:https://reedcc.co.uk/event/3rd-xi-v-holtwhites-trinibis-iii-shpcl-division-10a-home-copy-copy-copy-copy-copy-copy-copy-2-copy/
LOCATION:Freman College\, Bowling Green Lane\, Buntingford\, Hertfordshire\, SG9 9BT\, United Kingdom
CATEGORIES:3rd XI (SHPCL)
END:VEVENT
BEGIN:VEVENT
DTSTART;TZID=Europe/London:20210821T120000
DTEND;TZID=Europe/London:20210821T190000
DTSTAMP:20260422T110715
CREATED:20210103T135253Z
LAST-MODIFIED:20210103T135402Z
UID:31104-1629547200-1629572400@reedcc.co.uk
SUMMARY:3rd XI v. Old Haberdashers II (SHPCL Division 10A) Away
DESCRIPTION:3rd XI v. Old Haberdashers II (SHPCL Division 10A) Away\, 45 overs per side format \nShare this:\n				Share on Facebook (Opens in new window)\n				Facebook\n			\n				Email a link to a friend (Opens in new window)\n				Email\n			\n				Print (Opens in new window)\n				Print\n			Like this:Like Loading...
URL:https://reedcc.co.uk/event/3rd-xi-v-holtwhites-trinibis-iii-shpcl-division-10a-home-copy-copy-copy-copy-copy-copy-copy-copy-copy-copy-copy-2/
LOCATION:Old Haberdashers CC\, Croxdale Road\, Theobald Street\, Borehamwood\, Hertfordshire\, WD6 4PY\, United Kingdom
CATEGORIES:3rd XI (SHPCL)
END:VEVENT
BEGIN:VEVENT
DTSTART;TZID=Europe/London:20210814T120000
DTEND;TZID=Europe/London:20210814T190000
DTSTAMP:20260422T110715
CREATED:20210103T134914Z
LAST-MODIFIED:20210103T135023Z
UID:31102-1628942400-1628967600@reedcc.co.uk
SUMMARY:3rd XI v. Holtwhites Trinibis III (SHPCL Division 10A) Home
DESCRIPTION:3rd XI v. Holtwhites Trinibis III (SHPCL Division 10A) Home\, 45 overs per side format \nShare this:\n				Share on Facebook (Opens in new window)\n				Facebook\n			\n				Email a link to a friend (Opens in new window)\n				Email\n			\n				Print (Opens in new window)\n				Print\n			Like this:Like Loading...
URL:https://reedcc.co.uk/event/3rd-xi-v-holtwhites-trinibis-iii-shpcl-division-10a-home-copy-2/
LOCATION:Freman College\, Bowling Green Lane\, Buntingford\, Hertfordshire\, SG9 9BT\, United Kingdom
CATEGORIES:3rd XI (SHPCL)
END:VEVENT
BEGIN:VEVENT
DTSTART;TZID=Europe/London:20210807T120000
DTEND;TZID=Europe/London:20210807T190000
DTSTAMP:20260422T110715
CREATED:20210102T185154Z
LAST-MODIFIED:20210102T185309Z
UID:30980-1628337600-1628362800@reedcc.co.uk
SUMMARY:3rd XI v. Pinner II (SHPCL Division 10A) Away
DESCRIPTION:3rd XI v. Pinner II (SHPCL Division 10A) Away\, 45 overs per side Format \nShare this:\n				Share on Facebook (Opens in new window)\n				Facebook\n			\n				Email a link to a friend (Opens in new window)\n				Email\n			\n				Print (Opens in new window)\n				Print\n			Like this:Like Loading...
URL:https://reedcc.co.uk/event/3rd-xi-v-holtwhites-trinibis-iii-shpcl-division-10a-home-copy-copy-copy-copy-copy-copy-copy-copy-copy-copy-copy-copy-2-2-copy-copy-copy-copy-copy-copy/
LOCATION:Pinner CC\, Montesole Playing Fields\, Pinner Hill Road\, Pinner\, Hertfordshire\, HA5 3SA\, United Kingdom
CATEGORIES:3rd XI (SHPCL)
END:VEVENT
BEGIN:VEVENT
DTSTART;TZID=Europe/London:20210731T120000
DTEND;TZID=Europe/London:20210731T190000
DTSTAMP:20260422T110715
CREATED:20210103T134558Z
LAST-MODIFIED:20210103T134715Z
UID:31100-1627732800-1627758000@reedcc.co.uk
SUMMARY:3rd XI v. Northwood III (SHPCL Division 10A) Home
DESCRIPTION:3rd XI v. Northwood III (SHPCL Division 10A) Home\, 45 overs per side format \nShare this:\n				Share on Facebook (Opens in new window)\n				Facebook\n			\n				Email a link to a friend (Opens in new window)\n				Email\n			\n				Print (Opens in new window)\n				Print\n			Like this:Like Loading...
URL:https://reedcc.co.uk/event/3rd-xi-v-holtwhites-trinibis-iii-shpcl-division-10a-home-copy-copy-2/
LOCATION:Freman College\, Bowling Green Lane\, Buntingford\, Hertfordshire\, SG9 9BT\, United Kingdom
CATEGORIES:3rd XI (SHPCL)
END:VEVENT
BEGIN:VEVENT
DTSTART;TZID=Europe/London:20210724T120000
DTEND;TZID=Europe/London:20210724T190000
DTSTAMP:20260422T110715
CREATED:20210103T134323Z
LAST-MODIFIED:20210103T134423Z
UID:31098-1627128000-1627153200@reedcc.co.uk
SUMMARY:3rd XI v. Bamville (SHPCL Division 10A) Away
DESCRIPTION:3rd XI v. Bamville (SHPCL Division 10A) Away\, 45 overs per side format \nShare this:\n				Share on Facebook (Opens in new window)\n				Facebook\n			\n				Email a link to a friend (Opens in new window)\n				Email\n			\n				Print (Opens in new window)\n				Print\n			Like this:Like Loading...
URL:https://reedcc.co.uk/event/3rd-xi-v-holtwhites-trinibis-iii-shpcl-division-10a-home-copy-copy-copy-copy-copy-copy-copy-copy-copy-copy-2/
LOCATION:Bamville CC\, Pegrum Drive\, Napsbury Park\, London Colney\, Hertfordshire\, AL2 1GE\, United Kingdom
CATEGORIES:3rd XI (SHPCL)
END:VEVENT
BEGIN:VEVENT
DTSTART;TZID=Europe/London:20210717T120000
DTEND;TZID=Europe/London:20210717T190000
DTSTAMP:20260422T110715
CREATED:20210102T184036Z
LAST-MODIFIED:20210715T042019Z
UID:30975-1626523200-1626548400@reedcc.co.uk
SUMMARY:3rd XI v. West Herts IV (SHPCL Division 10A) Away
DESCRIPTION:3rd XI v. West Herts IV (SHPCL Division 10A) Away\, 45 overs per side Format \nShare this:\n				Share on Facebook (Opens in new window)\n				Facebook\n			\n				Email a link to a friend (Opens in new window)\n				Email\n			\n				Print (Opens in new window)\n				Print\n			Like this:Like Loading...
URL:https://reedcc.co.uk/event/3rd-xi-v-holtwhites-trinibis-iii-shpcl-division-10a-home-copy-copy-copy-copy-copy-copy-copy-copy-copy-copy-copy-copy-2-2-copy-copy-copy-copy-copy-3/
LOCATION:Hit or Miss Cricket Club\, Penn Street\, Amersham\, Buckinghamshire\, HP 7 0FA\, United Kingdom
CATEGORIES:3rd XI (SHPCL)
END:VEVENT
BEGIN:VEVENT
DTSTART;TZID=Europe/London:20210710T120000
DTEND;TZID=Europe/London:20210710T190000
DTSTAMP:20260422T110715
CREATED:20210102T183601Z
LAST-MODIFIED:20210529T074159Z
UID:30972-1625918400-1625943600@reedcc.co.uk
SUMMARY:3rd XI v. Letchworth Garden City IV (SHPCL Division 10A) at Cokenach CC
DESCRIPTION:PLEASE NOTE CHANGE OF VENUE. TO BE PLAYED AT COKENACH CC\, Cambridge Rd\, Barkway\, Royston\, SG8 8DL.\nGround entrance is directly off the Cambridge Road\, NOT via the Estate Driveway. \n3rd XI v. Letchworth Garden City IV (SHPCL Division 10A) Home\, 45 overs per side Format \nShare this:\n				Share on Facebook (Opens in new window)\n				Facebook\n			\n				Email a link to a friend (Opens in new window)\n				Email\n			\n				Print (Opens in new window)\n				Print\n			Like this:Like Loading...
URL:https://reedcc.co.uk/event/3rd-xi-v-holtwhites-trinibis-iii-shpcl-division-10a-home-copy-copy-copy-copy-copy-copy-copy-copy-2/
LOCATION:Cokenach CC\, Cokenach Estate\, Barkway\, Herts\, United Kingdom
CATEGORIES:3rd XI (SHPCL)
END:VEVENT
BEGIN:VEVENT
DTSTART;TZID=Europe/London:20210703T120000
DTEND;TZID=Europe/London:20210703T190000
DTSTAMP:20260422T110715
CREATED:20210103T091900Z
LAST-MODIFIED:20210103T092035Z
UID:31071-1625313600-1625338800@reedcc.co.uk
SUMMARY:3rd XI v. Harpenden V (SHPCL Division 10A) Home
DESCRIPTION:3rd XI v. Harpenden V (SHPCL Division 10A) Home\, 45 overs per side format \nShare this:\n				Share on Facebook (Opens in new window)\n				Facebook\n			\n				Email a link to a friend (Opens in new window)\n				Email\n			\n				Print (Opens in new window)\n				Print\n			Like this:Like Loading...
URL:https://reedcc.co.uk/event/3rd-xi-v-holtwhites-trinibis-iii-shpcl-division-10a-home-copy-copy-copy-copy-copy-copy-2/
LOCATION:Freman College\, Bowling Green Lane\, Buntingford\, Hertfordshire\, SG9 9BT\, United Kingdom
CATEGORIES:3rd XI (SHPCL)
END:VEVENT
BEGIN:VEVENT
DTSTART;TZID=Europe/London:20210626T120000
DTEND;TZID=Europe/London:20210626T190000
DTSTAMP:20260422T110715
CREATED:20210103T133929Z
LAST-MODIFIED:20210430T015051Z
UID:31094-1624708800-1624734000@reedcc.co.uk
SUMMARY:3rd XI v. Rickmansworth III (SHPCL Division 10A) Away
DESCRIPTION:3rd XI v. Rickmansworth III (SHPCL Division 10A) Away\, 45 overs per side format \nShare this:\n				Share on Facebook (Opens in new window)\n				Facebook\n			\n				Email a link to a friend (Opens in new window)\n				Email\n			\n				Print (Opens in new window)\n				Print\n			Like this:Like Loading...
URL:https://reedcc.co.uk/event/3rd-xi-v-holtwhites-trinibis-iii-shpcl-division-10a-home-copy-copy-copy-copy-copy-copy-copy-2/
LOCATION:Rickmansworth CC\, Park Road\, Rickmansworth\, WD3 1HU
CATEGORIES:3rd XI (SHPCL)
END:VEVENT
BEGIN:VEVENT
DTSTART;TZID=Europe/London:20210619T120000
DTEND;TZID=Europe/London:20210619T190000
DTSTAMP:20260422T110715
CREATED:20210102T180424Z
LAST-MODIFIED:20210102T180545Z
UID:30956-1624104000-1624129200@reedcc.co.uk
SUMMARY:3rd XI v. Old Haberdashers II (SHPCL Division 10A) Home
DESCRIPTION:3rd XI v. Old Haberdashers II (SHPCL Division 10A) Home\, 45 overs per side Format \nShare this:\n				Share on Facebook (Opens in new window)\n				Facebook\n			\n				Email a link to a friend (Opens in new window)\n				Email\n			\n				Print (Opens in new window)\n				Print\n			Like this:Like Loading...
URL:https://reedcc.co.uk/event/3rd-xi-v-holtwhites-trinibis-iii-shpcl-division-10a-home-copy-copy-copy-copy-copy-2-copy/
LOCATION:Freman College\, Bowling Green Lane\, Buntingford\, Hertfordshire\, SG9 9BT\, United Kingdom
CATEGORIES:3rd XI (SHPCL)
END:VEVENT
BEGIN:VEVENT
DTSTART;TZID=Europe/London:20210612T120000
DTEND;TZID=Europe/London:20210612T190000
DTSTAMP:20260422T110715
CREATED:20210102T191224Z
LAST-MODIFIED:20210102T191349Z
UID:30994-1623499200-1623524400@reedcc.co.uk
SUMMARY:3rd XI v. Holtwhites Trinibis III (SHPCL Division 10A) Away
DESCRIPTION:3rd XI v. Holtwhites Trinibis III (SHPCL Division 10A) Away\, 45 overs per side Format \nShare this:\n				Share on Facebook (Opens in new window)\n				Facebook\n			\n				Email a link to a friend (Opens in new window)\n				Email\n			\n				Print (Opens in new window)\n				Print\n			Like this:Like Loading...
URL:https://reedcc.co.uk/event/3rd-xi-v-holtwhites-trinibis-iii-shpcl-division-10a-home-copy-copy-copy-copy-copy-copy-copy-copy-copy-copy-copy-copy-2-2-copy-copy-copy-copy-2/
LOCATION:Holtwhites Trinibis CC\, Kirkland Drive\, Holtwhites Hill\,\, Enfield\, EN2 0RN\, United Kingdom
CATEGORIES:3rd XI (SHPCL)
END:VEVENT
BEGIN:VEVENT
DTSTART;TZID=Europe/London:20210605T120000
DTEND;TZID=Europe/London:20210605T190000
DTSTAMP:20260422T110715
CREATED:20210103T133649Z
LAST-MODIFIED:20210103T133800Z
UID:31092-1622894400-1622919600@reedcc.co.uk
SUMMARY:3rd XI v. Pinner II (SHPCL Division 10A) Home
DESCRIPTION:3rd XI v. Pinner II (SHPCL Division 10A) Home\, 45 overs per side format \nShare this:\n				Share on Facebook (Opens in new window)\n				Facebook\n			\n				Email a link to a friend (Opens in new window)\n				Email\n			\n				Print (Opens in new window)\n				Print\n			Like this:Like Loading...
URL:https://reedcc.co.uk/event/3rd-xi-v-holtwhites-trinibis-iii-shpcl-division-10a-home-copy-copy-copy-copy-2/
LOCATION:Freman College\, Bowling Green Lane\, Buntingford\, Hertfordshire\, SG9 9BT\, United Kingdom
CATEGORIES:3rd XI (SHPCL)
END:VEVENT
BEGIN:VEVENT
DTSTART;TZID=Europe/London:20210529T120000
DTEND;TZID=Europe/London:20210529T190000
DTSTAMP:20260422T110715
CREATED:20210103T132928Z
LAST-MODIFIED:20210103T133107Z
UID:31086-1622289600-1622314800@reedcc.co.uk
SUMMARY:3rd XI v. Northwood III (SHPCL Division 10A) Away
DESCRIPTION:3rd XI v. Northwood III (SHPCL Division 10A) Away\, 45 overs per side format \nShare this:\n				Share on Facebook (Opens in new window)\n				Facebook\n			\n				Email a link to a friend (Opens in new window)\n				Email\n			\n				Print (Opens in new window)\n				Print\n			Like this:Like Loading...
URL:https://reedcc.co.uk/event/3rd-xi-v-holtwhites-trinibis-iii-shpcl-division-10a-home-copy-copy-copy-copy-copy-copy-copy-copy-copy-copy-copy-copy-2-2-copy-copy-copy-2/
LOCATION:Northwood 2nd Ground\, Nags Head Lane\, Great Missenden\, Hertfordshire\, HP16 0DG
CATEGORIES:3rd XI (SHPCL)
END:VEVENT
BEGIN:VEVENT
DTSTART;TZID=Europe/London:20210522T120000
DTEND;TZID=Europe/London:20210522T190000
DTSTAMP:20260422T110715
CREATED:20210102T183202Z
LAST-MODIFIED:20210102T183333Z
UID:30969-1621684800-1621710000@reedcc.co.uk
SUMMARY:3rd XI v. Bamville (SHPCL Division 10A) Home
DESCRIPTION:3rd XI v. Bamville (SHPCL Division 10A) Home\, 45 overs per side Format \nShare this:\n				Share on Facebook (Opens in new window)\n				Facebook\n			\n				Email a link to a friend (Opens in new window)\n				Email\n			\n				Print (Opens in new window)\n				Print\n			Like this:Like Loading...
URL:https://reedcc.co.uk/event/3rd-xi-v-holtwhites-trinibis-iii-shpcl-division-10a-home-copy-copy-copy-copy-copy-copy-copy-copy-copy-2/
LOCATION:Freman College\, Bowling Green Lane\, Buntingford\, Hertfordshire\, SG9 9BT\, United Kingdom
CATEGORIES:3rd XI (SHPCL)
END:VEVENT
BEGIN:VEVENT
DTSTART;TZID=Europe/London:20210515T120000
DTEND;TZID=Europe/London:20210515T190000
DTSTAMP:20260422T110715
CREATED:20210103T132404Z
LAST-MODIFIED:20210103T132516Z
UID:31081-1621080000-1621105200@reedcc.co.uk
SUMMARY:3rd XI v. West Herts IV (SHPCL Division 10A) Home
DESCRIPTION:3rd XI v. West Herts IV (SHPCL Division 10A) Home\, 45 overs per side format \nShare this:\n				Share on Facebook (Opens in new window)\n				Facebook\n			\n				Email a link to a friend (Opens in new window)\n				Email\n			\n				Print (Opens in new window)\n				Print\n			Like this:Like Loading...
URL:https://reedcc.co.uk/event/3rd-xi-v-holtwhites-trinibis-iii-shpcl-division-10a-home-copy-copy-copy-2/
LOCATION:Freman College\, Bowling Green Lane\, Buntingford\, Hertfordshire\, SG9 9BT\, United Kingdom
CATEGORIES:3rd XI (SHPCL)
END:VEVENT
BEGIN:VEVENT
DTSTART;TZID=Europe/London:20210508T120000
DTEND;TZID=Europe/London:20210508T190000
DTSTAMP:20260422T110715
CREATED:20210103T131948Z
LAST-MODIFIED:20210103T132151Z
UID:31078-1620475200-1620500400@reedcc.co.uk
SUMMARY:3rd XI v. Letchworth Garden City IV (SHPCL Division 10A) Away
DESCRIPTION:3rd XI v. Letchworth Garden City IV (SHPCL Division 10A) Away\, 45 overs per side format \nShare this:\n				Share on Facebook (Opens in new window)\n				Facebook\n			\n				Email a link to a friend (Opens in new window)\n				Email\n			\n				Print (Opens in new window)\n				Print\n			Like this:Like Loading...
URL:https://reedcc.co.uk/event/3rd-xi-v-holtwhites-trinibis-iii-shpcl-division-10a-home-copy-copy-copy-copy-copy-copy-copy-copy-copy-copy-copy-copy-2-2-copy-copy-2/
LOCATION:Fairfield Hall\, Fairfield Park\, Hitchin Road\, Stotfold\, SG5\, United Kingdom
CATEGORIES:3rd XI (SHPCL)
END:VEVENT
BEGIN:VEVENT
DTSTART;TZID=Europe/London:20200912T120000
DTEND;TZID=Europe/London:20200912T190000
DTSTAMP:20260422T110715
CREATED:20200715T161937Z
LAST-MODIFIED:20200909T085542Z
UID:30244-1599912000-1599937200@reedcc.co.uk
SUMMARY:CANCELLED - 3rd XI v. Old Haberdashers II (SHPCL Division 10A) Home
DESCRIPTION:3rd XI v. Old Haberdashers II (SHPCL Division 10A) Home\, 40 overs per side Format \nShare this:\n				Share on Facebook (Opens in new window)\n				Facebook\n			\n				Email a link to a friend (Opens in new window)\n				Email\n			\n				Print (Opens in new window)\n				Print\n			Like this:Like Loading...
URL:https://reedcc.co.uk/event/3rd-xi-v-holtwhites-trinibis-iii-shpcl-division-10a-home-copy-copy-copy-copy-copy-2/
LOCATION:Freman College\, Bowling Green Lane\, Buntingford\, Hertfordshire\, SG9 9BT\, United Kingdom
CATEGORIES:3rd XI (SHPCL)
END:VEVENT
BEGIN:VEVENT
DTSTART;TZID=Europe/London:20200905T123000
DTEND;TZID=Europe/London:20200905T190000
DTSTAMP:20260422T110715
CREATED:20200122T171041Z
LAST-MODIFIED:20200902T060724Z
UID:29672-1599309000-1599332400@reedcc.co.uk
SUMMARY:CANCELLED - 3rd XI v. Pinner II (SHPCL Division 10A) Away
DESCRIPTION:CANCELLED – 3rd XI v. Pinner II (SHPCL Division 10A) Away\, 40 overs per side Format \nShare this:\n				Share on Facebook (Opens in new window)\n				Facebook\n			\n				Email a link to a friend (Opens in new window)\n				Email\n			\n				Print (Opens in new window)\n				Print\n			Like this:Like Loading...
URL:https://reedcc.co.uk/event/3rd-xi-v-holtwhites-trinibis-iii-shpcl-division-10a-home-copy-copy-copy-copy-copy-copy-copy-copy-copy-copy-copy-copy-2-2-copy-copy-copy-copy-copy/
LOCATION:Pinner CC\, Montesole Playing Fields\, Pinner Hill Road\, Pinner\, Hertfordshire\, HA5 3SA\, United Kingdom
CATEGORIES:3rd XI (SHPCL)
END:VEVENT
BEGIN:VEVENT
DTSTART;TZID=Europe/London:20200829T130000
DTEND;TZID=Europe/London:20200829T190000
DTSTAMP:20260422T110715
CREATED:20200122T151207Z
LAST-MODIFIED:20200715T161546Z
UID:29635-1598706000-1598727600@reedcc.co.uk
SUMMARY:GOING AHEAD - 3rd XI v. Bamville (SHPCL Division 10A) Home
DESCRIPTION:3rd XI v. Bamville (SHPCL Division 10A) Home\, 40 overs per side Format \nShare this:\n				Share on Facebook (Opens in new window)\n				Facebook\n			\n				Email a link to a friend (Opens in new window)\n				Email\n			\n				Print (Opens in new window)\n				Print\n			Like this:Like Loading...
URL:https://reedcc.co.uk/event/3rd-xi-v-holtwhites-trinibis-iii-shpcl-division-10a-home-copy-copy-copy-copy-copy-copy-copy-copy/
LOCATION:Freman College\, Bowling Green Lane\, Buntingford\, Hertfordshire\, SG9 9BT\, United Kingdom
CATEGORIES:3rd XI (SHPCL)
END:VEVENT
BEGIN:VEVENT
DTSTART;TZID=Europe/London:20200822T130000
DTEND;TZID=Europe/London:20200822T190000
DTSTAMP:20260422T110715
CREATED:20200122T150903Z
LAST-MODIFIED:20200715T161333Z
UID:29632-1598101200-1598122800@reedcc.co.uk
SUMMARY:GOING AHEAD - 3rd XI v. Letchworth Garden City IV (SHPCL Division 10A) Home
DESCRIPTION:3rd XI v. Letchworth Garden City IV (SHPCL Division 10A) Home\, 40 overs per side Format \nShare this:\n				Share on Facebook (Opens in new window)\n				Facebook\n			\n				Email a link to a friend (Opens in new window)\n				Email\n			\n				Print (Opens in new window)\n				Print\n			Like this:Like Loading...
URL:https://reedcc.co.uk/event/3rd-xi-v-holtwhites-trinibis-iii-shpcl-division-10a-home-copy-copy-copy-copy-copy-copy-copy/
LOCATION:Freman College\, Bowling Green Lane\, Buntingford\, Hertfordshire\, SG9 9BT\, United Kingdom
CATEGORIES:3rd XI (SHPCL)
END:VEVENT
BEGIN:VEVENT
DTSTART;TZID=Europe/London:20200815T130000
DTEND;TZID=Europe/London:20200815T190000
DTSTAMP:20260422T110715
CREATED:20200814T053932Z
LAST-MODIFIED:20200814T054127Z
UID:30602-1597496400-1597518000@reedcc.co.uk
SUMMARY:GOING AHEAD - 3rd XI v. Hitchin (Friendly) Home
DESCRIPTION:Share this:\n				Share on Facebook (Opens in new window)\n				Facebook\n			\n				Email a link to a friend (Opens in new window)\n				Email\n			\n				Print (Opens in new window)\n				Print\n			Like this:Like Loading...
URL:https://reedcc.co.uk/event/3rd-xi-v-holtwhites-trinibis-iii-shpcl-division-10a-home-copy-copy-copy-copy-copy-copy-copy-copy-copy-copy-copy-copy-2-2-copy-copy-copy-copy-copy-2/
LOCATION:Freman College\, Bowling Green Lane\, Buntingford\, Hertfordshire\, SG9 9BT\, United Kingdom
CATEGORIES:3rd XI (SHPCL)
END:VEVENT
BEGIN:VEVENT
DTSTART;TZID=Europe/London:20200815T130000
DTEND;TZID=Europe/London:20200815T190000
DTSTAMP:20260422T110715
CREATED:20200122T164859Z
LAST-MODIFIED:20200814T054244Z
UID:29667-1597496400-1597518000@reedcc.co.uk
SUMMARY:CANCELLED - 3rd XI v. West Herts IV (SHPCL Division 10A) Away
DESCRIPTION:3rd XI v. West Herts IV (SHPCL Division 10A) Away\, 40 overs per side Format \nShare this:\n				Share on Facebook (Opens in new window)\n				Facebook\n			\n				Email a link to a friend (Opens in new window)\n				Email\n			\n				Print (Opens in new window)\n				Print\n			Like this:Like Loading...
URL:https://reedcc.co.uk/event/3rd-xi-v-holtwhites-trinibis-iii-shpcl-division-10a-home-copy-copy-copy-copy-copy-copy-copy-copy-copy-copy-copy-copy-2-2-copy-copy-copy-copy/
LOCATION:West Herts 2nd Ground\, Queen's School\, Aldenham Road\, Bushey\, Hertfordshire\, WD23 2TY\, United Kingdom
CATEGORIES:3rd XI (SHPCL)
END:VEVENT
BEGIN:VEVENT
DTSTART;TZID=Europe/London:20200808T130000
DTEND;TZID=Europe/London:20200808T190000
DTSTAMP:20260422T110715
CREATED:20200122T150606Z
LAST-MODIFIED:20200715T160400Z
UID:29629-1596891600-1596913200@reedcc.co.uk
SUMMARY:GOING AHEAD - 3rd XI v. Rickmansworth III (SHPCL Division 10A) Home
DESCRIPTION:3rd XI v. Rickmansworth III (SHPCL Division 10A) Home\, 40 overs per side Format \nShare this:\n				Share on Facebook (Opens in new window)\n				Facebook\n			\n				Email a link to a friend (Opens in new window)\n				Email\n			\n				Print (Opens in new window)\n				Print\n			Like this:Like Loading...
URL:https://reedcc.co.uk/event/3rd-xi-v-holtwhites-trinibis-iii-shpcl-division-10a-home-copy-copy-copy-copy-copy-copy/
LOCATION:Freman College\, Bowling Green Lane\, Buntingford\, Hertfordshire\, SG9 9BT\, United Kingdom
CATEGORIES:3rd XI (SHPCL)
END:VEVENT
BEGIN:VEVENT
DTSTART;TZID=Europe/London:20200801T130000
DTEND;TZID=Europe/London:20200801T190000
DTSTAMP:20260422T110715
CREATED:20200122T164239Z
LAST-MODIFIED:20200728T083152Z
UID:29664-1596286800-1596308400@reedcc.co.uk
SUMMARY:CANCELLED - 3rd XI v. Holtwhites Trinibis III (SHPCL Division 10A) Away
DESCRIPTION:3rd XI v. Holtwhites Trinibis III (SHPCL Division 10A) Away\, 40 overs per side Format \nShare this:\n				Share on Facebook (Opens in new window)\n				Facebook\n			\n				Email a link to a friend (Opens in new window)\n				Email\n			\n				Print (Opens in new window)\n				Print\n			Like this:Like Loading...
URL:https://reedcc.co.uk/event/3rd-xi-v-holtwhites-trinibis-iii-shpcl-division-10a-home-copy-copy-copy-copy-copy-copy-copy-copy-copy-copy-copy-copy-2-2-copy-copy-copy/
LOCATION:Holtwhites Trinibis CC\, Kirkland Drive\, Holtwhites Hill\,\, Enfield\, EN2 0RN\, United Kingdom
CATEGORIES:3rd XI (SHPCL)
END:VEVENT
BEGIN:VEVENT
DTSTART;TZID=Europe/London:20200725T130000
DTEND;TZID=Europe/London:20200725T190000
DTSTAMP:20260422T110715
CREATED:20200122T145920Z
LAST-MODIFIED:20200715T160800Z
UID:29626-1595682000-1595703600@reedcc.co.uk
SUMMARY:GOING AHEAD - 3rd XI v. Harpenden V (SHPCL Division 10A) Home
DESCRIPTION:3rd XI v. Harpenden V (SHPCL Division 10A) Home\, 40 overs per side Format \nShare this:\n				Share on Facebook (Opens in new window)\n				Facebook\n			\n				Email a link to a friend (Opens in new window)\n				Email\n			\n				Print (Opens in new window)\n				Print\n			Like this:Like Loading...
URL:https://reedcc.co.uk/event/3rd-xi-v-holtwhites-trinibis-iii-shpcl-division-10a-home-copy-copy-copy-copy-copy/
LOCATION:Freman College\, Bowling Green Lane\, Buntingford\, Hertfordshire\, SG9 9BT\, United Kingdom
CATEGORIES:3rd XI (SHPCL)
END:VEVENT
BEGIN:VEVENT
DTSTART;TZID=Europe/London:20200718T130000
DTEND;TZID=Europe/London:20200718T190000
DTSTAMP:20260422T110715
CREATED:20200122T160616Z
LAST-MODIFIED:20200715T052617Z
UID:29660-1595077200-1595098800@reedcc.co.uk
SUMMARY:CANCELLED - 3rd XI v. Northwood III (SHPCL Division 10A) Away
DESCRIPTION:CANCELLED – 3rd XI v. Northwood III (SHPCL Division 10A) Away\, 45/45 Format \nShare this:\n				Share on Facebook (Opens in new window)\n				Facebook\n			\n				Email a link to a friend (Opens in new window)\n				Email\n			\n				Print (Opens in new window)\n				Print\n			Like this:Like Loading...
URL:https://reedcc.co.uk/event/3rd-xi-v-holtwhites-trinibis-iii-shpcl-division-10a-home-copy-copy-copy-copy-copy-copy-copy-copy-copy-copy-copy-copy-2-2-copy-copy/
LOCATION:Northwood 2nd Ground\, Nags Head Lane\, Great Missenden\, Hertfordshire\, HP16 0DG
CATEGORIES:3rd XI (SHPCL)
END:VEVENT
BEGIN:VEVENT
DTSTART;TZID=Europe/London:20200711T130000
DTEND;TZID=Europe/London:20200711T190000
DTSTAMP:20260422T110715
CREATED:20200122T145559Z
LAST-MODIFIED:20200707T032339Z
UID:29624-1594472400-1594494000@reedcc.co.uk
SUMMARY:POSTPONED - 3rd XI v. Old Haberdashers II (SHPCL Division 10A) Home
DESCRIPTION:3rd XI v. Old Haberdashers II (SHPCL Division 10A) Home\, 45/45 Format \nShare this:\n				Share on Facebook (Opens in new window)\n				Facebook\n			\n				Email a link to a friend (Opens in new window)\n				Email\n			\n				Print (Opens in new window)\n				Print\n			Like this:Like Loading...
URL:https://reedcc.co.uk/event/3rd-xi-v-holtwhites-trinibis-iii-shpcl-division-10a-home-copy-copy-copy-copy/
LOCATION:Freman College\, Bowling Green Lane\, Buntingford\, Hertfordshire\, SG9 9BT\, United Kingdom
CATEGORIES:3rd XI (SHPCL)
END:VEVENT
END:VCALENDAR